| Back to Multiple platform build/check report for BioC 3.15 |
|
This page was generated on 2022-03-18 11:07:50 -0400 (Fri, 18 Mar 2022).
| Hostname | OS | Arch (*) | R version | Installed pkgs |
|---|---|---|---|---|
| nebbiolo1 | Linux (Ubuntu 20.04.4 LTS) | x86_64 | R Under development (unstable) (2022-02-17 r81757) -- "Unsuffered Consequences" | 4334 |
| riesling1 | Windows Server 2019 Standard | x64 | R Under development (unstable) (2021-11-21 r81221) -- "Unsuffered Consequences" | 4097 |
| palomino3 | Windows Server 2022 Datacenter | x64 | R Under development (unstable) (2022-02-17 r81757 ucrt) -- "Unsuffered Consequences" | 4083 |
| merida1 | macOS 10.14.6 Mojave | x86_64 | R Under development (unstable) (2022-03-02 r81842) -- "Unsuffered Consequences" | 4134 |
| Click on any hostname to see more info about the system (e.g. compilers) (*) as reported by 'uname -p', except on Windows and Mac OS X | ||||
|
To the developers/maintainers of the iSeq package: - Please allow up to 24 hours (and sometimes 48 hours) for your latest push to git@git.bioconductor.org:packages/iSeq.git to reflect on this report. See How and When does the builder pull? When will my changes propagate? here for more information. - Make sure to use the following settings in order to reproduce any error or warning you see on this page. |
| Package 962/2090 | Hostname | OS / Arch | INSTALL | BUILD | CHECK | BUILD BIN | ||||||||
| iSeq 1.47.0 (landing page) Qianxing Mo
| nebbiolo1 | Linux (Ubuntu 20.04.4 LTS) / x86_64 | OK | OK | OK | |||||||||
| riesling1 | Windows Server 2019 Standard / x64 | OK | OK | OK | OK | |||||||||
| palomino3 | Windows Server 2022 Datacenter / x64 | OK | OK | OK | OK | |||||||||
| merida1 | macOS 10.14.6 Mojave / x86_64 | OK | OK | OK | OK | |||||||||
| Package: iSeq |
| Version: 1.47.0 |
| Command: rm -rf iSeq.buildbin-libdir && mkdir iSeq.buildbin-libdir && D:\biocbuild\bbs-3.15-bioc\R\bin\R.exe CMD INSTALL --build --library=iSeq.buildbin-libdir iSeq_1.47.0.tar.gz |
| StartedAt: 2022-03-17 21:16:17 -0400 (Thu, 17 Mar 2022) |
| EndedAt: 2022-03-17 21:17:45 -0400 (Thu, 17 Mar 2022) |
| EllapsedTime: 87.5 seconds |
| RetCode: 0 |
| Status: OK |
| PackageFile: iSeq_1.47.0.zip |
| PackageFileSize: 1.604 MiB |
##############################################################################
##############################################################################
###
### Running command:
###
### rm -rf iSeq.buildbin-libdir && mkdir iSeq.buildbin-libdir && D:\biocbuild\bbs-3.15-bioc\R\bin\R.exe CMD INSTALL --build --library=iSeq.buildbin-libdir iSeq_1.47.0.tar.gz
###
##############################################################################
##############################################################################
* installing *source* package 'iSeq' ...
** using staged installation
** libs
"C:/rtools40/mingw64/bin/"gcc -I"D:/biocbuild/bbs-3.15-bioc/R/include" -DNDEBUG -I"C:/extsoft/include" -O2 -Wall -std=gnu99 -mfpmath=sse -msse2 -mstackrealign -fno-reorder-blocks-and-partition -c iSeq.c -o iSeq.o
C:/rtools40/mingw64/bin/gcc -shared -s -static-libgcc -o iSeq.dll tmp.def iSeq.o -LC:/extsoft/lib/x64 -LC:/extsoft/lib -LD:/biocbuild/bbs-3.15-bioc/R/bin/x64 -lR
installing to D:/biocbuild/bbs-3.15-bioc/meat/iSeq.buildbin-libdir/00LOCK-iSeq/00new/iSeq/libs/x64
** R
** data
*** moving datasets to lazyload DB
** demo
** inst
** byte-compile and prepare package for lazy loading
** help
*** installing help indices
converting help for package 'iSeq'
finding HTML links ... done
iSeq1 html
iSeq2 html
mergetag html
nrsf html
peakreg html
plotreg html
** building package indices
** installing vignettes
** testing if installed package can be loaded from temporary location
** testing if installed package can be loaded from final location
** testing if installed package keeps a record of temporary installation path
* MD5 sums
packaged installation of 'iSeq' as iSeq_1.47.0.zip
* DONE (iSeq)