| Back to Multiple platform build/check report for BioC 3.15 |
|
This page was generated on 2022-03-18 11:07:50 -0400 (Fri, 18 Mar 2022).
| Hostname | OS | Arch (*) | R version | Installed pkgs |
|---|---|---|---|---|
| nebbiolo1 | Linux (Ubuntu 20.04.4 LTS) | x86_64 | R Under development (unstable) (2022-02-17 r81757) -- "Unsuffered Consequences" | 4334 |
| riesling1 | Windows Server 2019 Standard | x64 | R Under development (unstable) (2021-11-21 r81221) -- "Unsuffered Consequences" | 4097 |
| palomino3 | Windows Server 2022 Datacenter | x64 | R Under development (unstable) (2022-02-17 r81757 ucrt) -- "Unsuffered Consequences" | 4083 |
| merida1 | macOS 10.14.6 Mojave | x86_64 | R Under development (unstable) (2022-03-02 r81842) -- "Unsuffered Consequences" | 4134 |
| Click on any hostname to see more info about the system (e.g. compilers) (*) as reported by 'uname -p', except on Windows and Mac OS X | ||||
|
To the developers/maintainers of the iSEE package: - Please allow up to 24 hours (and sometimes 48 hours) for your latest push to git@git.bioconductor.org:packages/iSEE.git to reflect on this report. See How and When does the builder pull? When will my changes propagate? here for more information. - Make sure to use the following settings in order to reproduce any error or warning you see on this page. |
| Package 960/2090 | Hostname | OS / Arch | INSTALL | BUILD | CHECK | BUILD BIN | ||||||||
| iSEE 2.7.0 (landing page) Kevin Rue-Albrecht
| nebbiolo1 | Linux (Ubuntu 20.04.4 LTS) / x86_64 | OK | OK | OK | |||||||||
| riesling1 | Windows Server 2019 Standard / x64 | OK | OK | OK | OK | |||||||||
| palomino3 | Windows Server 2022 Datacenter / x64 | OK | OK | OK | OK | |||||||||
| merida1 | macOS 10.14.6 Mojave / x86_64 | OK | OK | OK | OK | |||||||||
| Package: iSEE |
| Version: 2.7.0 |
| Command: rm -rf iSEE.buildbin-libdir && mkdir iSEE.buildbin-libdir && D:\biocbuild\bbs-3.15-bioc\R\bin\R.exe CMD INSTALL --build --library=iSEE.buildbin-libdir iSEE_2.7.0.tar.gz |
| StartedAt: 2022-03-17 21:16:14 -0400 (Thu, 17 Mar 2022) |
| EndedAt: 2022-03-17 21:18:57 -0400 (Thu, 17 Mar 2022) |
| EllapsedTime: 162.8 seconds |
| RetCode: 0 |
| Status: OK |
| PackageFile: iSEE_2.7.0.zip |
| PackageFileSize: 18.85 MiB |
##############################################################################
##############################################################################
###
### Running command:
###
### rm -rf iSEE.buildbin-libdir && mkdir iSEE.buildbin-libdir && D:\biocbuild\bbs-3.15-bioc\R\bin\R.exe CMD INSTALL --build --library=iSEE.buildbin-libdir iSEE_2.7.0.tar.gz
###
##############################################################################
##############################################################################
* installing *source* package 'iSEE' ...
** using staged installation
** R
** inst
** byte-compile and prepare package for lazy loading
** help
*** installing help indices
converting help for package 'iSEE'
finding HTML links ... done
ColumnDataPlot-class html
finding level-2 HTML links ... done
ColumnDataTable-class html
ColumnDotPlot-class html
ColumnTable-class html
ComplexHeatmapPlot-class html
DotPlot-class html
ExperimentColorMap-class html
FeatureAssayPlot-class html
Panel-class html
ReducedDimensionPlot-class html
RowDataPlot-class html
RowDataTable-class html
RowDotPlot-class html
RowTable-class html
SampleAssayPlot-class html
Table-class html
addCustomLabelsCommands html
addLabelCentersCommands html
addMultiSelectionCommands html
addTourStep html
aes-utils html
cache-utils html
checkColormapCompatibility html
class-utils html
cleanDataset html
collapseBox html
conditional-utils html
createCustomDimnamesModalObservers html
createCustomPanels html
createLandingPage html
createProtectedParameterObservers html
defaultTour html
documentation-generics html
extractAssaySubmatrix html
filterDTColumn html
getEncodedName html
getPanelColor html
iSEE-pkg html
iSEE html
iSEEOptions html
interface-generics html
interface-wrappers html
jitterPoints html
labs-utils html
lassoPoints html
manage_commands html
metadata-plot-generics html
multi-select-generics html
multiSelectionToFactor html
observer-generics html
output-generics html
panelDefaults html
plot-generics html
plot-utils html
processMultiSelections html
registerAppOptions html
replaceMissingWithFirst html
requestUpdate html
retrieveOutput html
selectionColorMap html
setCachedCommonInfo html
setup-generics html
single-select-generics html
specific-tours html
subsetPointsByGrid html
synchronizeAssays html
table-generics html
track-utils html
validate-utils html
visual-parameters-generics html
** building package indices
** installing vignettes
** testing if installed package can be loaded from temporary location
** testing if installed package can be loaded from final location
** testing if installed package keeps a record of temporary installation path
* MD5 sums
packaged installation of 'iSEE' as iSEE_2.7.0.zip
* DONE (iSEE)