| Back to Multiple platform build/check report for BioC 3.15 |
|
This page was generated on 2022-03-18 11:07:41 -0400 (Fri, 18 Mar 2022).
| Hostname | OS | Arch (*) | R version | Installed pkgs |
|---|---|---|---|---|
| nebbiolo1 | Linux (Ubuntu 20.04.4 LTS) | x86_64 | R Under development (unstable) (2022-02-17 r81757) -- "Unsuffered Consequences" | 4334 |
| riesling1 | Windows Server 2019 Standard | x64 | R Under development (unstable) (2021-11-21 r81221) -- "Unsuffered Consequences" | 4097 |
| palomino3 | Windows Server 2022 Datacenter | x64 | R Under development (unstable) (2022-02-17 r81757 ucrt) -- "Unsuffered Consequences" | 4083 |
| merida1 | macOS 10.14.6 Mojave | x86_64 | R Under development (unstable) (2022-03-02 r81842) -- "Unsuffered Consequences" | 4134 |
| Click on any hostname to see more info about the system (e.g. compilers) (*) as reported by 'uname -p', except on Windows and Mac OS X | ||||
|
To the developers/maintainers of the graph package: - Please allow up to 24 hours (and sometimes 48 hours) for your latest push to git@git.bioconductor.org:packages/graph.git to reflect on this report. See How and When does the builder pull? When will my changes propagate? here for more information. - Make sure to use the following settings in order to reproduce any error or warning you see on this page. |
| Package 820/2090 | Hostname | OS / Arch | INSTALL | BUILD | CHECK | BUILD BIN | ||||||||
| graph 1.73.0 (landing page) Bioconductor Package Maintainer
| nebbiolo1 | Linux (Ubuntu 20.04.4 LTS) / x86_64 | OK | OK | OK | |||||||||
| riesling1 | Windows Server 2019 Standard / x64 | OK | OK | OK | OK | |||||||||
| palomino3 | Windows Server 2022 Datacenter / x64 | OK | OK | OK | OK | |||||||||
| merida1 | macOS 10.14.6 Mojave / x86_64 | OK | OK | OK | OK | |||||||||
| Package: graph |
| Version: 1.73.0 |
| Command: D:\biocbuild\bbs-3.15-bioc\R\bin\R.exe CMD check --no-multiarch --install=check:graph.install-out.txt --library=D:\biocbuild\bbs-3.15-bioc\R\library --no-vignettes --timings graph_1.73.0.tar.gz |
| StartedAt: 2022-03-17 19:15:35 -0400 (Thu, 17 Mar 2022) |
| EndedAt: 2022-03-17 19:16:49 -0400 (Thu, 17 Mar 2022) |
| EllapsedTime: 73.7 seconds |
| RetCode: 0 |
| Status: OK |
| CheckDir: graph.Rcheck |
| Warnings: 0 |
############################################################################## ############################################################################## ### ### Running command: ### ### D:\biocbuild\bbs-3.15-bioc\R\bin\R.exe CMD check --no-multiarch --install=check:graph.install-out.txt --library=D:\biocbuild\bbs-3.15-bioc\R\library --no-vignettes --timings graph_1.73.0.tar.gz ### ############################################################################## ############################################################################## * using log directory 'D:/biocbuild/bbs-3.15-bioc/meat/graph.Rcheck' * using R Under development (unstable) (2021-11-21 r81221) * using platform: x86_64-w64-mingw32 (64-bit) * using session charset: ISO8859-1 * using option '--no-vignettes' * checking for file 'graph/DESCRIPTION' ... OK * this is package 'graph' version '1.73.0' * checking package namespace information ... OK * checking package dependencies ... OK * checking if this is a source package ... OK * checking if there is a namespace ... OK * checking for hidden files and directories ... OK * checking for portable file names ... OK * checking whether package 'graph' can be installed ... OK * checking installed package size ... OK * checking package directory ... OK * checking 'build' directory ... OK * checking DESCRIPTION meta-information ... OK * checking top-level files ... OK * checking for left-over files ... OK * checking index information ... OK * checking package subdirectories ... OK * checking R files for non-ASCII characters ... OK * checking R files for syntax errors ... OK * checking whether the package can be loaded ... OK * checking whether the package can be loaded with stated dependencies ... OK * checking whether the package can be unloaded cleanly ... OK * checking whether the namespace can be loaded with stated dependencies ... OK * checking whether the namespace can be unloaded cleanly ... OK * checking dependencies in R code ... NOTE 'library' or 'require' call to 'package' in package code. Please use :: or requireNamespace() instead. See section 'Suggested packages' in the 'Writing R Extensions' manual. * checking S3 generic/method consistency ... OK * checking replacement functions ... OK * checking foreign function calls ... OK * checking R code for possible problems ... OK * checking Rd files ... OK * checking Rd metadata ... OK * checking Rd cross-references ... OK * checking for missing documentation entries ... OK * checking for code/documentation mismatches ... OK * checking Rd \usage sections ... OK * checking Rd contents ... OK * checking for unstated dependencies in examples ... OK * checking contents of 'data' directory ... OK * checking data for non-ASCII characters ... OK * checking data for ASCII and uncompressed saves ... OK * checking line endings in C/C++/Fortran sources/headers ... OK * checking line endings in Makefiles ... OK * checking compilation flags in Makevars ... OK * checking for GNU extensions in Makefiles ... OK * checking for portable use of $(BLAS_LIBS) and $(LAPACK_LIBS) ... OK * checking use of PKG_*FLAGS in Makefiles ... OK * checking include directives in Makefiles ... OK * checking compiled code ... NOTE Note: information on .o files for x64 is not available File 'D:/biocbuild/bbs-3.15-bioc/R/library/graph/libs/x64/BioC_graph.dll': Found 'abort', possibly from 'abort' (C), 'runtime' (Fortran) Compiled code should not call entry points which might terminate R nor write to stdout/stderr instead of to the console, nor use Fortran I/O nor system RNGs. The detected symbols are linked into the code but might come from libraries and not actually be called. See 'Writing portable packages' in the 'Writing R Extensions' manual. * checking files in 'vignettes' ... OK * checking examples ... OK * checking for unstated dependencies in 'tests' ... OK * checking tests ... Running 'graph_unit_tests.R' OK * checking for unstated dependencies in vignettes ... OK * checking package vignettes in 'inst/doc' ... OK * checking running R code from vignettes ... SKIPPED * checking re-building of vignette outputs ... SKIPPED * checking PDF version of manual ... OK * DONE Status: 2 NOTEs See 'D:/biocbuild/bbs-3.15-bioc/meat/graph.Rcheck/00check.log' for details.
graph.Rcheck/00install.out
##############################################################################
##############################################################################
###
### Running command:
###
### D:\biocbuild\bbs-3.15-bioc\R\bin\R.exe CMD INSTALL graph
###
##############################################################################
##############################################################################
* installing to library 'D:/biocbuild/bbs-3.15-bioc/R/library'
* installing *source* package 'graph' ...
** using staged installation
** libs
"C:/rtools40/mingw64/bin/"gcc -I"D:/biocbuild/bbs-3.15-bioc/R/include" -DNDEBUG -I"C:/extsoft/include" -O2 -Wall -std=gnu99 -mfpmath=sse -msse2 -mstackrealign -fno-reorder-blocks-and-partition -c graph.c -o graph.o
C:/rtools40/mingw64/bin/gcc -shared -s -static-libgcc -o graph.dll tmp.def graph.o -LC:/extsoft/lib/x64 -LC:/extsoft/lib -LD:/biocbuild/bbs-3.15-bioc/R/bin/x64 -lR
mv graph.dll BioC_graph.dll
installing to D:/biocbuild/bbs-3.15-bioc/R/library/00LOCK-graph/00new/graph/libs/x64
** R
** data
** inst
** byte-compile and prepare package for lazy loading
** help
*** installing help indices
converting help for package 'graph'
finding HTML links ... done
DFS html
IMCA html
MAPKsig html
MultiGraph-class html
acc-methods html
addEdge html
addNode html
adj-methods html
adjacencyMatrix html
apoptosisGraph html
attrData-class html
attrDataItem-methods html
attrDefaults-methods html
aveNumEdges html
biocRepos html
boundary html
calcProb html
calcSumProb html
clearNode html
clusterGraph-class html
clusteringCoefficient-methods html
combineNodes html
defunct html
distGraph-class html
duplicatedEdges html
edgeData-methods html
edgeDataDefaults-methods html
edgeMatrix html
edgeSets html
edgeWeights html
fromGXL-methods html
graph-class html
graph2SparseM html
graphAM-class html
graphBAM-class html
graphExamples html
graphNEL-class html
inEdges html
internal html
isAdjacent-methods html
isDirected-methods html
leaves html
listEdges html
matrix2Graph html
mostEdges html
multigraph html
REDIRECT:topic Previous alias or file overwritten by alias: D:/biocbuild/bbs-3.15-bioc/R/library/00LOCK-graph/00new/graph/help/multiGraph-class.html
REDIRECT:topic Previous alias or file overwritten by alias: D:/biocbuild/bbs-3.15-bioc/R/library/00LOCK-graph/00new/graph/help/show+2CmultiGraph-method.html
REDIRECT:topic Previous alias or file overwritten by alias: D:/biocbuild/bbs-3.15-bioc/R/library/00LOCK-graph/00new/graph/help/isDirected+2CmultiGraph-method.html
REDIRECT:topic Previous alias or file overwritten by alias: D:/biocbuild/bbs-3.15-bioc/R/library/00LOCK-graph/00new/graph/help/nodes+2CmultiGraph-method.html
REDIRECT:topic Previous alias or file overwritten by alias: D:/biocbuild/bbs-3.15-bioc/R/library/00LOCK-graph/00new/graph/help/numNodes+2CmultiGraph-method.html
REDIRECT:topic Previous alias or file overwritten by alias: D:/biocbuild/bbs-3.15-bioc/R/library/00LOCK-graph/00new/graph/help/edges+2CmultiGraph-method.html
REDIRECT:topic Previous alias or file overwritten by alias: D:/biocbuild/bbs-3.15-bioc/R/library/00LOCK-graph/00new/graph/help/numEdges+2CmultiGraph-method.html
nodeData-methods html
nodeDataDefaults-methods html
numNoEdges html
pancrCaIni html
randomEGraph html
randomGraph html
randomNodeGraph html
removeEdge html
removeNode html
renderInfo-class html
reverseEdgeDirections html
settings html
simpleEdge-class html
standardLabeling html
subGraph html
toDotR-methods html
toDotWithRI html
ugraph html
validGraph html
write.tlp html
** building package indices
** installing vignettes
** testing if installed package can be loaded from temporary location
** testing if installed package can be loaded from final location
** testing if installed package keeps a record of temporary installation path
* DONE (graph)
Making 'packages.html' ...Warning in packageDescription(i, lib.loc = lib, fields = "Title", encoding = "UTF-8") :
DESCRIPTION file of package 'FamAgg' is missing or broken
Warning in packageDescription(i, lib.loc = lib, fields = "Title", encoding = "UTF-8") :
DESCRIPTION file of package 'matter' is missing or broken
Warning in packageDescription(i, lib.loc = lib, fields = "Title", encoding = "UTF-8") :
DESCRIPTION file of package 'rsemmed' is missing or broken
done
graph.Rcheck/tests/graph_unit_tests.Rout
R Under development (unstable) (2021-11-21 r81221) -- "Unsuffered Consequences"
Copyright (C) 2021 The R Foundation for Statistical Computing
Platform: x86_64-w64-mingw32/x64 (64-bit)
R is free software and comes with ABSOLUTELY NO WARRANTY.
You are welcome to redistribute it under certain conditions.
Type 'license()' or 'licence()' for distribution details.
R is a collaborative project with many contributors.
Type 'contributors()' for more information and
'citation()' on how to cite R or R packages in publications.
Type 'demo()' for some demos, 'help()' for on-line help, or
'help.start()' for an HTML browser interface to help.
Type 'q()' to quit R.
> BiocGenerics:::testPackage("graph", pattern="_test.R")
Attaching package: 'BiocGenerics'
The following objects are masked from 'package:stats':
IQR, mad, sd, var, xtabs
The following objects are masked from 'package:base':
Filter, Find, Map, Position, Reduce, anyDuplicated, append,
as.data.frame, basename, cbind, colnames, dirname, do.call,
duplicated, eval, evalq, get, grep, grepl, intersect, is.unsorted,
lapply, mapply, match, mget, order, paste, pmax, pmax.int, pmin,
pmin.int, rank, rbind, rownames, sapply, setdiff, sort, table,
tapply, union, unique, unsplit, which.max, which.min
RUNIT TEST PROTOCOL -- Thu Mar 17 19:16:32 2022
***********************************************
Number of test functions: 208
Number of errors: 0
Number of failures: 0
1 Test Suite :
graph RUnit Tests - 208 test functions, 0 errors, 0 failures
Number of test functions: 208
Number of errors: 0
Number of failures: 0
>
> proc.time()
user system elapsed
3.79 0.21 4.03
graph.Rcheck/graph-Ex.timings
| name | user | system | elapsed | |
| DFS | 0.03 | 0.00 | 0.04 | |
| IMCA | 0.11 | 0.00 | 0.11 | |
| MAPKsig | 0.09 | 0.02 | 0.11 | |
| MultiGraph-class | 0.10 | 0.00 | 0.09 | |
| acc-methods | 0 | 0 | 0 | |
| addEdge | 0.03 | 0.00 | 0.04 | |
| addNode | 0.01 | 0.00 | 0.01 | |
| adj-methods | 0 | 0 | 0 | |
| adjacencyMatrix | 0 | 0 | 0 | |
| apoptosisGraph | 0.02 | 0.00 | 0.02 | |
| attrData-class | 0 | 0 | 0 | |
| aveNumEdges | 0 | 0 | 0 | |
| biocRepos | 0.02 | 0.00 | 0.01 | |
| boundary | 0 | 0 | 0 | |
| calcProb | 0 | 0 | 0 | |
| calcSumProb | 0 | 0 | 0 | |
| clearNode | 0.01 | 0.00 | 0.02 | |
| clusterGraph-class | 0 | 0 | 0 | |
| clusteringCoefficient-methods | 0.03 | 0.00 | 0.03 | |
| combineNodes | 0.03 | 0.01 | 0.05 | |
| distGraph-class | 0 | 0 | 0 | |
| duplicatedEdges | 0 | 0 | 0 | |
| edgeMatrix | 0.02 | 0.00 | 0.01 | |
| edgeSets | 0.00 | 0.02 | 0.02 | |
| edgeWeights | 0.01 | 0.00 | 0.01 | |
| fromGXL-methods | 0.15 | 0.00 | 0.14 | |
| graph-class | 0 | 0 | 0 | |
| graph2SparseM | 0.09 | 0.00 | 0.10 | |
| graphAM-class | 0 | 0 | 0 | |
| graphBAM-class | 0.01 | 0.00 | 0.01 | |
| graphExamples | 0.02 | 0.00 | 0.02 | |
| graphNEL-class | 0 | 0 | 0 | |
| inEdges | 0.02 | 0.00 | 0.01 | |
| leaves | 0 | 0 | 0 | |
| listEdges | 0.01 | 0.00 | 0.02 | |
| matrix2Graph | 0.02 | 0.00 | 0.02 | |
| mostEdges | 0 | 0 | 0 | |
| numNoEdges | 0 | 0 | 0 | |
| pancrCaIni | 0.22 | 0.00 | 0.21 | |
| randomEGraph | 0 | 0 | 0 | |
| randomGraph | 0.01 | 0.00 | 0.02 | |
| randomNodeGraph | 0 | 0 | 0 | |
| removeEdge | 0 | 0 | 0 | |
| removeNode | 0 | 0 | 0 | |
| renderInfo-class | 0 | 0 | 0 | |
| reverseEdgeDirections | 0.02 | 0.00 | 0.01 | |
| simpleEdge-class | 0 | 0 | 0 | |
| standardLabeling | 0.04 | 0.00 | 0.05 | |
| subGraph | 0 | 0 | 0 | |
| toDotR-methods | 0.04 | 0.00 | 0.03 | |
| ugraph | 0.01 | 0.00 | 0.01 | |
| validGraph | 0 | 0 | 0 | |