| Back to Multiple platform build/check report for BioC 3.15 |
|
This page was generated on 2022-03-18 11:07:40 -0400 (Fri, 18 Mar 2022).
| Hostname | OS | Arch (*) | R version | Installed pkgs |
|---|---|---|---|---|
| nebbiolo1 | Linux (Ubuntu 20.04.4 LTS) | x86_64 | R Under development (unstable) (2022-02-17 r81757) -- "Unsuffered Consequences" | 4334 |
| riesling1 | Windows Server 2019 Standard | x64 | R Under development (unstable) (2021-11-21 r81221) -- "Unsuffered Consequences" | 4097 |
| palomino3 | Windows Server 2022 Datacenter | x64 | R Under development (unstable) (2022-02-17 r81757 ucrt) -- "Unsuffered Consequences" | 4083 |
| merida1 | macOS 10.14.6 Mojave | x86_64 | R Under development (unstable) (2022-03-02 r81842) -- "Unsuffered Consequences" | 4134 |
| Click on any hostname to see more info about the system (e.g. compilers) (*) as reported by 'uname -p', except on Windows and Mac OS X | ||||
|
To the developers/maintainers of the granulator package: - Please allow up to 24 hours (and sometimes 48 hours) for your latest push to git@git.bioconductor.org:packages/granulator.git to reflect on this report. See How and When does the builder pull? When will my changes propagate? here for more information. - Make sure to use the following settings in order to reproduce any error or warning you see on this page. |
| Package 818/2090 | Hostname | OS / Arch | INSTALL | BUILD | CHECK | BUILD BIN | ||||||||
| granulator 1.3.0 (landing page) Sabina Pfister
| nebbiolo1 | Linux (Ubuntu 20.04.4 LTS) / x86_64 | OK | OK | OK | |||||||||
| riesling1 | Windows Server 2019 Standard / x64 | OK | OK | OK | OK | |||||||||
| palomino3 | Windows Server 2022 Datacenter / x64 | OK | OK | OK | OK | |||||||||
| merida1 | macOS 10.14.6 Mojave / x86_64 | OK | OK | OK | OK | |||||||||
| Package: granulator |
| Version: 1.3.0 |
| Command: rm -rf granulator.buildbin-libdir && mkdir granulator.buildbin-libdir && D:\biocbuild\bbs-3.15-bioc\R\bin\R.exe CMD INSTALL --build --library=granulator.buildbin-libdir granulator_1.3.0.tar.gz |
| StartedAt: 2022-03-17 21:12:59 -0400 (Thu, 17 Mar 2022) |
| EndedAt: 2022-03-17 21:13:57 -0400 (Thu, 17 Mar 2022) |
| EllapsedTime: 58.1 seconds |
| RetCode: 0 |
| Status: OK |
| PackageFile: granulator_1.3.0.zip |
| PackageFileSize: 945.4 KiB |
##############################################################################
##############################################################################
###
### Running command:
###
### rm -rf granulator.buildbin-libdir && mkdir granulator.buildbin-libdir && D:\biocbuild\bbs-3.15-bioc\R\bin\R.exe CMD INSTALL --build --library=granulator.buildbin-libdir granulator_1.3.0.tar.gz
###
##############################################################################
##############################################################################
* installing *source* package 'granulator' ...
** using staged installation
** R
** data
** inst
** byte-compile and prepare package for lazy loading
** help
*** installing help indices
converting help for package 'granulator'
finding HTML links ... done
benchmark html
bulkRNAseq_ABIS html
correlate html
deconvolute html
get_TPM html
get_decon_methods html
groundTruth_ABIS html
load_ABIS html
plot_benchmark html
plot_correlate html
plot_deconvolute html
plot_proportions html
plot_regress html
plot_similarity html
sigMatrix_ABIS_S0 html
sigMatrix_ABIS_S1 html
sigMatrix_ABIS_S2 html
sigMatrix_ABIS_S3 html
** building package indices
** installing vignettes
** testing if installed package can be loaded from temporary location
** testing if installed package can be loaded from final location
** testing if installed package keeps a record of temporary installation path
* MD5 sums
packaged installation of 'granulator' as granulator_1.3.0.zip
* DONE (granulator)