| Back to Multiple platform build/check report for BioC 3.15 |
|
This page was generated on 2022-03-18 11:07:40 -0400 (Fri, 18 Mar 2022).
| Hostname | OS | Arch (*) | R version | Installed pkgs |
|---|---|---|---|---|
| nebbiolo1 | Linux (Ubuntu 20.04.4 LTS) | x86_64 | R Under development (unstable) (2022-02-17 r81757) -- "Unsuffered Consequences" | 4334 |
| riesling1 | Windows Server 2019 Standard | x64 | R Under development (unstable) (2021-11-21 r81221) -- "Unsuffered Consequences" | 4097 |
| palomino3 | Windows Server 2022 Datacenter | x64 | R Under development (unstable) (2022-02-17 r81757 ucrt) -- "Unsuffered Consequences" | 4083 |
| merida1 | macOS 10.14.6 Mojave | x86_64 | R Under development (unstable) (2022-03-02 r81842) -- "Unsuffered Consequences" | 4134 |
| Click on any hostname to see more info about the system (e.g. compilers) (*) as reported by 'uname -p', except on Windows and Mac OS X | ||||
|
To the developers/maintainers of the goProfiles package: - Please allow up to 24 hours (and sometimes 48 hours) for your latest push to git@git.bioconductor.org:packages/goProfiles.git to reflect on this report. See How and When does the builder pull? When will my changes propagate? here for more information. - Make sure to use the following settings in order to reproduce any error or warning you see on this page. |
| Package 804/2090 | Hostname | OS / Arch | INSTALL | BUILD | CHECK | BUILD BIN | ||||||||
| goProfiles 1.57.0 (landing page) Alex Sanchez
| nebbiolo1 | Linux (Ubuntu 20.04.4 LTS) / x86_64 | OK | OK | OK | |||||||||
| riesling1 | Windows Server 2019 Standard / x64 | OK | OK | OK | OK | |||||||||
| palomino3 | Windows Server 2022 Datacenter / x64 | OK | OK | OK | OK | |||||||||
| merida1 | macOS 10.14.6 Mojave / x86_64 | OK | OK | OK | OK | |||||||||
| Package: goProfiles |
| Version: 1.57.0 |
| Command: rm -rf goProfiles.buildbin-libdir && mkdir goProfiles.buildbin-libdir && D:\biocbuild\bbs-3.15-bioc\R\bin\R.exe CMD INSTALL --build --library=goProfiles.buildbin-libdir goProfiles_1.57.0.tar.gz |
| StartedAt: 2022-03-17 21:12:41 -0400 (Thu, 17 Mar 2022) |
| EndedAt: 2022-03-17 21:13:41 -0400 (Thu, 17 Mar 2022) |
| EllapsedTime: 60.6 seconds |
| RetCode: 0 |
| Status: OK |
| PackageFile: goProfiles_1.57.0.zip |
| PackageFileSize: 571.1 KiB |
##############################################################################
##############################################################################
###
### Running command:
###
### rm -rf goProfiles.buildbin-libdir && mkdir goProfiles.buildbin-libdir && D:\biocbuild\bbs-3.15-bioc\R\bin\R.exe CMD INSTALL --build --library=goProfiles.buildbin-libdir goProfiles_1.57.0.tar.gz
###
##############################################################################
##############################################################################
* installing *source* package 'goProfiles' ...
** using staged installation
** R
** data
** inst
** byte-compile and prepare package for lazy loading
** help
*** installing help indices
converting help for package 'goProfiles'
finding HTML links ... done
CD4ids html
GOTermsList html
basicProfile html
clustKidneyMF2 html
compSummary html
compareGOProfiles html
compareGeneLists html
compareProfilesLists html
contractedProfile html
conversionFunctions html
drosophila html
equivClust html
equivClust2pdf html
equivSummary html
equivalentGOProfiles html
expandedLevel html
expandedProfile html
fisherGOProfiles html
fitGOProfile html
goProfiles-package html
hugoIds html
iterEquivClust html
kidneyGeneLists html
mergeProfilesLists html
ngenes html
omimIds html
plotProfiles html
printProfiles html
prostateIds html
** building package indices
** installing vignettes
** testing if installed package can be loaded from temporary location
** testing if installed package can be loaded from final location
** testing if installed package keeps a record of temporary installation path
* MD5 sums
packaged installation of 'goProfiles' as goProfiles_1.57.0.zip
* DONE (goProfiles)