| Back to Multiple platform build/check report for BioC 3.15 |
|
This page was generated on 2022-03-18 11:07:38 -0400 (Fri, 18 Mar 2022).
| Hostname | OS | Arch (*) | R version | Installed pkgs |
|---|---|---|---|---|
| nebbiolo1 | Linux (Ubuntu 20.04.4 LTS) | x86_64 | R Under development (unstable) (2022-02-17 r81757) -- "Unsuffered Consequences" | 4334 |
| riesling1 | Windows Server 2019 Standard | x64 | R Under development (unstable) (2021-11-21 r81221) -- "Unsuffered Consequences" | 4097 |
| palomino3 | Windows Server 2022 Datacenter | x64 | R Under development (unstable) (2022-02-17 r81757 ucrt) -- "Unsuffered Consequences" | 4083 |
| merida1 | macOS 10.14.6 Mojave | x86_64 | R Under development (unstable) (2022-03-02 r81842) -- "Unsuffered Consequences" | 4134 |
| Click on any hostname to see more info about the system (e.g. compilers) (*) as reported by 'uname -p', except on Windows and Mac OS X | ||||
|
To the developers/maintainers of the ggmsa package: - Please allow up to 24 hours (and sometimes 48 hours) for your latest push to git@git.bioconductor.org:packages/ggmsa.git to reflect on this report. See How and When does the builder pull? When will my changes propagate? here for more information. - Make sure to use the following settings in order to reproduce any error or warning you see on this page. |
| Package 780/2090 | Hostname | OS / Arch | INSTALL | BUILD | CHECK | BUILD BIN | ||||||||
| ggmsa 1.1.5 (landing page) Lang Zhou
| nebbiolo1 | Linux (Ubuntu 20.04.4 LTS) / x86_64 | OK | OK | OK | |||||||||
| riesling1 | Windows Server 2019 Standard / x64 | OK | OK | OK | OK | |||||||||
| palomino3 | Windows Server 2022 Datacenter / x64 | OK | OK | OK | OK | |||||||||
| merida1 | macOS 10.14.6 Mojave / x86_64 | OK | OK | OK | OK | |||||||||
| Package: ggmsa |
| Version: 1.1.5 |
| Command: rm -rf ggmsa.buildbin-libdir && mkdir ggmsa.buildbin-libdir && D:\biocbuild\bbs-3.15-bioc\R\bin\R.exe CMD INSTALL --build --library=ggmsa.buildbin-libdir ggmsa_1.1.5.tar.gz |
| StartedAt: 2022-03-17 21:11:51 -0400 (Thu, 17 Mar 2022) |
| EndedAt: 2022-03-17 21:13:06 -0400 (Thu, 17 Mar 2022) |
| EllapsedTime: 75.3 seconds |
| RetCode: 0 |
| Status: OK |
| PackageFile: ggmsa_1.1.5.zip |
| PackageFileSize: 2.46 MiB |
##############################################################################
##############################################################################
###
### Running command:
###
### rm -rf ggmsa.buildbin-libdir && mkdir ggmsa.buildbin-libdir && D:\biocbuild\bbs-3.15-bioc\R\bin\R.exe CMD INSTALL --build --library=ggmsa.buildbin-libdir ggmsa_1.1.5.tar.gz
###
##############################################################################
##############################################################################
* installing *source* package 'ggmsa' ...
** using staged installation
** R
** inst
** byte-compile and prepare package for lazy loading
Note: wrong number of arguments to 'seq_len'
** help
*** installing help indices
converting help for package 'ggmsa'
finding HTML links ... done
GVariation html
Gram-negative_AKL.fasta html
Gram-positive_AKL.fasta html
LeaderRepeat_All.fa html
Rfam html
TP53_genes.xlsx html
available_colors html
available_fonts html
available_msa html
facet_msa html
geom_GC html
geom_helix html
geom_msa html
geom_msaBar html
geom_seed html
geom_seqlogo html
ggSeqBundle html
gghelix html
ggmsa html
plot-methods html
readSSfile html
sample.fasta html
seedSample.fa html
seqdiff html
seqlogo html
sequence-link-tree.fasta html
show-methods html
simplot html
tidy_msa html
tp53.fa html
*** copying figures
** building package indices
** installing vignettes
** testing if installed package can be loaded from temporary location
** testing if installed package can be loaded from final location
** testing if installed package keeps a record of temporary installation path
* MD5 sums
packaged installation of 'ggmsa' as ggmsa_1.1.5.zip
* DONE (ggmsa)