| Back to Multiple platform build/check report for BioC 3.15 |
|
This page was generated on 2022-03-18 11:07:38 -0400 (Fri, 18 Mar 2022).
| Hostname | OS | Arch (*) | R version | Installed pkgs |
|---|---|---|---|---|
| nebbiolo1 | Linux (Ubuntu 20.04.4 LTS) | x86_64 | R Under development (unstable) (2022-02-17 r81757) -- "Unsuffered Consequences" | 4334 |
| riesling1 | Windows Server 2019 Standard | x64 | R Under development (unstable) (2021-11-21 r81221) -- "Unsuffered Consequences" | 4097 |
| palomino3 | Windows Server 2022 Datacenter | x64 | R Under development (unstable) (2022-02-17 r81757 ucrt) -- "Unsuffered Consequences" | 4083 |
| merida1 | macOS 10.14.6 Mojave | x86_64 | R Under development (unstable) (2022-03-02 r81842) -- "Unsuffered Consequences" | 4134 |
| Click on any hostname to see more info about the system (e.g. compilers) (*) as reported by 'uname -p', except on Windows and Mac OS X | ||||
|
To the developers/maintainers of the ggbio package: - Please allow up to 24 hours (and sometimes 48 hours) for your latest push to git@git.bioconductor.org:packages/ggbio.git to reflect on this report. See How and When does the builder pull? When will my changes propagate? here for more information. - Make sure to use the following settings in order to reproduce any error or warning you see on this page. |
| Package 777/2090 | Hostname | OS / Arch | INSTALL | BUILD | CHECK | BUILD BIN | ||||||||
| ggbio 1.43.0 (landing page) Michael Lawrence
| nebbiolo1 | Linux (Ubuntu 20.04.4 LTS) / x86_64 | OK | OK | WARNINGS | |||||||||
| riesling1 | Windows Server 2019 Standard / x64 | OK | OK | WARNINGS | OK | |||||||||
| palomino3 | Windows Server 2022 Datacenter / x64 | OK | OK | WARNINGS | OK | |||||||||
| merida1 | macOS 10.14.6 Mojave / x86_64 | OK | OK | WARNINGS | OK | |||||||||
| Package: ggbio |
| Version: 1.43.0 |
| Command: rm -rf ggbio.buildbin-libdir && mkdir ggbio.buildbin-libdir && D:\biocbuild\bbs-3.15-bioc\R\bin\R.exe CMD INSTALL --build --library=ggbio.buildbin-libdir ggbio_1.43.0.tar.gz |
| StartedAt: 2022-03-17 21:11:47 -0400 (Thu, 17 Mar 2022) |
| EndedAt: 2022-03-17 21:14:02 -0400 (Thu, 17 Mar 2022) |
| EllapsedTime: 134.5 seconds |
| RetCode: 0 |
| Status: OK |
| PackageFile: ggbio_1.43.0.zip |
| PackageFileSize: 3.372 MiB |
##############################################################################
##############################################################################
###
### Running command:
###
### rm -rf ggbio.buildbin-libdir && mkdir ggbio.buildbin-libdir && D:\biocbuild\bbs-3.15-bioc\R\bin\R.exe CMD INSTALL --build --library=ggbio.buildbin-libdir ggbio_1.43.0.tar.gz
###
##############################################################################
##############################################################################
* installing *source* package 'ggbio' ...
** using staged installation
** R
** inst
** byte-compile and prepare package for lazy loading
Creating a new generic function for 'rescale' in package 'ggbio'
Creating a new generic function for 'xlim' in package 'ggbio'
Creating a new generic function for 'geom_rect' in package 'ggbio'
Creating a new generic function for 'geom_segment' in package 'ggbio'
Creating a new generic function for 'geom_bar' in package 'ggbio'
Creating a new generic function for 'stat_identity' in package 'ggbio'
Creating a new generic function for 'stat_bin' in package 'ggbio'
** help
*** installing help indices
converting help for package 'ggbio'
finding HTML links ... done
Grob-class html
Plot-class html
Tracked-class html
arrangeGrobByParsingLegend html
autoplot-method html
finding level-2 HTML links ... done
geom_alignment-method html
geom_arch-method html
geom_arrow-method html
geom_arrowrect-method html
geom_bar-method html
geom_chevron-method html
geom_rect-method html
geom_segment-method html
ggbio-class html
REDIRECT:topic Previous alias or file overwritten by alias: D:/biocbuild/bbs-3.15-bioc/meat/ggbio.buildbin-libdir/00LOCK-ggbio/00new/ggbio/help/GGbio.html
REDIRECT:topic Previous alias or file overwritten by alias: D:/biocbuild/bbs-3.15-bioc/meat/ggbio.buildbin-libdir/00LOCK-ggbio/00new/ggbio/help/ggbio-class.html
ggplot-method html
ggsave html
layout_circle-method html
layout_karyogram-method html
nav html
plotFragLength html
plotGrandLinear html
plotRangesLinkedToData html
plotSingleChrom html
plotSpliceSum html
plotStackedOverview html
rescale-method html
scale_fill_fold_change html
scale_fill_giemsa html
scale_x_sequnit html
stat_aggregate-method html
stat_bin-method html
stat_coverage-method html
stat_gene-method html
stat_identity-method html
stat_mismatch-method html
stat_reduce-method html
stat_slice-method html
stat_stepping-method html
stat_table-method html
theme html
tracks html
** building package indices
** installing vignettes
** testing if installed package can be loaded from temporary location
** testing if installed package can be loaded from final location
** testing if installed package keeps a record of temporary installation path
* MD5 sums
packaged installation of 'ggbio' as ggbio_1.43.0.zip
* DONE (ggbio)