| Back to Multiple platform build/check report for BioC 3.15 |
|
This page was generated on 2022-03-18 11:07:37 -0400 (Fri, 18 Mar 2022).
| Hostname | OS | Arch (*) | R version | Installed pkgs |
|---|---|---|---|---|
| nebbiolo1 | Linux (Ubuntu 20.04.4 LTS) | x86_64 | R Under development (unstable) (2022-02-17 r81757) -- "Unsuffered Consequences" | 4334 |
| riesling1 | Windows Server 2019 Standard | x64 | R Under development (unstable) (2021-11-21 r81221) -- "Unsuffered Consequences" | 4097 |
| palomino3 | Windows Server 2022 Datacenter | x64 | R Under development (unstable) (2022-02-17 r81757 ucrt) -- "Unsuffered Consequences" | 4083 |
| merida1 | macOS 10.14.6 Mojave | x86_64 | R Under development (unstable) (2022-03-02 r81842) -- "Unsuffered Consequences" | 4134 |
| Click on any hostname to see more info about the system (e.g. compilers) (*) as reported by 'uname -p', except on Windows and Mac OS X | ||||
|
To the developers/maintainers of the genotypeeval package: - Please allow up to 24 hours (and sometimes 48 hours) for your latest push to git@git.bioconductor.org:packages/genotypeeval.git to reflect on this report. See How and When does the builder pull? When will my changes propagate? here for more information. - Make sure to use the following settings in order to reproduce any error or warning you see on this page. |
| Package 762/2090 | Hostname | OS / Arch | INSTALL | BUILD | CHECK | BUILD BIN | ||||||||
| genotypeeval 1.27.0 (landing page) Jennifer Tom
| nebbiolo1 | Linux (Ubuntu 20.04.4 LTS) / x86_64 | OK | OK | WARNINGS | |||||||||
| riesling1 | Windows Server 2019 Standard / x64 | OK | OK | WARNINGS | OK | |||||||||
| palomino3 | Windows Server 2022 Datacenter / x64 | OK | OK | WARNINGS | OK | |||||||||
| merida1 | macOS 10.14.6 Mojave / x86_64 | OK | OK | WARNINGS | OK | |||||||||
| Package: genotypeeval |
| Version: 1.27.0 |
| Command: D:\biocbuild\bbs-3.15-bioc\R\bin\R.exe CMD INSTALL genotypeeval |
| StartedAt: 2022-03-17 16:12:25 -0400 (Thu, 17 Mar 2022) |
| EndedAt: 2022-03-17 16:13:26 -0400 (Thu, 17 Mar 2022) |
| EllapsedTime: 60.6 seconds |
| RetCode: 0 |
| Status: OK |
##############################################################################
##############################################################################
###
### Running command:
###
### D:\biocbuild\bbs-3.15-bioc\R\bin\R.exe CMD INSTALL genotypeeval
###
##############################################################################
##############################################################################
* installing to library 'D:/biocbuild/bbs-3.15-bioc/R/library'
* installing *source* package 'genotypeeval' ...
** using staged installation
** R
** inst
** byte-compile and prepare package for lazy loading
** help
*** installing help indices
converting help for package 'genotypeeval'
finding HTML links ... done
GoldData-class html
GoldDataFromGRanges html
GoldDataParam-class html
GoldDataParam html
ReadGoldData html
ReadVCFData html
ReadVCFDataChunk html
VCFData-class html
VCFEvaluate html
VCFQAParam-class html
VCFQAParam html
VCFQAReport-class html
XHeterozygosity html
admixture html
callbyChrPlot html
calltypePlot html
chunkData html
computeTiTv html
didSamplePass html
didSamplePassOverall html
genotypeQualityPlot html
getCoefs html
getDescriptors html
getName html
getPlots html
getResults html
getVR html
goldCompare html
hetGap html
hetsMasked html
homrefPlot html
meanGQ html
myf html
numberCalls html
numberOfHets html
numberOfHomRefs html
numberOfHomVars html
percentHets html
percentInTarget html
rareCompare html
readDepth html
readVcfGold html
readdepthPlot html
reformatData html
titv html
** building package indices
** installing vignettes
** testing if installed package can be loaded from temporary location
** testing if installed package can be loaded from final location
** testing if installed package keeps a record of temporary installation path
* DONE (genotypeeval)
Making 'packages.html' ... done