Back to Multiple platform build/check report for BioC 3.15 |
|
This page was generated on 2022-03-18 11:07:36 -0400 (Fri, 18 Mar 2022).
Hostname | OS | Arch (*) | R version | Installed pkgs |
---|---|---|---|---|
nebbiolo1 | Linux (Ubuntu 20.04.4 LTS) | x86_64 | R Under development (unstable) (2022-02-17 r81757) -- "Unsuffered Consequences" | 4334 |
riesling1 | Windows Server 2019 Standard | x64 | R Under development (unstable) (2021-11-21 r81221) -- "Unsuffered Consequences" | 4097 |
palomino3 | Windows Server 2022 Datacenter | x64 | R Under development (unstable) (2022-02-17 r81757 ucrt) -- "Unsuffered Consequences" | 4083 |
merida1 | macOS 10.14.6 Mojave | x86_64 | R Under development (unstable) (2022-03-02 r81842) -- "Unsuffered Consequences" | 4134 |
Click on any hostname to see more info about the system (e.g. compilers) (*) as reported by 'uname -p', except on Windows and Mac OS X |
To the developers/maintainers of the genoCN package: - Please allow up to 24 hours (and sometimes 48 hours) for your latest push to git@git.bioconductor.org:packages/genoCN.git to reflect on this report. See How and When does the builder pull? When will my changes propagate? here for more information. - Make sure to use the following settings in order to reproduce any error or warning you see on this page. |
Package 744/2090 | Hostname | OS / Arch | INSTALL | BUILD | CHECK | BUILD BIN | ||||||||
genoCN 1.47.0 (landing page) Wei Sun
| nebbiolo1 | Linux (Ubuntu 20.04.4 LTS) / x86_64 | OK | OK | WARNINGS | |||||||||
riesling1 | Windows Server 2019 Standard / x64 | OK | OK | OK | OK | |||||||||
palomino3 | Windows Server 2022 Datacenter / x64 | OK | OK | OK | OK | |||||||||
merida1 | macOS 10.14.6 Mojave / x86_64 | OK | OK | OK | OK | |||||||||
Package: genoCN |
Version: 1.47.0 |
Command: rm -rf genoCN.buildbin-libdir && mkdir genoCN.buildbin-libdir && D:\biocbuild\bbs-3.15-bioc\R\bin\R.exe CMD INSTALL --build --library=genoCN.buildbin-libdir genoCN_1.47.0.tar.gz |
StartedAt: 2022-03-17 21:10:47 -0400 (Thu, 17 Mar 2022) |
EndedAt: 2022-03-17 21:12:26 -0400 (Thu, 17 Mar 2022) |
EllapsedTime: 98.7 seconds |
RetCode: 0 |
Status: OK |
PackageFile: genoCN_1.47.0.zip |
PackageFileSize: 961.4 KiB |
############################################################################## ############################################################################## ### ### Running command: ### ### rm -rf genoCN.buildbin-libdir && mkdir genoCN.buildbin-libdir && D:\biocbuild\bbs-3.15-bioc\R\bin\R.exe CMD INSTALL --build --library=genoCN.buildbin-libdir genoCN_1.47.0.tar.gz ### ############################################################################## ############################################################################## * installing *source* package 'genoCN' ... ** using staged installation ** libs "C:/rtools40/mingw64/bin/"gcc -I"D:/biocbuild/bbs-3.15-bioc/R/include" -DNDEBUG -I"C:/extsoft/include" -O2 -Wall -std=gnu99 -mfpmath=sse -msse2 -mstackrealign -fno-reorder-blocks-and-partition -c tnorm_mle.c -o tnorm_mle.o "C:/rtools40/mingw64/bin/"gcc -I"D:/biocbuild/bbs-3.15-bioc/R/include" -DNDEBUG -I"C:/extsoft/include" -O2 -Wall -std=gnu99 -mfpmath=sse -msse2 -mstackrealign -fno-reorder-blocks-and-partition -c utility.c -o utility.o "C:/rtools40/mingw64/bin/"gcc -I"D:/biocbuild/bbs-3.15-bioc/R/include" -DNDEBUG -I"C:/extsoft/include" -O2 -Wall -std=gnu99 -mfpmath=sse -msse2 -mstackrealign -fno-reorder-blocks-and-partition -c xCNV.c -o xCNV.o xCNV.c: In function 'emiss': xCNV.c:317:25: warning: unused variable 'k' [-Wunused-variable] int L, N, M, K, i, z, k, nGtp, contam=*contamR, CNA=*CNAR; ^ xCNV.c:317:16: warning: unused variable 'K' [-Wunused-variable] int L, N, M, K, i, z, k, nGtp, contam=*contamR, CNA=*CNAR; ^ xCNV.c: In function 'baum_welch': xCNV.c:787:20: warning: unused variable 'sd_b_tmp' [-Wunused-variable] double mu_b_tmp, sd_b_tmp; ^~~~~~~~ xCNV.c:787:10: warning: unused variable 'mu_b_tmp' [-Wunused-variable] double mu_b_tmp, sd_b_tmp; ^~~~~~~~ xCNV.c:762:10: warning: variable 'LL' set but not used [-Wunused-but-set-variable] int L, LL, N, NN, M, MM, S, LS, CNA = *RCNA, ^~ xCNV.c:1839:17: warning: 'nGtp' may be used uninitialized in this function [-Wmaybe-uninitialized] weights(ws, pbf, z, CNA, contam, nGtp, *geno_error); ^~~~~~~~~~~~~~~~~~~~~~~~~~~~~~~~~~~~~~~~~~~~~~~~~~~ xCNV.c:1839:17: warning: 'pbf' may be used uninitialized in this function [-Wmaybe-uninitialized] C:/rtools40/mingw64/bin/gcc -shared -s -static-libgcc -o genoCN.dll tmp.def tnorm_mle.o utility.o xCNV.o -LC:/extsoft/lib/x64 -LC:/extsoft/lib -LD:/biocbuild/bbs-3.15-bioc/R/bin/x64 -lR installing to D:/biocbuild/bbs-3.15-bioc/meat/genoCN.buildbin-libdir/00LOCK-genoCN/00new/genoCN/libs/x64 ** R ** data ** inst ** byte-compile and prepare package for lazy loading ** help *** installing help indices converting help for package 'genoCN' finding HTML links ... done code.genotype html genoCNA html genoCNV html init.Para.CNA html init.Para.CNV html plotCN html snpData html snpInfo html ** building package indices ** installing vignettes ** testing if installed package can be loaded from temporary location ** testing if installed package can be loaded from final location ** testing if installed package keeps a record of temporary installation path * MD5 sums packaged installation of 'genoCN' as genoCN_1.47.0.zip * DONE (genoCN)