| Back to Multiple platform build/check report for BioC 3.15 |
|
This page was generated on 2022-10-19 13:20:17 -0400 (Wed, 19 Oct 2022).
| Hostname | OS | Arch (*) | R version | Installed pkgs |
|---|---|---|---|---|
| nebbiolo1 | Linux (Ubuntu 20.04.5 LTS) | x86_64 | 4.2.1 (2022-06-23) -- "Funny-Looking Kid" | 4386 |
| palomino3 | Windows Server 2022 Datacenter | x64 | 4.2.1 (2022-06-23 ucrt) -- "Funny-Looking Kid" | 4138 |
| merida1 | macOS 10.14.6 Mojave | x86_64 | 4.2.1 (2022-06-23) -- "Funny-Looking Kid" | 4205 |
| Click on any hostname to see more info about the system (e.g. compilers) (*) as reported by 'uname -p', except on Windows and Mac OS X | ||||
|
To the developers/maintainers of the gaggle package: - Please allow up to 24 hours (and sometimes 48 hours) for your latest push to git@git.bioconductor.org:packages/gaggle.git to reflect on this report. See How and When does the builder pull? When will my changes propagate? for more information. - Make sure to use the following settings in order to reproduce any error or warning you see on this page. |
| Package 716/2140 | Hostname | OS / Arch | INSTALL | BUILD | CHECK | BUILD BIN | ||||||||
| gaggle 1.64.0 (landing page) Christopher Bare
| nebbiolo1 | Linux (Ubuntu 20.04.5 LTS) / x86_64 | OK | OK | OK | |||||||||
| palomino3 | Windows Server 2022 Datacenter / x64 | OK | OK | OK | OK | |||||||||
| merida1 | macOS 10.14.6 Mojave / x86_64 | OK | OK | OK | OK | |||||||||
| Package: gaggle |
| Version: 1.64.0 |
| Command: /home/biocbuild/bbs-3.15-bioc/R/bin/R CMD INSTALL gaggle |
| StartedAt: 2022-10-18 15:16:02 -0400 (Tue, 18 Oct 2022) |
| EndedAt: 2022-10-18 15:16:16 -0400 (Tue, 18 Oct 2022) |
| EllapsedTime: 14.1 seconds |
| RetCode: 0 |
| Status: OK |
##############################################################################
##############################################################################
###
### Running command:
###
### /home/biocbuild/bbs-3.15-bioc/R/bin/R CMD INSTALL gaggle
###
##############################################################################
##############################################################################
* installing to library ‘/home/biocbuild/bbs-3.15-bioc/R/library’
* installing *source* package ‘gaggle’ ...
** using staged installation
** R
** inst
** byte-compile and prepare package for lazy loading
** help
*** installing help indices
** building package indices
** installing vignettes
** testing if installed package can be loaded from temporary location
onLoad -- libname: /home/biocbuild/bbs-3.15-bioc/R/library/00LOCK-gaggle/00new pkgname: gaggle
path to jar: /home/biocbuild/bbs-3.15-bioc/R/library/00LOCK-gaggle/00new/gaggle/jars/gaggleRShell.jar
script: gaggle.R $Revision: 4499 $ $Date: 2010-08-10 17:15:03 -0700 (Tue, 10 Aug 2010) $
os version: Linux
jvm version: 11.0.16
You are using the wrong version of Java.
Please see http://gaggle.systemsbiology.org/docs/html/java
** testing if installed package can be loaded from final location
onLoad -- libname: /home/biocbuild/bbs-3.15-bioc/R/library pkgname: gaggle
path to jar: /home/biocbuild/bbs-3.15-bioc/R/library/gaggle/jars/gaggleRShell.jar
script: gaggle.R $Revision: 4499 $ $Date: 2010-08-10 17:15:03 -0700 (Tue, 10 Aug 2010) $
os version: Linux
jvm version: 11.0.16
You are using the wrong version of Java.
Please see http://gaggle.systemsbiology.org/docs/html/java
** testing if installed package keeps a record of temporary installation path
* DONE (gaggle)