| Back to Multiple platform build/check report for BioC 3.15 |
|
This page was generated on 2022-03-18 11:07:34 -0400 (Fri, 18 Mar 2022).
| Hostname | OS | Arch (*) | R version | Installed pkgs |
|---|---|---|---|---|
| nebbiolo1 | Linux (Ubuntu 20.04.4 LTS) | x86_64 | R Under development (unstable) (2022-02-17 r81757) -- "Unsuffered Consequences" | 4334 |
| riesling1 | Windows Server 2019 Standard | x64 | R Under development (unstable) (2021-11-21 r81221) -- "Unsuffered Consequences" | 4097 |
| palomino3 | Windows Server 2022 Datacenter | x64 | R Under development (unstable) (2022-02-17 r81757 ucrt) -- "Unsuffered Consequences" | 4083 |
| merida1 | macOS 10.14.6 Mojave | x86_64 | R Under development (unstable) (2022-03-02 r81842) -- "Unsuffered Consequences" | 4134 |
| Click on any hostname to see more info about the system (e.g. compilers) (*) as reported by 'uname -p', except on Windows and Mac OS X | ||||
|
To the developers/maintainers of the gCrisprTools package: - Please allow up to 24 hours (and sometimes 48 hours) for your latest push to git@git.bioconductor.org:packages/gCrisprTools.git to reflect on this report. See How and When does the builder pull? When will my changes propagate? here for more information. - Make sure to use the following settings in order to reproduce any error or warning you see on this page. |
| Package 707/2090 | Hostname | OS / Arch | INSTALL | BUILD | CHECK | BUILD BIN | ||||||||
| gCrisprTools 2.1.3 (landing page) Russell Bainer
| nebbiolo1 | Linux (Ubuntu 20.04.4 LTS) / x86_64 | OK | OK | ERROR | |||||||||
| riesling1 | Windows Server 2019 Standard / x64 | OK | OK | ERROR | OK | |||||||||
| palomino3 | Windows Server 2022 Datacenter / x64 | OK | OK | ERROR | OK | |||||||||
| merida1 | macOS 10.14.6 Mojave / x86_64 | OK | OK | ERROR | OK | |||||||||
| Package: gCrisprTools |
| Version: 2.1.3 |
| Command: rm -rf gCrisprTools.buildbin-libdir && mkdir gCrisprTools.buildbin-libdir && D:\biocbuild\bbs-3.15-bioc\R\bin\R.exe CMD INSTALL --build --library=gCrisprTools.buildbin-libdir gCrisprTools_2.1.3.tar.gz |
| StartedAt: 2022-03-17 21:09:26 -0400 (Thu, 17 Mar 2022) |
| EndedAt: 2022-03-17 21:11:00 -0400 (Thu, 17 Mar 2022) |
| EllapsedTime: 93.2 seconds |
| RetCode: 0 |
| Status: OK |
| PackageFile: gCrisprTools_2.1.3.zip |
| PackageFileSize: 3.438 MiB |
##############################################################################
##############################################################################
###
### Running command:
###
### rm -rf gCrisprTools.buildbin-libdir && mkdir gCrisprTools.buildbin-libdir && D:\biocbuild\bbs-3.15-bioc\R\bin\R.exe CMD INSTALL --build --library=gCrisprTools.buildbin-libdir gCrisprTools_2.1.3.tar.gz
###
##############################################################################
##############################################################################
* installing *source* package 'gCrisprTools' ...
** using staged installation
** R
** data
** inst
** byte-compile and prepare package for lazy loading
** help
*** installing help indices
converting help for package 'gCrisprTools'
finding HTML links ... done
aln html
ann html
appendDateAndExt html
ct.CAT html
ct.DirectionalTests html
ct.GCbias html
ct.GREATdb html
ct.PRC html
ct.ROC html
ct.RRAaPvals html
ct.RRAalpha html
ct.RRAalphaBatch html
ct.alignmentChart html
ct.alphaBeta html
ct.applyAlpha html
ct.buildSE html
ct.compareContrasts html
ct.contrastBarchart html
ct.drawColorLegend html
ct.drawFlat html
ct.ecdf html
ct.expandAnnotation html
ct.exprsColor html
ct.filterReads html
ct.gRNARankByReplicate html
ct.generateResults html
ct.guideCDF html
ct.inputCheck html
ct.keyCheck html
ct.makeContrastReport html
ct.makeQCReport html
ct.makeReport html
ct.makeRhoNull html
ct.normalizeBySlope html
ct.normalizeFQ html
ct.normalizeGuides html
ct.normalizeMedians html
ct.normalizeNTC html
ct.normalizeSpline html
ct.numcores html
ct.parseGeneSymbol html
ct.prepareAnnotation html
ct.preprocessFit html
ct.rankSimple html
ct.rawCountDensities html
ct.regularizeContrasts html
ct.resultCheck html
ct.scatter html
ct.seas html
ct.seasPrep html
ct.signalSummary html
ct.simpleResult html
ct.softLog html
ct.stackGuides html
ct.targetSetEnrichment html
ct.topTargets html
ct.upSet html
ct.viewControls html
ct.viewGuides html
dir.writable html
es html
essential.genes html
fit html
gCrisprTools-package html
initOutDir html
renderReport html
resultsDF html
** building package indices
** installing vignettes
** testing if installed package can be loaded from temporary location
** testing if installed package can be loaded from final location
** testing if installed package keeps a record of temporary installation path
* MD5 sums
packaged installation of 'gCrisprTools' as gCrisprTools_2.1.3.zip
* DONE (gCrisprTools)