| Back to Multiple platform build/check report for BioC 3.15 |
|
This page was generated on 2022-03-18 11:07:31 -0400 (Fri, 18 Mar 2022).
| Hostname | OS | Arch (*) | R version | Installed pkgs |
|---|---|---|---|---|
| nebbiolo1 | Linux (Ubuntu 20.04.4 LTS) | x86_64 | R Under development (unstable) (2022-02-17 r81757) -- "Unsuffered Consequences" | 4334 |
| riesling1 | Windows Server 2019 Standard | x64 | R Under development (unstable) (2021-11-21 r81221) -- "Unsuffered Consequences" | 4097 |
| palomino3 | Windows Server 2022 Datacenter | x64 | R Under development (unstable) (2022-02-17 r81757 ucrt) -- "Unsuffered Consequences" | 4083 |
| merida1 | macOS 10.14.6 Mojave | x86_64 | R Under development (unstable) (2022-03-02 r81842) -- "Unsuffered Consequences" | 4134 |
| Click on any hostname to see more info about the system (e.g. compilers) (*) as reported by 'uname -p', except on Windows and Mac OS X | ||||
|
To the developers/maintainers of the flowcatchR package: - Please allow up to 24 hours (and sometimes 48 hours) for your latest push to git@git.bioconductor.org:packages/flowcatchR.git to reflect on this report. See How and When does the builder pull? When will my changes propagate? here for more information. - Make sure to use the following settings in order to reproduce any error or warning you see on this page. |
| Package 654/2090 | Hostname | OS / Arch | INSTALL | BUILD | CHECK | BUILD BIN | ||||||||
| flowcatchR 1.29.1 (landing page) Federico Marini
| nebbiolo1 | Linux (Ubuntu 20.04.4 LTS) / x86_64 | OK | OK | OK | |||||||||
| riesling1 | Windows Server 2019 Standard / x64 | OK | OK | OK | OK | |||||||||
| palomino3 | Windows Server 2022 Datacenter / x64 | OK | OK | OK | OK | |||||||||
| merida1 | macOS 10.14.6 Mojave / x86_64 | OK | OK | OK | OK | |||||||||
| Package: flowcatchR |
| Version: 1.29.1 |
| Command: rm -rf flowcatchR.buildbin-libdir && mkdir flowcatchR.buildbin-libdir && D:\biocbuild\bbs-3.15-bioc\R\bin\R.exe CMD INSTALL --build --library=flowcatchR.buildbin-libdir flowcatchR_1.29.1.tar.gz |
| StartedAt: 2022-03-17 21:08:23 -0400 (Thu, 17 Mar 2022) |
| EndedAt: 2022-03-17 21:09:22 -0400 (Thu, 17 Mar 2022) |
| EllapsedTime: 58.8 seconds |
| RetCode: 0 |
| Status: OK |
| PackageFile: flowcatchR_1.29.1.zip |
| PackageFileSize: 7.687 MiB |
##############################################################################
##############################################################################
###
### Running command:
###
### rm -rf flowcatchR.buildbin-libdir && mkdir flowcatchR.buildbin-libdir && D:\biocbuild\bbs-3.15-bioc\R\bin\R.exe CMD INSTALL --build --library=flowcatchR.buildbin-libdir flowcatchR_1.29.1.tar.gz
###
##############################################################################
##############################################################################
* installing *source* package 'flowcatchR' ...
** using staged installation
** R
** data
*** moving datasets to lazyload DB
** inst
** byte-compile and prepare package for lazy loading
** help
*** installing help indices
converting help for package 'flowcatchR'
finding HTML links ... done
Frames-class html
Frames html
KinematicsFeatures-class html
KinematicsFeaturesSet-class html
LinkedParticleSet-class html
MesenteriumSubset html
ParticleSet-class html
TrajectorySet-class html
add.contours html
addParticles html
axesInfo html
candidate.platelets html
channel.Frames html
computeMSD html
crop.Frames html
finding level-2 HTML links ... done
export.Frames html
export.particles html
extractKinematics.traj html
flowcatchR-pkg html
initialize.LinkedParticleSet html
inspect.Frames html
kinematics html
length.Frames html
link.particles html
matchTrajToParticles html
normalizeFrames html
particles html
penaltyFunctionGenerator html
plot.TrajectorySet html
plot2D.TrajectorySet html
preprocess.Frames html
read.Frames html
read.particles html
repmat html
rotate.Frames html
select.Frames html
select.particles html
shinyFlow html
show-Frames-method html
show-KinematicsFeatures-method html
show-KinematicsFeaturesSet-method html
show-LinkedParticleSet-method html
show-ParticleSet-method html
show-TrajectorySet-method html
snap html
toCartesianCoords html
toPolarCoords html
trajectories html
** building package indices
** installing vignettes
** testing if installed package can be loaded from temporary location
** testing if installed package can be loaded from final location
** testing if installed package keeps a record of temporary installation path
* MD5 sums
packaged installation of 'flowcatchR' as flowcatchR_1.29.1.zip
* DONE (flowcatchR)