| Back to Multiple platform build/check report for BioC 3.15 |
|
This page was generated on 2022-03-18 11:07:32 -0400 (Fri, 18 Mar 2022).
| Hostname | OS | Arch (*) | R version | Installed pkgs |
|---|---|---|---|---|
| nebbiolo1 | Linux (Ubuntu 20.04.4 LTS) | x86_64 | R Under development (unstable) (2022-02-17 r81757) -- "Unsuffered Consequences" | 4334 |
| riesling1 | Windows Server 2019 Standard | x64 | R Under development (unstable) (2021-11-21 r81221) -- "Unsuffered Consequences" | 4097 |
| palomino3 | Windows Server 2022 Datacenter | x64 | R Under development (unstable) (2022-02-17 r81757 ucrt) -- "Unsuffered Consequences" | 4083 |
| merida1 | macOS 10.14.6 Mojave | x86_64 | R Under development (unstable) (2022-03-02 r81842) -- "Unsuffered Consequences" | 4134 |
| Click on any hostname to see more info about the system (e.g. compilers) (*) as reported by 'uname -p', except on Windows and Mac OS X | ||||
|
To the developers/maintainers of the flowViz package: - Please allow up to 24 hours (and sometimes 48 hours) for your latest push to git@git.bioconductor.org:packages/flowViz.git to reflect on this report. See How and When does the builder pull? When will my changes propagate? here for more information. - Make sure to use the following settings in order to reproduce any error or warning you see on this page. |
| Package 678/2090 | Hostname | OS / Arch | INSTALL | BUILD | CHECK | BUILD BIN | ||||||||
| flowViz 1.59.0 (landing page) Mike Jiang
| nebbiolo1 | Linux (Ubuntu 20.04.4 LTS) / x86_64 | OK | OK | OK | |||||||||
| riesling1 | Windows Server 2019 Standard / x64 | OK | OK | OK | OK | |||||||||
| palomino3 | Windows Server 2022 Datacenter / x64 | OK | OK | OK | OK | |||||||||
| merida1 | macOS 10.14.6 Mojave / x86_64 | OK | OK | OK | OK | |||||||||
| Package: flowViz |
| Version: 1.59.0 |
| Command: rm -rf flowViz.buildbin-libdir && mkdir flowViz.buildbin-libdir && D:\biocbuild\bbs-3.15-bioc\R\bin\R.exe CMD INSTALL --build --library=flowViz.buildbin-libdir flowViz_1.59.0.tar.gz |
| StartedAt: 2022-03-17 21:08:53 -0400 (Thu, 17 Mar 2022) |
| EndedAt: 2022-03-17 21:10:21 -0400 (Thu, 17 Mar 2022) |
| EllapsedTime: 88.7 seconds |
| RetCode: 0 |
| Status: OK |
| PackageFile: flowViz_1.59.0.zip |
| PackageFileSize: 1023 KiB |
##############################################################################
##############################################################################
###
### Running command:
###
### rm -rf flowViz.buildbin-libdir && mkdir flowViz.buildbin-libdir && D:\biocbuild\bbs-3.15-bioc\R\bin\R.exe CMD INSTALL --build --library=flowViz.buildbin-libdir flowViz_1.59.0.tar.gz
###
##############################################################################
##############################################################################
* installing *source* package 'flowViz' ...
** using staged installation
** R
** inst
** byte-compile and prepare package for lazy loading
in method for 'densityplot' with signature 'x="formula",data="view"': no definition for class "view"
in method for 'densityplot' with signature 'x="formula",data="ncdfFlowSet"': no definition for class "ncdfFlowSet"
in method for 'densityplot' with signature 'x="formula",data="ncdfFlowList"': no definition for class "ncdfFlowList"
in method for 'histogram' with signature 'x="formula",data="ncdfFlowSet"': no definition for class "ncdfFlowSet"
in method for 'histogram' with signature 'x="formula",data="ncdfFlowList"': no definition for class "ncdfFlowList"
in method for 'glines' with signature 'x="norm2Filter",data="ANY"': no definition for class "norm2Filter"
in method for 'glines' with signature 'x="norm2Filter",data="logicalFilterResult"': no definition for class "norm2Filter"
in method for 'glines' with signature 'x="norm2Filter",data="flowFrame"': no definition for class "norm2Filter"
in method for 'glpoints' with signature 'x="norm2Filter",data="flowFrame",channels="character"': no definition for class "norm2Filter"
in method for 'glpolygon' with signature 'x="norm2Filter",data="ANY"': no definition for class "norm2Filter"
in method for 'glpolygon' with signature 'x="norm2Filter",data="logicalFilterResult"': no definition for class "norm2Filter"
in method for 'glpolygon' with signature 'x="norm2Filter",data="flowFrame"': no definition for class "norm2Filter"
in method for 'gpoints' with signature 'x="norm2Filter",data="flowFrame",channels="character"': no definition for class "norm2Filter"
in method for 'gpolygon' with signature 'x="norm2Filter",data="ANY"': no definition for class "norm2Filter"
in method for 'gpolygon' with signature 'x="norm2Filter",data="logicalFilterResult"': no definition for class "norm2Filter"
in method for 'gpolygon' with signature 'x="norm2Filter",data="flowFrame"': no definition for class "norm2Filter"
in method for 'xyplot' with signature 'x="formula",data="view"': no definition for class "view"
in method for 'xyplot' with signature 'x="view",data="missing"': no definition for class "view"
in method for 'xyplot' with signature 'x="formula",data="gateView"': no definition for class "gateView"
in method for 'xyplot' with signature 'x="formula",data="ncdfFlowSet"': no definition for class "ncdfFlowSet"
in method for 'xyplot' with signature 'x="formula",data="ncdfFlowList"': no definition for class "ncdfFlowList"
** help
*** installing help indices
converting help for package 'flowViz'
finding HTML links ... done
addName-methods html
contour-methods html
densityplot html
dot-process_flowFrame_overlay html
dot-process_overlay_flowSet html
ecdfplot html
flowPlot html
flowViz-package html
flowViz.par.get html
glines-methods html
glpoints-methods html
glpolygon-methods html
gpoints-methods html
gpolygon-methods html
lattice-methods html
plot html
splom html
timeLinePlot html
REDIRECT:topic Previous alias or file overwritten by alias: D:/biocbuild/bbs-3.15-bioc/meat/flowViz.buildbin-libdir/00LOCK-flowViz/00new/flowViz/help/timelineplot.html
xyplot html
** building package indices
** installing vignettes
** testing if installed package can be loaded from temporary location
** testing if installed package can be loaded from final location
** testing if installed package keeps a record of temporary installation path
* MD5 sums
packaged installation of 'flowViz' as flowViz_1.59.0.zip
* DONE (flowViz)