| Back to Multiple platform build/check report for BioC 3.15 | 
  | 
This page was generated on 2022-03-18 11:07:31 -0400 (Fri, 18 Mar 2022).
| Hostname | OS | Arch (*) | R version | Installed pkgs | 
|---|---|---|---|---|
| nebbiolo1 | Linux (Ubuntu 20.04.4 LTS) | x86_64 | R Under development (unstable) (2022-02-17 r81757) -- "Unsuffered Consequences" | 4334 | 
| riesling1 | Windows Server 2019 Standard | x64 | R Under development (unstable) (2021-11-21 r81221) -- "Unsuffered Consequences" | 4097 | 
| palomino3 | Windows Server 2022 Datacenter | x64 | R Under development (unstable) (2022-02-17 r81757 ucrt) -- "Unsuffered Consequences" | 4083 | 
| merida1 | macOS 10.14.6 Mojave | x86_64 | R Under development (unstable) (2022-03-02 r81842) -- "Unsuffered Consequences" | 4134 | 
| Click on any hostname to see more info about the system (e.g. compilers) (*) as reported by 'uname -p', except on Windows and Mac OS X | ||||
| 
To the developers/maintainers of the flowMatch package: - Please allow up to 24 hours (and sometimes 48 hours) for your latest push to git@git.bioconductor.org:packages/flowMatch.git to reflect on this report. See How and When does the builder pull? When will my changes propagate? here for more information. - Make sure to use the following settings in order to reproduce any error or warning you see on this page.  | 
| Package 666/2090 | Hostname | OS / Arch | INSTALL | BUILD | CHECK | BUILD BIN | ||||||||
| flowMatch 1.31.0  (landing page) Ariful Azad 
  | nebbiolo1 | Linux (Ubuntu 20.04.4 LTS) / x86_64 | OK | OK | OK | |||||||||
| riesling1 | Windows Server 2019 Standard / x64 | OK | OK | OK | OK | |||||||||
| palomino3 | Windows Server 2022 Datacenter / x64 | OK | OK | OK | OK | |||||||||
| merida1 | macOS 10.14.6 Mojave / x86_64 | OK | OK | OK | OK | |||||||||
| Package: flowMatch | 
| Version: 1.31.0 | 
| Command: rm -rf flowMatch.buildbin-libdir && mkdir flowMatch.buildbin-libdir && D:\biocbuild\bbs-3.15-bioc\R\bin\R.exe CMD INSTALL --build --library=flowMatch.buildbin-libdir flowMatch_1.31.0.tar.gz | 
| StartedAt: 2022-03-17 21:08:39 -0400 (Thu, 17 Mar 2022) | 
| EndedAt: 2022-03-17 21:09:39 -0400 (Thu, 17 Mar 2022) | 
| EllapsedTime: 59.9 seconds | 
| RetCode: 0 | 
| Status: OK | 
| PackageFile: flowMatch_1.31.0.zip | 
| PackageFileSize: 4.183 MiB | 
##############################################################################
##############################################################################
###
### Running command:
###
###   rm -rf flowMatch.buildbin-libdir && mkdir flowMatch.buildbin-libdir && D:\biocbuild\bbs-3.15-bioc\R\bin\R.exe CMD INSTALL --build --library=flowMatch.buildbin-libdir flowMatch_1.31.0.tar.gz
###
##############################################################################
##############################################################################
* installing *source* package 'flowMatch' ...
** using staged installation
** libs
"C:/rtools40/mingw64/bin/"g++ -std=gnu++11  -I"D:/biocbuild/bbs-3.15-bioc/R/include" -DNDEBUG  -I'D:/biocbuild/bbs-3.15-bioc/R/library/Rcpp/include'   -I"C:/extsoft/include"     -O2 -Wall  -mfpmath=sse -msse2 -mstackrealign -fno-reorder-blocks-and-partition  -c BipartiteGraph.cpp -o BipartiteGraph.o
"C:/rtools40/mingw64/bin/"g++ -std=gnu++11  -I"D:/biocbuild/bbs-3.15-bioc/R/include" -DNDEBUG  -I'D:/biocbuild/bbs-3.15-bioc/R/library/Rcpp/include'   -I"C:/extsoft/include"     -O2 -Wall  -mfpmath=sse -msse2 -mstackrealign -fno-reorder-blocks-and-partition  -c MinWghtEdgCoverBipartite.cpp -o MinWghtEdgCoverBipartite.o
MinWghtEdgCoverBipartite.cpp: In function 'void update_height(mclust&, std::vector<std::vector<templatePair> >, std::vector<std::vector<BipartiteGraph> >, double)':
MinWghtEdgCoverBipartite.cpp:271:16: warning: comparison of integer expressions of different signedness: 'int' and 'std::vector<double>::size_type' {aka 'long long unsigned int'} [-Wsign-compare]
  for(int i=0; i<tree.height.size(); i++)
               ~^~~~~~~~~~~~~~~~~~~
MinWghtEdgCoverBipartite.cpp: In function 'void computeDegConsistencyNew(std::vector<std::vector<templatePair> >&, std::vector<std::vector<BipartiteGraph> >&, double, double)':
MinWghtEdgCoverBipartite.cpp:487:10: warning: variable 'delta_cx_cy' set but not used [-Wunused-but-set-variable]
      int delta_cx_cy  = 0;
          ^~~~~~~~~~~
MinWghtEdgCoverBipartite.cpp: In function 'classTemplate buildTemplate(std::vector<std::vector<templatePair> >&, double, mclust&)':
MinWghtEdgCoverBipartite.cpp:804:12: warning: 'template2' may be used uninitialized in this function [-Wmaybe-uninitialized]
   rearrange(templatePairs, mergedTemplate, template1, template2,lambda);
   ~~~~~~~~~^~~~~~~~~~~~~~~~~~~~~~~~~~~~~~~~~~~~~~~~~~~~~~~~~~~~~~~~~~~~
MinWghtEdgCoverBipartite.cpp:804:12: warning: 'template1' may be used uninitialized in this function [-Wmaybe-uninitialized]
"C:/rtools40/mingw64/bin/"g++ -std=gnu++11  -I"D:/biocbuild/bbs-3.15-bioc/R/include" -DNDEBUG  -I'D:/biocbuild/bbs-3.15-bioc/R/library/Rcpp/include'   -I"C:/extsoft/include"     -O2 -Wall  -mfpmath=sse -msse2 -mstackrealign -fno-reorder-blocks-and-partition  -c flowMatch.cpp -o flowMatch.o
flowMatch.cpp: In function 'Rcpp::List computeMEC(Rcpp::NumericMatrix, double)':
flowMatch.cpp:43:16: warning: comparison of integer expressions of different signedness: 'int' and 'std::vector<std::vector<int> >::size_type' {aka 'long long unsigned int'} [-Wsign-compare]
  for(int i=0; i<mec.sCoverVecVec.size(); i++)
               ~^~~~~~~~~~~~~~~~~~~~~~~~
flowMatch.cpp:45:17: warning: comparison of integer expressions of different signedness: 'int' and 'std::vector<int>::size_type' {aka 'long long unsigned int'} [-Wsign-compare]
   for(int j=0; j<mec.sCoverVecVec[i].size(); j++)
                ~^~~~~~~~~~~~~~~~~~~~~~~~~~~
flowMatch.cpp:53:16: warning: comparison of integer expressions of different signedness: 'int' and 'std::vector<std::vector<int> >::size_type' {aka 'long long unsigned int'} [-Wsign-compare]
  for(int i=0; i<mec.tCoverVecVec.size(); i++)
               ~^~~~~~~~~~~~~~~~~~~~~~~~
flowMatch.cpp:55:17: warning: comparison of integer expressions of different signedness: 'int' and 'std::vector<int>::size_type' {aka 'long long unsigned int'} [-Wsign-compare]
   for(int j=0; j<mec.tCoverVecVec[i].size(); j++)
                ~^~~~~~~~~~~~~~~~~~~~~~~~~~~
C:/rtools40/mingw64/bin/g++ -std=gnu++11 -shared -s -static-libgcc -o flowMatch.dll tmp.def BipartiteGraph.o MinWghtEdgCoverBipartite.o flowMatch.o -LC:/extsoft/lib/x64 -LC:/extsoft/lib -LD:/biocbuild/bbs-3.15-bioc/R/bin/x64 -lR
installing to D:/biocbuild/bbs-3.15-bioc/meat/flowMatch.buildbin-libdir/00LOCK-flowMatch/00new/flowMatch/libs/x64
** R
** inst
** byte-compile and prepare package for lazy loading
** help
*** installing help indices
  converting help for package 'flowMatch'
    finding HTML links ... done
    Cluster-class                           html  
    ClusterMatch-class                      html  
    ClusteredSample-class                   html  
    MetaCluster-class                       html  
    Template-class                          html  
    create.template                         html  
    dist.cluster                            html  
    dist.matrix                             html  
    dist.sample                             html  
    dist.template                           html  
    flowMatch-package                       html  
    mahalanobis.dist                        html  
    match.clusters                          html  
    symmetric.KL                            html  
    template.tree                           html  
** building package indices
** installing vignettes
** testing if installed package can be loaded from temporary location
** testing if installed package can be loaded from final location
** testing if installed package keeps a record of temporary installation path
* MD5 sums
packaged installation of 'flowMatch' as flowMatch_1.31.0.zip
* DONE (flowMatch)