| Back to Multiple platform build/check report for BioC 3.15 |
|
This page was generated on 2022-10-19 13:22:56 -0400 (Wed, 19 Oct 2022).
| Hostname | OS | Arch (*) | R version | Installed pkgs |
|---|---|---|---|---|
| nebbiolo1 | Linux (Ubuntu 20.04.5 LTS) | x86_64 | 4.2.1 (2022-06-23) -- "Funny-Looking Kid" | 4386 |
| palomino3 | Windows Server 2022 Datacenter | x64 | 4.2.1 (2022-06-23 ucrt) -- "Funny-Looking Kid" | 4138 |
| merida1 | macOS 10.14.6 Mojave | x86_64 | 4.2.1 (2022-06-23) -- "Funny-Looking Kid" | 4205 |
| Click on any hostname to see more info about the system (e.g. compilers) (*) as reported by 'uname -p', except on Windows and Mac OS X | ||||
|
To the developers/maintainers of the flowFP package: - Please allow up to 24 hours (and sometimes 48 hours) for your latest push to git@git.bioconductor.org:packages/flowFP.git to reflect on this report. See How and When does the builder pull? When will my changes propagate? for more information. - Make sure to use the following settings in order to reproduce any error or warning you see on this page. |
| Package 682/2140 | Hostname | OS / Arch | INSTALL | BUILD | CHECK | BUILD BIN | ||||||||
| flowFP 1.54.0 (landing page) Herb Holyst
| nebbiolo1 | Linux (Ubuntu 20.04.5 LTS) / x86_64 | OK | OK | OK | |||||||||
| palomino3 | Windows Server 2022 Datacenter / x64 | OK | OK | OK | OK | |||||||||
| merida1 | macOS 10.14.6 Mojave / x86_64 | OK | OK | OK | OK | |||||||||
| Package: flowFP |
| Version: 1.54.0 |
| Command: rm -rf flowFP.buildbin-libdir && mkdir flowFP.buildbin-libdir && /Users/biocbuild/BBS/utils/build-universal.sh flowFP_1.54.0.tar.gz /Library/Frameworks/R.framework/Resources/bin/R flowFP.buildbin-libdir |
| StartedAt: 2022-10-19 10:22:08 -0400 (Wed, 19 Oct 2022) |
| EndedAt: 2022-10-19 10:22:38 -0400 (Wed, 19 Oct 2022) |
| EllapsedTime: 29.7 seconds |
| RetCode: 0 |
| Status: OK |
| PackageFile: flowFP_1.54.0.tgz |
| PackageFileSize: 5.522 MiB |
############################################################################## ############################################################################## ### ### Running command: ### ### rm -rf flowFP.buildbin-libdir && mkdir flowFP.buildbin-libdir && /Users/biocbuild/BBS/utils/build-universal.sh flowFP_1.54.0.tar.gz /Library/Frameworks/R.framework/Resources/bin/R flowFP.buildbin-libdir ### ############################################################################## ############################################################################## >>>>>>> >>>>>>> INSTALLATION WITH 'R CMD INSTALL --preclean --no-multiarch --library=flowFP.buildbin-libdir flowFP_1.54.0.tar.gz' >>>>>>> * installing *source* package ‘flowFP’ ... ** using staged installation configure: creating ./config.status config.status: creating src/Makevars ** libs clang -mmacosx-version-min=10.13 -I"/Library/Frameworks/R.framework/Resources/include" -DNDEBUG -I/usr/local/include -fPIC -Wall -g -O2 -c flowFP.c -o flowFP.o clang -mmacosx-version-min=10.13 -I"/Library/Frameworks/R.framework/Resources/include" -DNDEBUG -I/usr/local/include -fPIC -Wall -g -O2 -c init.c -o init.o clang -mmacosx-version-min=10.13 -I"/Library/Frameworks/R.framework/Resources/include" -DNDEBUG -I/usr/local/include -fPIC -Wall -g -O2 -c split_utils.c -o split_utils.o clang -mmacosx-version-min=10.13 -dynamiclib -Wl,-headerpad_max_install_names -undefined dynamic_lookup -single_module -multiply_defined suppress -L/Library/Frameworks/R.framework/Resources/lib -L/usr/local/lib -o flowFP.so flowFP.o init.o split_utils.o -F/Library/Frameworks/R.framework/.. -framework R -Wl,-framework -Wl,CoreFoundation installing to /Users/biocbuild/bbs-3.15-bioc/meat/flowFP.buildbin-libdir/00LOCK-flowFP/00new/flowFP/libs ** R ** data ** inst ** byte-compile and prepare package for lazy loading Creating a generic function for ‘append’ from package ‘base’ in package ‘flowFP’ ** help *** installing help indices ** building package indices ** installing vignettes ** testing if installed package can be loaded from temporary location ** checking absolute paths in shared objects and dynamic libraries ** testing if installed package can be loaded from final location ** testing if installed package keeps a record of temporary installation path * DONE (flowFP) >>>>>>> >>>>>>> FIXING LINKS FOR flowFP.buildbin-libdir/flowFP/libs/flowFP.so >>>>>>> install_name_tool -change "/usr/local/lib/libgcc_s.1.dylib" "/Library/Frameworks/R.framework/Versions/4.2/Resources/lib/libgcc_s.1.dylib" "flowFP.buildbin-libdir/flowFP/libs/flowFP.so" install_name_tool -change "/usr/local/lib/libgfortran.5.dylib" "/Library/Frameworks/R.framework/Versions/4.2/Resources/lib/libgfortran.5.dylib" "flowFP.buildbin-libdir/flowFP/libs/flowFP.so" install_name_tool -change "/usr/local/lib/libquadmath.0.dylib" "/Library/Frameworks/R.framework/Versions/4.2/Resources/lib/libquadmath.0.dylib" "flowFP.buildbin-libdir/flowFP/libs/flowFP.so"