| Back to Multiple platform build/check report for BioC 3.15 |
|
This page was generated on 2022-10-19 13:22:56 -0400 (Wed, 19 Oct 2022).
| Hostname | OS | Arch (*) | R version | Installed pkgs |
|---|---|---|---|---|
| nebbiolo1 | Linux (Ubuntu 20.04.5 LTS) | x86_64 | 4.2.1 (2022-06-23) -- "Funny-Looking Kid" | 4386 |
| palomino3 | Windows Server 2022 Datacenter | x64 | 4.2.1 (2022-06-23 ucrt) -- "Funny-Looking Kid" | 4138 |
| merida1 | macOS 10.14.6 Mojave | x86_64 | 4.2.1 (2022-06-23) -- "Funny-Looking Kid" | 4205 |
| Click on any hostname to see more info about the system (e.g. compilers) (*) as reported by 'uname -p', except on Windows and Mac OS X | ||||
|
To the developers/maintainers of the flowCore package: - Please allow up to 24 hours (and sometimes 48 hours) for your latest push to git@git.bioconductor.org:packages/flowCore.git to reflect on this report. See How and When does the builder pull? When will my changes propagate? for more information. - Make sure to use the following settings in order to reproduce any error or warning you see on this page. |
| Package 678/2140 | Hostname | OS / Arch | INSTALL | BUILD | CHECK | BUILD BIN | ||||||||
| flowCore 2.8.0 (landing page) Mike Jiang
| nebbiolo1 | Linux (Ubuntu 20.04.5 LTS) / x86_64 | OK | OK | OK | |||||||||
| palomino3 | Windows Server 2022 Datacenter / x64 | OK | OK | OK | OK | |||||||||
| merida1 | macOS 10.14.6 Mojave / x86_64 | OK | OK | OK | OK | |||||||||
| Package: flowCore |
| Version: 2.8.0 |
| Command: /Library/Frameworks/R.framework/Resources/bin/R CMD check --install=check:flowCore.install-out.txt --library=/Library/Frameworks/R.framework/Resources/library --no-vignettes --timings flowCore_2.8.0.tar.gz |
| StartedAt: 2022-10-19 02:30:08 -0400 (Wed, 19 Oct 2022) |
| EndedAt: 2022-10-19 02:33:49 -0400 (Wed, 19 Oct 2022) |
| EllapsedTime: 222.0 seconds |
| RetCode: 0 |
| Status: OK |
| CheckDir: flowCore.Rcheck |
| Warnings: 0 |
##############################################################################
##############################################################################
###
### Running command:
###
### /Library/Frameworks/R.framework/Resources/bin/R CMD check --install=check:flowCore.install-out.txt --library=/Library/Frameworks/R.framework/Resources/library --no-vignettes --timings flowCore_2.8.0.tar.gz
###
##############################################################################
##############################################################################
* using log directory ‘/Users/biocbuild/bbs-3.15-bioc/meat/flowCore.Rcheck’
* using R version 4.2.1 (2022-06-23)
* using platform: x86_64-apple-darwin17.0 (64-bit)
* using session charset: UTF-8
* using option ‘--no-vignettes’
* checking for file ‘flowCore/DESCRIPTION’ ... OK
* this is package ‘flowCore’ version ‘2.8.0’
* package encoding: UTF-8
* checking package namespace information ... OK
* checking package dependencies ... OK
* checking if this is a source package ... OK
* checking if there is a namespace ... OK
* checking for hidden files and directories ... OK
* checking for portable file names ... OK
* checking for sufficient/correct file permissions ... OK
* checking whether package ‘flowCore’ can be installed ... OK
* checking installed package size ... NOTE
installed size is 8.6Mb
sub-directories of 1Mb or more:
R 1.1Mb
data 5.0Mb
extdata 1.1Mb
* checking package directory ... OK
* checking ‘build’ directory ... OK
* checking DESCRIPTION meta-information ... OK
* checking top-level files ... OK
* checking for left-over files ... OK
* checking index information ... OK
* checking package subdirectories ... OK
* checking R files for non-ASCII characters ... OK
* checking R files for syntax errors ... OK
* checking whether the package can be loaded ... OK
* checking whether the package can be loaded with stated dependencies ... OK
* checking whether the package can be unloaded cleanly ... OK
* checking whether the namespace can be loaded with stated dependencies ... OK
* checking whether the namespace can be unloaded cleanly ... OK
* checking dependencies in R code ... OK
* checking S3 generic/method consistency ... OK
* checking replacement functions ... OK
* checking foreign function calls ... OK
* checking R code for possible problems ... NOTE
eval,compensatedParameter-missing : <anonymous>: no visible binding for
global variable ‘mat’
eval,compensatedParameter-missing : <anonymous>: no visible binding for
global variable ‘msv’
show,flowFrame: no visible global function definition for
‘capture.output’
Undefined global functions or variables:
capture.output mat msv
Consider adding
importFrom("utils", "capture.output")
to your NAMESPACE file.
* checking Rd files ... OK
* checking Rd metadata ... OK
* checking Rd cross-references ... OK
* checking for missing documentation entries ... OK
* checking for code/documentation mismatches ... OK
* checking Rd \usage sections ... OK
* checking Rd contents ... OK
* checking for unstated dependencies in examples ... OK
* checking contents of ‘data’ directory ... OK
* checking data for non-ASCII characters ... OK
* checking data for ASCII and uncompressed saves ... OK
* checking line endings in C/C++/Fortran sources/headers ... OK
* checking line endings in Makefiles ... OK
* checking compilation flags in Makevars ... OK
* checking for GNU extensions in Makefiles ... OK
* checking for portable use of $(BLAS_LIBS) and $(LAPACK_LIBS) ... OK
* checking use of PKG_*FLAGS in Makefiles ... OK
* checking compiled code ... NOTE
Note: information on .o files is not available
File ‘/Library/Frameworks/R.framework/Versions/4.2/Resources/library/flowCore/libs/flowCore.so’:
Found ‘_rand’, possibly from ‘rand’ (C)
Found ‘_srand’, possibly from ‘srand’ (C)
Compiled code should not call entry points which might terminate R nor
write to stdout/stderr instead of to the console, nor use Fortran I/O
nor system RNGs. The detected symbols are linked into the code but
might come from libraries and not actually be called.
See ‘Writing portable packages’ in the ‘Writing R Extensions’ manual.
* checking sizes of PDF files under ‘inst/doc’ ... OK
* checking installed files from ‘inst/doc’ ... OK
* checking files in ‘vignettes’ ... OK
* checking examples ... OK
Examples with CPU (user + system) or elapsed time > 5s
user system elapsed
filterResultList-class 8.270 0.274 8.581
flowFrame-class 5.709 0.175 5.913
* checking for unstated dependencies in ‘tests’ ... OK
* checking tests ...
Running ‘testthat.R’
OK
* checking for unstated dependencies in vignettes ... OK
* checking package vignettes in ‘inst/doc’ ... OK
* checking running R code from vignettes ... SKIPPED
* checking re-building of vignette outputs ... SKIPPED
* checking PDF version of manual ... OK
* DONE
Status: 3 NOTEs
See
‘/Users/biocbuild/bbs-3.15-bioc/meat/flowCore.Rcheck/00check.log’
for details.
flowCore.Rcheck/00install.out
############################################################################## ############################################################################## ### ### Running command: ### ### /Library/Frameworks/R.framework/Resources/bin/R CMD INSTALL flowCore ### ############################################################################## ############################################################################## * installing to library ‘/Library/Frameworks/R.framework/Versions/4.2/Resources/library’ * installing *source* package ‘flowCore’ ... ** using staged installation ** libs clang++ -mmacosx-version-min=10.13 -std=gnu++11 -I"/Library/Frameworks/R.framework/Resources/include" -DNDEBUG -I'/Library/Frameworks/R.framework/Versions/4.2/Resources/library/Rcpp/include' -I'/Library/Frameworks/R.framework/Versions/4.2/Resources/library/RcppArmadillo/include' -I'/Library/Frameworks/R.framework/Versions/4.2/Resources/library/BH/include' -I'/Library/Frameworks/R.framework/Versions/4.2/Resources/library/cytolib/include' -I'/Library/Frameworks/R.framework/Versions/4.2/Resources/library/RProtoBufLib/include' -I/usr/local/include -fPIC -Wall -g -O2 -c FastLogicle.cpp -o FastLogicle.o clang++ -mmacosx-version-min=10.13 -std=gnu++11 -I"/Library/Frameworks/R.framework/Resources/include" -DNDEBUG -I'/Library/Frameworks/R.framework/Versions/4.2/Resources/library/Rcpp/include' -I'/Library/Frameworks/R.framework/Versions/4.2/Resources/library/RcppArmadillo/include' -I'/Library/Frameworks/R.framework/Versions/4.2/Resources/library/BH/include' -I'/Library/Frameworks/R.framework/Versions/4.2/Resources/library/cytolib/include' -I'/Library/Frameworks/R.framework/Versions/4.2/Resources/library/RProtoBufLib/include' -I/usr/local/include -fPIC -Wall -g -O2 -c Hyperlog.cpp -o Hyperlog.o clang++ -mmacosx-version-min=10.13 -std=gnu++11 -I"/Library/Frameworks/R.framework/Resources/include" -DNDEBUG -I'/Library/Frameworks/R.framework/Versions/4.2/Resources/library/Rcpp/include' -I'/Library/Frameworks/R.framework/Versions/4.2/Resources/library/RcppArmadillo/include' -I'/Library/Frameworks/R.framework/Versions/4.2/Resources/library/BH/include' -I'/Library/Frameworks/R.framework/Versions/4.2/Resources/library/cytolib/include' -I'/Library/Frameworks/R.framework/Versions/4.2/Resources/library/RProtoBufLib/include' -I/usr/local/include -fPIC -Wall -g -O2 -c Logicle.cpp -o Logicle.o clang++ -mmacosx-version-min=10.13 -std=gnu++11 -I"/Library/Frameworks/R.framework/Resources/include" -DNDEBUG -I'/Library/Frameworks/R.framework/Versions/4.2/Resources/library/Rcpp/include' -I'/Library/Frameworks/R.framework/Versions/4.2/Resources/library/RcppArmadillo/include' -I'/Library/Frameworks/R.framework/Versions/4.2/Resources/library/BH/include' -I'/Library/Frameworks/R.framework/Versions/4.2/Resources/library/cytolib/include' -I'/Library/Frameworks/R.framework/Versions/4.2/Resources/library/RProtoBufLib/include' -I/usr/local/include -fPIC -Wall -g -O2 -c RcppExports.cpp -o RcppExports.o clang++ -mmacosx-version-min=10.13 -std=gnu++11 -I"/Library/Frameworks/R.framework/Resources/include" -DNDEBUG -I'/Library/Frameworks/R.framework/Versions/4.2/Resources/library/Rcpp/include' -I'/Library/Frameworks/R.framework/Versions/4.2/Resources/library/RcppArmadillo/include' -I'/Library/Frameworks/R.framework/Versions/4.2/Resources/library/BH/include' -I'/Library/Frameworks/R.framework/Versions/4.2/Resources/library/cytolib/include' -I'/Library/Frameworks/R.framework/Versions/4.2/Resources/library/RProtoBufLib/include' -I/usr/local/include -fPIC -Wall -g -O2 -c biexponential.cpp -o biexponential.o clang++ -mmacosx-version-min=10.13 -std=gnu++11 -I"/Library/Frameworks/R.framework/Resources/include" -DNDEBUG -I'/Library/Frameworks/R.framework/Versions/4.2/Resources/library/Rcpp/include' -I'/Library/Frameworks/R.framework/Versions/4.2/Resources/library/RcppArmadillo/include' -I'/Library/Frameworks/R.framework/Versions/4.2/Resources/library/BH/include' -I'/Library/Frameworks/R.framework/Versions/4.2/Resources/library/cytolib/include' -I'/Library/Frameworks/R.framework/Versions/4.2/Resources/library/RProtoBufLib/include' -I/usr/local/include -fPIC -Wall -g -O2 -c convertRawBytes.cpp -o convertRawBytes.o clang++ -mmacosx-version-min=10.13 -std=gnu++11 -I"/Library/Frameworks/R.framework/Resources/include" -DNDEBUG -I'/Library/Frameworks/R.framework/Versions/4.2/Resources/library/Rcpp/include' -I'/Library/Frameworks/R.framework/Versions/4.2/Resources/library/RcppArmadillo/include' -I'/Library/Frameworks/R.framework/Versions/4.2/Resources/library/BH/include' -I'/Library/Frameworks/R.framework/Versions/4.2/Resources/library/cytolib/include' -I'/Library/Frameworks/R.framework/Versions/4.2/Resources/library/RProtoBufLib/include' -I/usr/local/include -fPIC -Wall -g -O2 -c fcsTextParse.cpp -o fcsTextParse.o clang++ -mmacosx-version-min=10.13 -std=gnu++11 -I"/Library/Frameworks/R.framework/Resources/include" -DNDEBUG -I'/Library/Frameworks/R.framework/Versions/4.2/Resources/library/Rcpp/include' -I'/Library/Frameworks/R.framework/Versions/4.2/Resources/library/RcppArmadillo/include' -I'/Library/Frameworks/R.framework/Versions/4.2/Resources/library/BH/include' -I'/Library/Frameworks/R.framework/Versions/4.2/Resources/library/cytolib/include' -I'/Library/Frameworks/R.framework/Versions/4.2/Resources/library/RProtoBufLib/include' -I/usr/local/include -fPIC -Wall -g -O2 -c hyperlogTransform.cpp -o hyperlogTransform.o clang++ -mmacosx-version-min=10.13 -std=gnu++11 -I"/Library/Frameworks/R.framework/Resources/include" -DNDEBUG -I'/Library/Frameworks/R.framework/Versions/4.2/Resources/library/Rcpp/include' -I'/Library/Frameworks/R.framework/Versions/4.2/Resources/library/RcppArmadillo/include' -I'/Library/Frameworks/R.framework/Versions/4.2/Resources/library/BH/include' -I'/Library/Frameworks/R.framework/Versions/4.2/Resources/library/cytolib/include' -I'/Library/Frameworks/R.framework/Versions/4.2/Resources/library/RProtoBufLib/include' -I/usr/local/include -fPIC -Wall -g -O2 -c inPolygon.cpp -o inPolygon.o clang++ -mmacosx-version-min=10.13 -std=gnu++11 -I"/Library/Frameworks/R.framework/Resources/include" -DNDEBUG -I'/Library/Frameworks/R.framework/Versions/4.2/Resources/library/Rcpp/include' -I'/Library/Frameworks/R.framework/Versions/4.2/Resources/library/RcppArmadillo/include' -I'/Library/Frameworks/R.framework/Versions/4.2/Resources/library/BH/include' -I'/Library/Frameworks/R.framework/Versions/4.2/Resources/library/cytolib/include' -I'/Library/Frameworks/R.framework/Versions/4.2/Resources/library/RProtoBufLib/include' -I/usr/local/include -fPIC -Wall -g -O2 -c inPolytope.cpp -o inPolytope.o clang++ -mmacosx-version-min=10.13 -std=gnu++11 -I"/Library/Frameworks/R.framework/Resources/include" -DNDEBUG -I'/Library/Frameworks/R.framework/Versions/4.2/Resources/library/Rcpp/include' -I'/Library/Frameworks/R.framework/Versions/4.2/Resources/library/RcppArmadillo/include' -I'/Library/Frameworks/R.framework/Versions/4.2/Resources/library/BH/include' -I'/Library/Frameworks/R.framework/Versions/4.2/Resources/library/cytolib/include' -I'/Library/Frameworks/R.framework/Versions/4.2/Resources/library/RProtoBufLib/include' -I/usr/local/include -fPIC -Wall -g -O2 -c logicleTransform.cpp -o logicleTransform.o clang++ -mmacosx-version-min=10.13 -std=gnu++11 -I"/Library/Frameworks/R.framework/Resources/include" -DNDEBUG -I'/Library/Frameworks/R.framework/Versions/4.2/Resources/library/Rcpp/include' -I'/Library/Frameworks/R.framework/Versions/4.2/Resources/library/RcppArmadillo/include' -I'/Library/Frameworks/R.framework/Versions/4.2/Resources/library/BH/include' -I'/Library/Frameworks/R.framework/Versions/4.2/Resources/library/cytolib/include' -I'/Library/Frameworks/R.framework/Versions/4.2/Resources/library/RProtoBufLib/include' -I/usr/local/include -fPIC -Wall -g -O2 -c pairVectorRcppWrap.cpp -o pairVectorRcppWrap.o clang++ -mmacosx-version-min=10.13 -std=gnu++11 -I"/Library/Frameworks/R.framework/Resources/include" -DNDEBUG -I'/Library/Frameworks/R.framework/Versions/4.2/Resources/library/Rcpp/include' -I'/Library/Frameworks/R.framework/Versions/4.2/Resources/library/RcppArmadillo/include' -I'/Library/Frameworks/R.framework/Versions/4.2/Resources/library/BH/include' -I'/Library/Frameworks/R.framework/Versions/4.2/Resources/library/cytolib/include' -I'/Library/Frameworks/R.framework/Versions/4.2/Resources/library/RProtoBufLib/include' -I/usr/local/include -fPIC -Wall -g -O2 -c poly_centroid.cpp -o poly_centroid.o clang++ -mmacosx-version-min=10.13 -std=gnu++11 -I"/Library/Frameworks/R.framework/Resources/include" -DNDEBUG -I'/Library/Frameworks/R.framework/Versions/4.2/Resources/library/Rcpp/include' -I'/Library/Frameworks/R.framework/Versions/4.2/Resources/library/RcppArmadillo/include' -I'/Library/Frameworks/R.framework/Versions/4.2/Resources/library/BH/include' -I'/Library/Frameworks/R.framework/Versions/4.2/Resources/library/cytolib/include' -I'/Library/Frameworks/R.framework/Versions/4.2/Resources/library/RProtoBufLib/include' -I/usr/local/include -fPIC -Wall -g -O2 -c sortBytes.cpp -o sortBytes.o clang++ -mmacosx-version-min=10.13 -std=gnu++11 -I"/Library/Frameworks/R.framework/Resources/include" -DNDEBUG -I'/Library/Frameworks/R.framework/Versions/4.2/Resources/library/Rcpp/include' -I'/Library/Frameworks/R.framework/Versions/4.2/Resources/library/RcppArmadillo/include' -I'/Library/Frameworks/R.framework/Versions/4.2/Resources/library/BH/include' -I'/Library/Frameworks/R.framework/Versions/4.2/Resources/library/cytolib/include' -I'/Library/Frameworks/R.framework/Versions/4.2/Resources/library/RProtoBufLib/include' -I/usr/local/include -fPIC -Wall -g -O2 -c uint2double.cpp -o uint2double.o clang++ -mmacosx-version-min=10.13 -std=gnu++11 -I"/Library/Frameworks/R.framework/Resources/include" -DNDEBUG -I'/Library/Frameworks/R.framework/Versions/4.2/Resources/library/Rcpp/include' -I'/Library/Frameworks/R.framework/Versions/4.2/Resources/library/RcppArmadillo/include' -I'/Library/Frameworks/R.framework/Versions/4.2/Resources/library/BH/include' -I'/Library/Frameworks/R.framework/Versions/4.2/Resources/library/cytolib/include' -I'/Library/Frameworks/R.framework/Versions/4.2/Resources/library/RProtoBufLib/include' -I/usr/local/include -fPIC -Wall -g -O2 -c zeroin.cpp -o zeroin.o clang++ -mmacosx-version-min=10.13 -std=gnu++11 -dynamiclib -Wl,-headerpad_max_install_names -undefined dynamic_lookup -single_module -multiply_defined suppress -L/Library/Frameworks/R.framework/Resources/lib -L/usr/local/lib -o flowCore.so FastLogicle.o Hyperlog.o Logicle.o RcppExports.o biexponential.o convertRawBytes.o fcsTextParse.o hyperlogTransform.o inPolygon.o inPolytope.o logicleTransform.o pairVectorRcppWrap.o poly_centroid.o sortBytes.o uint2double.o zeroin.o /Library/Frameworks/R.framework/Versions/4.2/Resources/library/cytolib/lib/libcytolib.a -F/Library/Frameworks/R.framework/.. -framework R -Wl,-framework -Wl,CoreFoundation if [ `uname -s` = 'Darwin' ]; then install_name_tool -change /usr/local/clang4/lib/libc++.1.dylib /usr/lib/libc++.1.dylib flowCore.so; fi installing to /Library/Frameworks/R.framework/Versions/4.2/Resources/library/00LOCK-flowCore/00new/flowCore/libs ** R ** data ** inst ** byte-compile and prepare package for lazy loading ** help *** installing help indices ** building package indices ** installing vignettes ** testing if installed package can be loaded from temporary location ** checking absolute paths in shared objects and dynamic libraries ** testing if installed package can be loaded from final location ** testing if installed package keeps a record of temporary installation path * DONE (flowCore)
flowCore.Rcheck/tests/testthat.Rout
R version 4.2.1 (2022-06-23) -- "Funny-Looking Kid"
Copyright (C) 2022 The R Foundation for Statistical Computing
Platform: x86_64-apple-darwin17.0 (64-bit)
R is free software and comes with ABSOLUTELY NO WARRANTY.
You are welcome to redistribute it under certain conditions.
Type 'license()' or 'licence()' for distribution details.
R is a collaborative project with many contributors.
Type 'contributors()' for more information and
'citation()' on how to cite R or R packages in publications.
Type 'demo()' for some demos, 'help()' for on-line help, or
'help.start()' for an HTML browser interface to help.
Type 'q()' to quit R.
> library(testthat)
> library(flowCore)
> library(flowStats)
Warning message:
replacing previous import 'flowViz::contour' by 'graphics::contour' when loading 'flowStats'
>
>
> test_check("flowCore")
Loading required package: BiocGenerics
Attaching package: 'BiocGenerics'
The following object is masked from 'package:flowStats':
normalize
The following object is masked from 'package:flowCore':
normalize
The following objects are masked from 'package:stats':
IQR, mad, sd, var, xtabs
The following objects are masked from 'package:base':
Filter, Find, Map, Position, Reduce, anyDuplicated, append,
as.data.frame, basename, cbind, colnames, dirname, do.call,
duplicated, eval, evalq, get, grep, grepl, intersect, is.unsorted,
lapply, mapply, match, mget, order, paste, pmax, pmax.int, pmin,
pmin.int, rank, rbind, rownames, sapply, setdiff, sort, table,
tapply, union, unique, unsplit, which.max, which.min
Welcome to Bioconductor
Vignettes contain introductory material; view with
'browseVignettes()'. To cite Bioconductor, see
'citation("Biobase")', and for packages 'citation("pkgname")'.
[ FAIL 0 | WARN 2 | SKIP 3 | PASS 334 ]
══ Skipped tests ═══════════════════════════════════════════════════════════════
• dir.exists(dataPath) is not TRUE (1)
• file.exists(filename) is not TRUE (2)
[ FAIL 0 | WARN 2 | SKIP 3 | PASS 334 ]
>
> #devtools::test("~/rglab/workspace/flowCore")
>
> proc.time()
user system elapsed
32.014 1.578 33.678
flowCore.Rcheck/flowCore-Ex.timings
| name | user | system | elapsed | |
| EHtrans-class | 0.085 | 0.009 | 0.095 | |
| FCSTransTransform | 1.096 | 0.070 | 1.169 | |
| Subset-methods | 0.404 | 0.014 | 0.420 | |
| arcsinhTransform | 0.101 | 0.002 | 0.103 | |
| asinht-class | 0.041 | 0.001 | 0.043 | |
| asinhtGml2-class | 0.048 | 0.004 | 0.051 | |
| biexponentialTransform | 4.213 | 0.078 | 4.483 | |
| boundaryFilter-class | 0.142 | 0.003 | 0.150 | |
| characterOrNumeric-class | 0.002 | 0.001 | 0.002 | |
| characterOrParameters-class | 0.001 | 0.000 | 0.002 | |
| characterOrTransformation-class | 0.002 | 0.000 | 0.002 | |
| coerce | 0.085 | 0.005 | 0.098 | |
| collapse_desc | 1.090 | 0.051 | 1.192 | |
| compensatedParameter-class | 0.217 | 0.005 | 0.230 | |
| compensation-class | 0.487 | 0.035 | 0.542 | |
| decompensate | 0.078 | 0.003 | 0.083 | |
| dg1polynomial-class | 0.040 | 0.002 | 0.043 | |
| each_col | 0.042 | 0.001 | 0.044 | |
| ellipsoidGate-class | 0.109 | 0.002 | 0.114 | |
| exponential-class | 0.039 | 0.001 | 0.042 | |
| expressionFilter-class | 0.154 | 0.002 | 0.156 | |
| filter-methods | 1.188 | 0.023 | 1.219 | |
| filter-on-methods | 0.156 | 0.007 | 0.165 | |
| filterList-class | 0.009 | 0.000 | 0.009 | |
| filterResult-class | 0.001 | 0.001 | 0.001 | |
| filterResultList-class | 8.270 | 0.274 | 8.581 | |
| filterSummary-class | 0.158 | 0.016 | 0.175 | |
| filterSummaryList-class | 1.125 | 0.048 | 1.176 | |
| flowFrame-class | 5.709 | 0.175 | 5.913 | |
| flowSet-class | 3.802 | 0.162 | 3.977 | |
| fr_append_cols | 0.905 | 0.014 | 0.919 | |
| fsApply | 0.189 | 0.009 | 0.198 | |
| getIndexSort | 0.033 | 0.001 | 0.033 | |
| hyperlog-class | 1.960 | 0.025 | 1.989 | |
| hyperlogtGml2-class | 0.041 | 0.001 | 0.041 | |
| identifier-methods | 0.034 | 0.001 | 0.035 | |
| inverseLogicleTransform | 0.982 | 0.016 | 1.000 | |
| invsplitscale-class | 0.041 | 0.001 | 0.042 | |
| keyword-methods | 0.929 | 0.022 | 0.952 | |
| kmeansFilter-class | 0.215 | 0.002 | 0.217 | |
| linearTransform | 0.047 | 0.001 | 0.048 | |
| lintGml2-class | 0.037 | 0.001 | 0.037 | |
| lnTransform | 1.509 | 0.043 | 1.556 | |
| logTransform | 0.056 | 0.002 | 0.059 | |
| logarithm-class | 0.037 | 0.001 | 0.038 | |
| logicalFilterResult-class | 0.001 | 0.000 | 0.001 | |
| logicleTransform | 1.002 | 0.020 | 1.022 | |
| logicletGml2-class | 0.055 | 0.001 | 0.057 | |
| logtGml2-class | 0.041 | 0.001 | 0.041 | |
| manyFilterResult-class | 0.001 | 0.000 | 0.001 | |
| markernames | 0.940 | 0.018 | 0.960 | |
| multipleFilterResult-class | 0.001 | 0.000 | 0.001 | |
| parameters-methods | 0.038 | 0.001 | 0.040 | |
| polygonGate-class | 0.091 | 0.002 | 0.093 | |
| quadGate-class | 0.684 | 0.021 | 0.705 | |
| quadratic-class | 0.039 | 0.001 | 0.040 | |
| quadraticTransform | 0.048 | 0.001 | 0.049 | |
| ratio-class | 0.050 | 0.001 | 0.050 | |
| ratiotGml2-class | 0.038 | 0.001 | 0.038 | |
| read.FCS | 0.122 | 0.003 | 0.124 | |
| read.FCSheader | 0.009 | 0.003 | 0.011 | |
| read.flowSet | 0.140 | 0.001 | 0.142 | |
| rectangleGate-class | 0.148 | 0.001 | 0.149 | |
| rotate_gate | 0.000 | 0.000 | 0.001 | |
| sampleFilter-class | 0.081 | 0.001 | 0.082 | |
| scaleTransform | 0.049 | 0.000 | 0.050 | |
| scale_gate | 0 | 0 | 0 | |
| shift_gate | 0.000 | 0.000 | 0.001 | |
| singleParameterTransform-class | 0.001 | 0.000 | 0.002 | |
| sinht-class | 0.040 | 0.001 | 0.041 | |
| split-methods | 1.492 | 0.028 | 1.522 | |
| splitScaleTransform | 1.479 | 0.026 | 1.509 | |
| splitscale-class | 0.039 | 0.001 | 0.040 | |
| squareroot-class | 0.038 | 0.001 | 0.038 | |
| timeFilter-class | 2.451 | 0.045 | 2.501 | |
| transform-class | 0.001 | 0.000 | 0.002 | |
| transform | 1.675 | 0.019 | 1.698 | |
| transformFilter-class | 0.639 | 0.020 | 0.661 | |
| transformList-class | 0.905 | 0.011 | 0.918 | |
| transformMap-class | 0.000 | 0.000 | 0.001 | |
| transform_gate | 0 | 0 | 0 | |
| truncateTransform | 0.049 | 0.001 | 0.050 | |
| unitytransform-class | 0.034 | 0.001 | 0.035 | |
| write.FCS | 0.070 | 0.002 | 0.073 | |
| write.flowSet | 1.196 | 0.022 | 1.223 | |