| Back to Multiple platform build/check report for BioC 3.15 | 
 | 
This page was generated on 2022-10-19 13:21:29 -0400 (Wed, 19 Oct 2022).
| Hostname | OS | Arch (*) | R version | Installed pkgs | 
|---|---|---|---|---|
| nebbiolo1 | Linux (Ubuntu 20.04.5 LTS) | x86_64 | 4.2.1 (2022-06-23) -- "Funny-Looking Kid" | 4386 | 
| palomino3 | Windows Server 2022 Datacenter | x64 | 4.2.1 (2022-06-23 ucrt) -- "Funny-Looking Kid" | 4138 | 
| merida1 | macOS 10.14.6 Mojave | x86_64 | 4.2.1 (2022-06-23) -- "Funny-Looking Kid" | 4205 | 
| Click on any hostname to see more info about the system (e.g. compilers) (*) as reported by 'uname -p', except on Windows and Mac OS X | ||||
| To the developers/maintainers of the flowCL package: - Please allow up to 24 hours (and sometimes 48 hours) for your latest push to git@git.bioconductor.org:packages/flowCL.git to reflect on this report. See How and When does the builder pull? When will my changes propagate? for more information. - Make sure to use the following settings in order to reproduce any error or warning you see on this page. | 
| Package 675/2140 | Hostname | OS / Arch | INSTALL | BUILD | CHECK | BUILD BIN | ||||||||
| flowCL 1.34.0  (landing page) Justin Meskas 
 | nebbiolo1 | Linux (Ubuntu 20.04.5 LTS) / x86_64 | ERROR | ERROR | skipped | |||||||||
| palomino3 | Windows Server 2022 Datacenter / x64 | ERROR | ERROR | skipped | skipped | |||||||||
| merida1 | macOS 10.14.6 Mojave / x86_64 | ERROR | ERROR | skipped | skipped | |||||||||
| Package: flowCL | 
| Version: 1.34.0 | 
| Command: chmod a+r flowCL -R && F:\biocbuild\bbs-3.15-bioc\R\bin\R.exe CMD build --keep-empty-dirs --no-resave-data flowCL | 
| StartedAt: 2022-10-18 18:33:18 -0400 (Tue, 18 Oct 2022) | 
| EndedAt: 2022-10-18 18:33:20 -0400 (Tue, 18 Oct 2022) | 
| EllapsedTime: 2.0 seconds | 
| RetCode: 1 | 
| Status: ERROR | 
| PackageFile: None | 
| PackageFileSize: NA | 
##############################################################################
##############################################################################
###
### Running command:
###
###   chmod a+r flowCL -R && F:\biocbuild\bbs-3.15-bioc\R\bin\R.exe CMD build --keep-empty-dirs --no-resave-data flowCL
###
##############################################################################
##############################################################################
* checking for file 'flowCL/DESCRIPTION' ... OK
* preparing 'flowCL':
* checking DESCRIPTION meta-information ... OK
* installing the package to build vignettes
      -----------------------------------
ERROR: dependency 'SPARQL' is not available for package 'flowCL'
* removing 'F:/biocbuild/bbs-3.15-bioc/tmpdir/RtmpM9ocSZ/Rinst3cb4449f3d02/flowCL'
      -----------------------------------
ERROR: package installation failed