Back to Multiple platform build/check report for BioC 3.15 |
|
This page was generated on 2022-03-18 11:07:29 -0400 (Fri, 18 Mar 2022).
Hostname | OS | Arch (*) | R version | Installed pkgs |
---|---|---|---|---|
nebbiolo1 | Linux (Ubuntu 20.04.4 LTS) | x86_64 | R Under development (unstable) (2022-02-17 r81757) -- "Unsuffered Consequences" | 4334 |
riesling1 | Windows Server 2019 Standard | x64 | R Under development (unstable) (2021-11-21 r81221) -- "Unsuffered Consequences" | 4097 |
palomino3 | Windows Server 2022 Datacenter | x64 | R Under development (unstable) (2022-02-17 r81757 ucrt) -- "Unsuffered Consequences" | 4083 |
merida1 | macOS 10.14.6 Mojave | x86_64 | R Under development (unstable) (2022-03-02 r81842) -- "Unsuffered Consequences" | 4134 |
Click on any hostname to see more info about the system (e.g. compilers) (*) as reported by 'uname -p', except on Windows and Mac OS X |
To the developers/maintainers of the fabia package: - Please allow up to 24 hours (and sometimes 48 hours) for your latest push to git@git.bioconductor.org:packages/fabia.git to reflect on this report. See How and When does the builder pull? When will my changes propagate? here for more information. - Make sure to use the following settings in order to reproduce any error or warning you see on this page. |
Package 623/2090 | Hostname | OS / Arch | INSTALL | BUILD | CHECK | BUILD BIN | ||||||||
fabia 2.41.0 (landing page) Andreas Mitterecker
| nebbiolo1 | Linux (Ubuntu 20.04.4 LTS) / x86_64 | OK | OK | OK | |||||||||
riesling1 | Windows Server 2019 Standard / x64 | OK | OK | OK | OK | |||||||||
palomino3 | Windows Server 2022 Datacenter / x64 | OK | OK | OK | OK | |||||||||
merida1 | macOS 10.14.6 Mojave / x86_64 | OK | OK | OK | OK | |||||||||
Package: fabia |
Version: 2.41.0 |
Command: rm -rf fabia.buildbin-libdir && mkdir fabia.buildbin-libdir && D:\biocbuild\bbs-3.15-bioc\R\bin\R.exe CMD INSTALL --build --library=fabia.buildbin-libdir fabia_2.41.0.tar.gz |
StartedAt: 2022-03-17 21:07:40 -0400 (Thu, 17 Mar 2022) |
EndedAt: 2022-03-17 21:08:44 -0400 (Thu, 17 Mar 2022) |
EllapsedTime: 63.5 seconds |
RetCode: 0 |
Status: OK |
PackageFile: fabia_2.41.0.zip |
PackageFileSize: 1.17 MiB |
############################################################################## ############################################################################## ### ### Running command: ### ### rm -rf fabia.buildbin-libdir && mkdir fabia.buildbin-libdir && D:\biocbuild\bbs-3.15-bioc\R\bin\R.exe CMD INSTALL --build --library=fabia.buildbin-libdir fabia_2.41.0.tar.gz ### ############################################################################## ############################################################################## * installing *source* package 'fabia' ... ** using staged installation ** libs running 'src/Makefile.win' ... rm -f fabia.o fabia.dll *.a *.o *.so *.dll "C:/rtools40/mingw64/bin/"gcc -c fabiac.c -o fabia.o -I"D:/biocbuild/bbs-3.15-bioc/R/include" -Wall -O3 "C:/rtools40/mingw64/bin/"gcc -shared -s -static-libgcc fabia.o -L"D:/biocbuild/bbs-3.15-bioc/R/bin/x64" -lR -o fabia.dll rm -f fabia.o *.a *.o *.so installing to D:/biocbuild/bbs-3.15-bioc/meat/fabia.buildbin-libdir/00LOCK-fabia/00new/fabia/libs/x64 ** R ** demo ** inst ** byte-compile and prepare package for lazy loading ** help *** installing help indices converting help for package 'fabia' finding HTML links ... done Factorization-class html REDIRECT:topic Previous alias or file overwritten by alias: D:/biocbuild/bbs-3.15-bioc/meat/fabia.buildbin-libdir/00LOCK-fabia/00new/fabia/help/L.html REDIRECT:topic Previous alias or file overwritten by alias: D:/biocbuild/bbs-3.15-bioc/meat/fabia.buildbin-libdir/00LOCK-fabia/00new/fabia/help/L+2CFactorization-method.html REDIRECT:topic Previous alias or file overwritten by alias: D:/biocbuild/bbs-3.15-bioc/meat/fabia.buildbin-libdir/00LOCK-fabia/00new/fabia/help/L+3C-.html estimateMode html extractBic html extractPlot html fabi html fabia html fabiaDemo html fabiaVersion html fabiap html fabias html fabiasp html makeFabiaData html makeFabiaDataBlocks html makeFabiaDataBlocksPos html makeFabiaDataPos html matrixImagePlot html mfsc html nmfdiv html nmfeu html nmfsc html plotBicluster html projFunc html projFuncPos html readSamplesSpfabia html readSpfabiaResult html samplesPerFeature html spfabia html ** building package indices ** installing vignettes ** testing if installed package can be loaded from temporary location ** testing if installed package can be loaded from final location ** testing if installed package keeps a record of temporary installation path * MD5 sums packaged installation of 'fabia' as fabia_2.41.0.zip * DONE (fabia)