| Back to Multiple platform build/check report for BioC 3.15 |
|
This page was generated on 2022-03-18 11:07:27 -0400 (Fri, 18 Mar 2022).
| Hostname | OS | Arch (*) | R version | Installed pkgs |
|---|---|---|---|---|
| nebbiolo1 | Linux (Ubuntu 20.04.4 LTS) | x86_64 | R Under development (unstable) (2022-02-17 r81757) -- "Unsuffered Consequences" | 4334 |
| riesling1 | Windows Server 2019 Standard | x64 | R Under development (unstable) (2021-11-21 r81221) -- "Unsuffered Consequences" | 4097 |
| palomino3 | Windows Server 2022 Datacenter | x64 | R Under development (unstable) (2022-02-17 r81757 ucrt) -- "Unsuffered Consequences" | 4083 |
| merida1 | macOS 10.14.6 Mojave | x86_64 | R Under development (unstable) (2022-03-02 r81842) -- "Unsuffered Consequences" | 4134 |
| Click on any hostname to see more info about the system (e.g. compilers) (*) as reported by 'uname -p', except on Windows and Mac OS X | ||||
|
To the developers/maintainers of the epigenomix package: - Please allow up to 24 hours (and sometimes 48 hours) for your latest push to git@git.bioconductor.org:packages/epigenomix.git to reflect on this report. See How and When does the builder pull? When will my changes propagate? here for more information. - Make sure to use the following settings in order to reproduce any error or warning you see on this page. |
| Package 593/2090 | Hostname | OS / Arch | INSTALL | BUILD | CHECK | BUILD BIN | ||||||||
| epigenomix 1.35.1 (landing page) Hans-Ulrich Klein
| nebbiolo1 | Linux (Ubuntu 20.04.4 LTS) / x86_64 | OK | OK | OK | |||||||||
| riesling1 | Windows Server 2019 Standard / x64 | OK | OK | OK | OK | |||||||||
| palomino3 | Windows Server 2022 Datacenter / x64 | OK | OK | OK | OK | |||||||||
| merida1 | macOS 10.14.6 Mojave / x86_64 | OK | OK | OK | OK | |||||||||
| Package: epigenomix |
| Version: 1.35.1 |
| Command: rm -rf epigenomix.buildbin-libdir && mkdir epigenomix.buildbin-libdir && D:\biocbuild\bbs-3.15-bioc\R\bin\R.exe CMD INSTALL --build --library=epigenomix.buildbin-libdir epigenomix_1.35.1.tar.gz |
| StartedAt: 2022-03-17 21:06:45 -0400 (Thu, 17 Mar 2022) |
| EndedAt: 2022-03-17 21:08:07 -0400 (Thu, 17 Mar 2022) |
| EllapsedTime: 81.6 seconds |
| RetCode: 0 |
| Status: OK |
| PackageFile: epigenomix_1.35.1.zip |
| PackageFileSize: 1.021 MiB |
##############################################################################
##############################################################################
###
### Running command:
###
### rm -rf epigenomix.buildbin-libdir && mkdir epigenomix.buildbin-libdir && D:\biocbuild\bbs-3.15-bioc\R\bin\R.exe CMD INSTALL --build --library=epigenomix.buildbin-libdir epigenomix_1.35.1.tar.gz
###
##############################################################################
##############################################################################
* installing *source* package 'epigenomix' ...
** using staged installation
** R
** data
** inst
** byte-compile and prepare package for lazy loading
** help
*** installing help indices
converting help for package 'epigenomix'
finding HTML links ... done
ChIPseqSet-class html
finding level-2 HTML links ... done
MixModel-class html
MixModelBayes-class html
MixModelML-class html
MixtureComponent-class html
bayesMixModel html
calculateCrossCorrelation html
eSet html
fpkm html
getAlignmentQuality html
integrateData html
mappedReads html
matchProbeToPromoter html
mlMixModel html
normalize html
normalizeChIP html
plotChains html
plotClassification html
plotComponents html
summarizeReads html
transToTSS html
** building package indices
** installing vignettes
** testing if installed package can be loaded from temporary location
** testing if installed package can be loaded from final location
** testing if installed package keeps a record of temporary installation path
* MD5 sums
packaged installation of 'epigenomix' as epigenomix_1.35.1.zip
* DONE (epigenomix)