| Back to Multiple platform build/check report for BioC 3.15 |
|
This page was generated on 2022-03-18 11:07:27 -0400 (Fri, 18 Mar 2022).
| Hostname | OS | Arch (*) | R version | Installed pkgs |
|---|---|---|---|---|
| nebbiolo1 | Linux (Ubuntu 20.04.4 LTS) | x86_64 | R Under development (unstable) (2022-02-17 r81757) -- "Unsuffered Consequences" | 4334 |
| riesling1 | Windows Server 2019 Standard | x64 | R Under development (unstable) (2021-11-21 r81221) -- "Unsuffered Consequences" | 4097 |
| palomino3 | Windows Server 2022 Datacenter | x64 | R Under development (unstable) (2022-02-17 r81757 ucrt) -- "Unsuffered Consequences" | 4083 |
| merida1 | macOS 10.14.6 Mojave | x86_64 | R Under development (unstable) (2022-03-02 r81842) -- "Unsuffered Consequences" | 4134 |
| Click on any hostname to see more info about the system (e.g. compilers) (*) as reported by 'uname -p', except on Windows and Mac OS X | ||||
|
To the developers/maintainers of the enrichplot package: - Please allow up to 24 hours (and sometimes 48 hours) for your latest push to git@git.bioconductor.org:packages/enrichplot.git to reflect on this report. See How and When does the builder pull? When will my changes propagate? here for more information. - Make sure to use the following settings in order to reproduce any error or warning you see on this page. |
| Package 586/2090 | Hostname | OS / Arch | INSTALL | BUILD | CHECK | BUILD BIN | ||||||||
| enrichplot 1.15.3 (landing page) Guangchuang Yu
| nebbiolo1 | Linux (Ubuntu 20.04.4 LTS) / x86_64 | OK | OK | OK | |||||||||
| riesling1 | Windows Server 2019 Standard / x64 | OK | OK | OK | OK | |||||||||
| palomino3 | Windows Server 2022 Datacenter / x64 | OK | OK | OK | OK | |||||||||
| merida1 | macOS 10.14.6 Mojave / x86_64 | OK | OK | OK | OK | |||||||||
| Package: enrichplot |
| Version: 1.15.3 |
| Command: D:\biocbuild\bbs-3.15-bioc\R\bin\R.exe CMD check --no-multiarch --install=check:enrichplot.install-out.txt --library=D:\biocbuild\bbs-3.15-bioc\R\library --no-vignettes --timings enrichplot_1.15.3.tar.gz |
| StartedAt: 2022-03-17 19:01:36 -0400 (Thu, 17 Mar 2022) |
| EndedAt: 2022-03-17 19:04:18 -0400 (Thu, 17 Mar 2022) |
| EllapsedTime: 162.1 seconds |
| RetCode: 0 |
| Status: OK |
| CheckDir: enrichplot.Rcheck |
| Warnings: 0 |
##############################################################################
##############################################################################
###
### Running command:
###
### D:\biocbuild\bbs-3.15-bioc\R\bin\R.exe CMD check --no-multiarch --install=check:enrichplot.install-out.txt --library=D:\biocbuild\bbs-3.15-bioc\R\library --no-vignettes --timings enrichplot_1.15.3.tar.gz
###
##############################################################################
##############################################################################
* using log directory 'D:/biocbuild/bbs-3.15-bioc/meat/enrichplot.Rcheck'
* using R Under development (unstable) (2021-11-21 r81221)
* using platform: x86_64-w64-mingw32 (64-bit)
* using session charset: ISO8859-1
* using option '--no-vignettes'
* checking for file 'enrichplot/DESCRIPTION' ... OK
* this is package 'enrichplot' version '1.15.3'
* package encoding: UTF-8
* checking package namespace information ... OK
* checking package dependencies ... OK
* checking if this is a source package ... OK
* checking if there is a namespace ... OK
* checking for hidden files and directories ... OK
* checking for portable file names ... OK
* checking whether package 'enrichplot' can be installed ... OK
* checking installed package size ... OK
* checking package directory ... OK
* checking 'build' directory ... OK
* checking DESCRIPTION meta-information ... OK
* checking top-level files ... OK
* checking for left-over files ... OK
* checking index information ... OK
* checking package subdirectories ... OK
* checking R files for non-ASCII characters ... OK
* checking R files for syntax errors ... OK
* checking whether the package can be loaded ... OK
* checking whether the package can be loaded with stated dependencies ... OK
* checking whether the package can be unloaded cleanly ... OK
* checking whether the namespace can be loaded with stated dependencies ... OK
* checking whether the namespace can be unloaded cleanly ... OK
* checking dependencies in R code ... OK
* checking S3 generic/method consistency ... OK
* checking replacement functions ... OK
* checking foreign function calls ... OK
* checking R code for possible problems ... OK
* checking Rd files ... OK
* checking Rd metadata ... OK
* checking Rd cross-references ... OK
* checking for missing documentation entries ... OK
* checking for code/documentation mismatches ... OK
* checking Rd \usage sections ... OK
* checking Rd contents ... OK
* checking for unstated dependencies in examples ... OK
* checking files in 'vignettes' ... OK
* checking examples ... OK
Examples with CPU (user + system) or elapsed time > 5s
user system elapsed
ridgeplot 3.12 0.30 11.92
gseaplot 3.00 0.41 13.56
* checking for unstated dependencies in vignettes ... OK
* checking package vignettes in 'inst/doc' ... OK
* checking running R code from vignettes ... SKIPPED
* checking re-building of vignette outputs ... SKIPPED
* checking PDF version of manual ... OK
* DONE
Status: OK
enrichplot.Rcheck/00install.out
##############################################################################
##############################################################################
###
### Running command:
###
### D:\biocbuild\bbs-3.15-bioc\R\bin\R.exe CMD INSTALL enrichplot
###
##############################################################################
##############################################################################
* installing to library 'D:/biocbuild/bbs-3.15-bioc/R/library'
* installing *source* package 'enrichplot' ...
** using staged installation
** R
** byte-compile and prepare package for lazy loading
** help
*** installing help indices
converting help for package 'enrichplot'
finding HTML links ... done
barplot.enrichResult html
cnetplot html
color_palette html
dotplot html
drag_network html
emapplot html
emapplot_cluster html
fortify html
ggtable html
goplot html
gsInfo html
gseadist html
gseaplot html
gseaplot2 html
gsearank html
heatplot html
pairwise_termsim html
finding level-2 HTML links ... done
plotting.clusterProfile html
pmcplot html
reexports html
ridgeplot html
ssplot html
treeplot html
upsetplot-methods html
** building package indices
** installing vignettes
** testing if installed package can be loaded from temporary location
** testing if installed package can be loaded from final location
** testing if installed package keeps a record of temporary installation path
* DONE (enrichplot)
Making 'packages.html' ... done
enrichplot.Rcheck/enrichplot-Ex.timings
| name | user | system | elapsed | |
| barplot.enrichResult | 2.02 | 0.12 | 2.14 | |
| cnetplot | 0 | 0 | 0 | |
| color_palette | 0.02 | 0.00 | 0.02 | |
| dotplot | 0 | 0 | 0 | |
| drag_network | 0 | 0 | 0 | |
| emapplot | 0 | 0 | 0 | |
| goplot | 0 | 0 | 0 | |
| gseaplot | 3.00 | 0.41 | 13.56 | |
| heatplot | 0.61 | 0.04 | 0.66 | |
| pairwise_termsim | 0 | 0 | 0 | |
| ridgeplot | 3.12 | 0.30 | 11.92 | |
| ssplot | 0 | 0 | 0 | |
| treeplot | 0 | 0 | 0 | |
| upsetplot-methods | 1.37 | 0.06 | 1.45 | |