| Back to Multiple platform build/check report for BioC 3.15 |
|
This page was generated on 2022-03-18 11:07:25 -0400 (Fri, 18 Mar 2022).
| Hostname | OS | Arch (*) | R version | Installed pkgs |
|---|---|---|---|---|
| nebbiolo1 | Linux (Ubuntu 20.04.4 LTS) | x86_64 | R Under development (unstable) (2022-02-17 r81757) -- "Unsuffered Consequences" | 4334 |
| riesling1 | Windows Server 2019 Standard | x64 | R Under development (unstable) (2021-11-21 r81221) -- "Unsuffered Consequences" | 4097 |
| palomino3 | Windows Server 2022 Datacenter | x64 | R Under development (unstable) (2022-02-17 r81757 ucrt) -- "Unsuffered Consequences" | 4083 |
| merida1 | macOS 10.14.6 Mojave | x86_64 | R Under development (unstable) (2022-03-02 r81842) -- "Unsuffered Consequences" | 4134 |
| Click on any hostname to see more info about the system (e.g. compilers) (*) as reported by 'uname -p', except on Windows and Mac OS X | ||||
|
To the developers/maintainers of the easier package: - Please allow up to 24 hours (and sometimes 48 hours) for your latest push to git@git.bioconductor.org:packages/easier.git to reflect on this report. See How and When does the builder pull? When will my changes propagate? here for more information. - Make sure to use the following settings in order to reproduce any error or warning you see on this page. |
| Package 559/2090 | Hostname | OS / Arch | INSTALL | BUILD | CHECK | BUILD BIN | ||||||||
| easier 1.1.0 (landing page) Oscar Lapuente-Santana
| nebbiolo1 | Linux (Ubuntu 20.04.4 LTS) / x86_64 | OK | OK | OK | |||||||||
| riesling1 | Windows Server 2019 Standard / x64 | OK | OK | OK | OK | |||||||||
| palomino3 | Windows Server 2022 Datacenter / x64 | OK | OK | OK | OK | |||||||||
| merida1 | macOS 10.14.6 Mojave / x86_64 | OK | OK | OK | OK | |||||||||
| Package: easier |
| Version: 1.1.0 |
| Command: rm -rf easier.buildbin-libdir && mkdir easier.buildbin-libdir && D:\biocbuild\bbs-3.15-bioc\R\bin\R.exe CMD INSTALL --build --library=easier.buildbin-libdir easier_1.1.0.tar.gz |
| StartedAt: 2022-03-17 21:05:55 -0400 (Thu, 17 Mar 2022) |
| EndedAt: 2022-03-17 21:07:24 -0400 (Thu, 17 Mar 2022) |
| EllapsedTime: 89.4 seconds |
| RetCode: 0 |
| Status: OK |
| PackageFile: easier_1.1.0.zip |
| PackageFileSize: 1.694 MiB |
##############################################################################
##############################################################################
###
### Running command:
###
### rm -rf easier.buildbin-libdir && mkdir easier.buildbin-libdir && D:\biocbuild\bbs-3.15-bioc\R\bin\R.exe CMD INSTALL --build --library=easier.buildbin-libdir easier_1.1.0.tar.gz
###
##############################################################################
##############################################################################
* installing *source* package 'easier' ...
** using staged installation
** R
** inst
** byte-compile and prepare package for lazy loading
** help
*** installing help indices
converting help for package 'easier'
finding HTML links ... done
assess_immune_response html
calc_z_score html
categorize_TMB html
compute_Ayers_expIS html
compute_CC_pairs html
compute_CCpair_score html
compute_CYT html
compute_Davoli_IS html
compute_IFNy html
compute_IMPRES_MSI html
compute_LR_pairs html
compute_RIR html
compute_Roh_IS html
compute_TF_activity html
compute_TLS html
compute_Tcell_inflamed html
compute_cell_fractions html
compute_chemokines html
compute_pathway_activity html
compute_scores_immune_response html
easier-pkg html
explore_biomarkers html
get_OE_bulk html
get_semi_random_OE html
predict_immune_response html
predict_with_rmtlr html
reannotate_genes html
retrieve_easier_score html
rmtlr_test html
** building package indices
** installing vignettes
** testing if installed package can be loaded from temporary location
** testing if installed package can be loaded from final location
** testing if installed package keeps a record of temporary installation path
* MD5 sums
packaged installation of 'easier' as easier_1.1.0.zip
* DONE (easier)