| Back to Multiple platform build/check report for BioC 3.15 |
|
This page was generated on 2022-10-19 13:22:52 -0400 (Wed, 19 Oct 2022).
| Hostname | OS | Arch (*) | R version | Installed pkgs |
|---|---|---|---|---|
| nebbiolo1 | Linux (Ubuntu 20.04.5 LTS) | x86_64 | 4.2.1 (2022-06-23) -- "Funny-Looking Kid" | 4386 |
| palomino3 | Windows Server 2022 Datacenter | x64 | 4.2.1 (2022-06-23 ucrt) -- "Funny-Looking Kid" | 4138 |
| merida1 | macOS 10.14.6 Mojave | x86_64 | 4.2.1 (2022-06-23) -- "Funny-Looking Kid" | 4205 |
| Click on any hostname to see more info about the system (e.g. compilers) (*) as reported by 'uname -p', except on Windows and Mac OS X | ||||
|
To the developers/maintainers of the dupRadar package: - Please allow up to 24 hours (and sometimes 48 hours) for your latest push to git@git.bioconductor.org:packages/dupRadar.git to reflect on this report. See How and When does the builder pull? When will my changes propagate? for more information. - Make sure to use the following settings in order to reproduce any error or warning you see on this page. |
| Package 571/2140 | Hostname | OS / Arch | INSTALL | BUILD | CHECK | BUILD BIN | ||||||||
| dupRadar 1.26.1 (landing page) Sergi Sayols
| nebbiolo1 | Linux (Ubuntu 20.04.5 LTS) / x86_64 | OK | OK | OK | |||||||||
| palomino3 | Windows Server 2022 Datacenter / x64 | ... NOT SUPPORTED ... | ||||||||||||
| merida1 | macOS 10.14.6 Mojave / x86_64 | OK | OK | OK | OK | |||||||||
| Package: dupRadar |
| Version: 1.26.1 |
| Command: /Library/Frameworks/R.framework/Resources/bin/R CMD build --keep-empty-dirs --no-resave-data dupRadar |
| StartedAt: 2022-10-18 18:15:11 -0400 (Tue, 18 Oct 2022) |
| EndedAt: 2022-10-18 18:16:14 -0400 (Tue, 18 Oct 2022) |
| EllapsedTime: 62.7 seconds |
| RetCode: 0 |
| Status: OK |
| PackageFile: dupRadar_1.26.1.tar.gz |
| PackageFileSize: 8.634 MiB |
##############################################################################
##############################################################################
###
### Running command:
###
### /Library/Frameworks/R.framework/Resources/bin/R CMD build --keep-empty-dirs --no-resave-data dupRadar
###
##############################################################################
##############################################################################
* checking for file ‘dupRadar/DESCRIPTION’ ... OK
* preparing ‘dupRadar’:
* checking DESCRIPTION meta-information ... OK
* installing the package to build vignettes
* creating vignettes ... OK
* checking for LF line-endings in source and make files and shell scripts
* checking for empty or unneeded directories
NB: this package now depends on R (>= 3.5.0)
WARNING: Added dependency on R >= 3.5.0 because serialized objects in
serialize/load version 3 cannot be read in older versions of R.
File(s) containing such objects:
‘dupRadar/vignettes/dupRadar_cache/html/citation_494f548d4cb03318c1d00ecb4584e2e4.RData’
‘dupRadar/vignettes/dupRadar_cache/html/citation_494f548d4cb03318c1d00ecb4584e2e4.rdx’
‘dupRadar/vignettes/dupRadar_cache/html/loadLibrary_931dcd652cb9653d5dcf8f87cf4b833e.RData’
‘dupRadar/vignettes/dupRadar_cache/html/loadLibrary_931dcd652cb9653d5dcf8f87cf4b833e.rdx’
‘dupRadar/vignettes/dupRadar_cache/html/style_59cc7954b4de1ce43e3f19f47ffb156f.RData’
‘dupRadar/vignettes/dupRadar_cache/html/style_59cc7954b4de1ce43e3f19f47ffb156f.rdx’
‘dupRadar/vignettes/dupRadar_cache/html/unnamed-chunk-10_b2200d8c65bf4ded96f19b24be5ed27b.RData’
‘dupRadar/vignettes/dupRadar_cache/html/unnamed-chunk-10_b2200d8c65bf4ded96f19b24be5ed27b.rdx’
‘dupRadar/vignettes/dupRadar_cache/html/unnamed-chunk-11_ad19d4af5a5dcd80fcff3c5d959e6c0e.RData’
‘dupRadar/vignettes/dupRadar_cache/html/unnamed-chunk-11_ad19d4af5a5dcd80fcff3c5d959e6c0e.rdx’
‘dupRadar/vignettes/dupRadar_cache/html/unnamed-chunk-12_c5c99e1185420ccb97cd15f4f1207475.RData’
‘dupRadar/vignettes/dupRadar_cache/html/unnamed-chunk-12_c5c99e1185420ccb97cd15f4f1207475.rdx’
‘dupRadar/vignettes/dupRadar_cache/html/unnamed-chunk-13_9ed430861203652b5e52cff4924bcf58.RData’
‘dupRadar/vignettes/dupRadar_cache/html/unnamed-chunk-13_9ed430861203652b5e52cff4924bcf58.rdx’
‘dupRadar/vignettes/dupRadar_cache/html/unnamed-chunk-14_a009140a7cf9690366857d4589aa6892.RData’
‘dupRadar/vignettes/dupRadar_cache/html/unnamed-chunk-14_a009140a7cf9690366857d4589aa6892.rdx’
‘dupRadar/vignettes/dupRadar_cache/html/unnamed-chunk-15_413a2ac888b063f58f80c4b2b7f875ec.RData’
‘dupRadar/vignettes/dupRadar_cache/html/unnamed-chunk-15_413a2ac888b063f58f80c4b2b7f875ec.rdx’
‘dupRadar/vignettes/dupRadar_cache/html/unnamed-chunk-16_997cb46ebc0616c40cc1f1cdcc9cc1c9.RData’
‘dupRadar/vignettes/dupRadar_cache/html/unnamed-chunk-16_997cb46ebc0616c40cc1f1cdcc9cc1c9.rdx’
‘dupRadar/vignettes/dupRadar_cache/html/unnamed-chunk-17_96fd6962ccf9468b0640235732385f15.RData’
‘dupRadar/vignettes/dupRadar_cache/html/unnamed-chunk-17_96fd6962ccf9468b0640235732385f15.rdx’
‘dupRadar/vignettes/dupRadar_cache/html/unnamed-chunk-18_8d93dc400ba846690e094d94ec5a41f8.RData’
‘dupRadar/vignettes/dupRadar_cache/html/unnamed-chunk-18_8d93dc400ba846690e094d94ec5a41f8.rdx’
‘dupRadar/vignettes/dupRadar_cache/html/unnamed-chunk-1_8eb27530919030f5c0f1a7f6e239074e.RData’
‘dupRadar/vignettes/dupRadar_cache/html/unnamed-chunk-1_8eb27530919030f5c0f1a7f6e239074e.rdx’
‘dupRadar/vignettes/dupRadar_cache/html/unnamed-chunk-2_c37b5fdf8ace43c6c3917625129a641b.RData’
‘dupRadar/vignettes/dupRadar_cache/html/unnamed-chunk-2_c37b5fdf8ace43c6c3917625129a641b.rdx’
‘dupRadar/vignettes/dupRadar_cache/html/unnamed-chunk-3_c56e711fa5740833640b1d6ef7103974.RData’
‘dupRadar/vignettes/dupRadar_cache/html/unnamed-chunk-3_c56e711fa5740833640b1d6ef7103974.rdx’
‘dupRadar/vignettes/dupRadar_cache/html/unnamed-chunk-4_18127a6587ebd46159b5dbecbf9e39a9.RData’
‘dupRadar/vignettes/dupRadar_cache/html/unnamed-chunk-4_18127a6587ebd46159b5dbecbf9e39a9.rdx’
‘dupRadar/vignettes/dupRadar_cache/html/unnamed-chunk-5_672b0ba76323a85461b9af8c6f3a5cf4.RData’
‘dupRadar/vignettes/dupRadar_cache/html/unnamed-chunk-5_672b0ba76323a85461b9af8c6f3a5cf4.rdx’
‘dupRadar/vignettes/dupRadar_cache/html/unnamed-chunk-6_a3136ecb57b72cc62bc6b1f839983ca0.RData’
‘dupRadar/vignettes/dupRadar_cache/html/unnamed-chunk-6_a3136ecb57b72cc62bc6b1f839983ca0.rdx’
‘dupRadar/vignettes/dupRadar_cache/html/unnamed-chunk-7_249cee581648285fe4621c475af4cbff.RData’
‘dupRadar/vignettes/dupRadar_cache/html/unnamed-chunk-7_249cee581648285fe4621c475af4cbff.rdx’
‘dupRadar/vignettes/dupRadar_cache/html/unnamed-chunk-8_4f6ce49eef9c793f0ff63f927a67febe.RData’
‘dupRadar/vignettes/dupRadar_cache/html/unnamed-chunk-8_4f6ce49eef9c793f0ff63f927a67febe.rdx’
‘dupRadar/vignettes/dupRadar_cache/html/unnamed-chunk-9_e744fd6e41d3121c8d21a9d7a875afa6.RData’
‘dupRadar/vignettes/dupRadar_cache/html/unnamed-chunk-9_e744fd6e41d3121c8d21a9d7a875afa6.rdx’
* building ‘dupRadar_1.26.1.tar.gz’