| Back to Multiple platform build/check report for BioC 3.15 |
|
This page was generated on 2022-03-18 11:07:25 -0400 (Fri, 18 Mar 2022).
| Hostname | OS | Arch (*) | R version | Installed pkgs |
|---|---|---|---|---|
| nebbiolo1 | Linux (Ubuntu 20.04.4 LTS) | x86_64 | R Under development (unstable) (2022-02-17 r81757) -- "Unsuffered Consequences" | 4334 |
| riesling1 | Windows Server 2019 Standard | x64 | R Under development (unstable) (2021-11-21 r81221) -- "Unsuffered Consequences" | 4097 |
| palomino3 | Windows Server 2022 Datacenter | x64 | R Under development (unstable) (2022-02-17 r81757 ucrt) -- "Unsuffered Consequences" | 4083 |
| merida1 | macOS 10.14.6 Mojave | x86_64 | R Under development (unstable) (2022-03-02 r81842) -- "Unsuffered Consequences" | 4134 |
| Click on any hostname to see more info about the system (e.g. compilers) (*) as reported by 'uname -p', except on Windows and Mac OS X | ||||
|
To the developers/maintainers of the dpeak package: - Please allow up to 24 hours (and sometimes 48 hours) for your latest push to git@git.bioconductor.org:packages/dpeak.git to reflect on this report. See How and When does the builder pull? When will my changes propagate? here for more information. - Make sure to use the following settings in order to reproduce any error or warning you see on this page. |
| Package 545/2090 | Hostname | OS / Arch | INSTALL | BUILD | CHECK | BUILD BIN | ||||||||
| dpeak 1.7.0 (landing page) Dongjun Chung
| nebbiolo1 | Linux (Ubuntu 20.04.4 LTS) / x86_64 | OK | OK | OK | |||||||||
| riesling1 | Windows Server 2019 Standard / x64 | OK | OK | OK | OK | |||||||||
| palomino3 | Windows Server 2022 Datacenter / x64 | OK | OK | OK | OK | |||||||||
| merida1 | macOS 10.14.6 Mojave / x86_64 | OK | OK | OK | OK | |||||||||
| Package: dpeak |
| Version: 1.7.0 |
| Command: rm -rf dpeak.buildbin-libdir && mkdir dpeak.buildbin-libdir && D:\biocbuild\bbs-3.15-bioc\R\bin\R.exe CMD INSTALL --build --library=dpeak.buildbin-libdir dpeak_1.7.0.tar.gz |
| StartedAt: 2022-03-17 21:05:37 -0400 (Thu, 17 Mar 2022) |
| EndedAt: 2022-03-17 21:06:53 -0400 (Thu, 17 Mar 2022) |
| EllapsedTime: 75.8 seconds |
| RetCode: 0 |
| Status: OK |
| PackageFile: dpeak_1.7.0.zip |
| PackageFileSize: 998.9 KiB |
##############################################################################
##############################################################################
###
### Running command:
###
### rm -rf dpeak.buildbin-libdir && mkdir dpeak.buildbin-libdir && D:\biocbuild\bbs-3.15-bioc\R\bin\R.exe CMD INSTALL --build --library=dpeak.buildbin-libdir dpeak_1.7.0.tar.gz
###
##############################################################################
##############################################################################
* installing *source* package 'dpeak' ...
** using staged installation
** libs
"C:/rtools40/mingw64/bin/"g++ -std=gnu++11 -I"D:/biocbuild/bbs-3.15-bioc/R/include" -DNDEBUG -I'D:/biocbuild/bbs-3.15-bioc/R/library/Rcpp/include' -I"C:/extsoft/include" -O2 -Wall -mfpmath=sse -msse2 -mstackrealign -fno-reorder-blocks-and-partition -c dlength.cpp -o dlength.o
"C:/rtools40/mingw64/bin/"g++ -std=gnu++11 -I"D:/biocbuild/bbs-3.15-bioc/R/include" -DNDEBUG -I'D:/biocbuild/bbs-3.15-bioc/R/library/Rcpp/include' -I"C:/extsoft/include" -O2 -Wall -mfpmath=sse -msse2 -mstackrealign -fno-reorder-blocks-and-partition -c fraglen.cpp -o fraglen.o
"C:/rtools40/mingw64/bin/"g++ -std=gnu++11 -I"D:/biocbuild/bbs-3.15-bioc/R/include" -DNDEBUG -I'D:/biocbuild/bbs-3.15-bioc/R/library/Rcpp/include' -I"C:/extsoft/include" -O2 -Wall -mfpmath=sse -msse2 -mstackrealign -fno-reorder-blocks-and-partition -c ismaxZ0.cpp -o ismaxZ0.o
"C:/rtools40/mingw64/bin/"g++ -std=gnu++11 -I"D:/biocbuild/bbs-3.15-bioc/R/include" -DNDEBUG -I'D:/biocbuild/bbs-3.15-bioc/R/library/Rcpp/include' -I"C:/extsoft/include" -O2 -Wall -mfpmath=sse -msse2 -mstackrealign -fno-reorder-blocks-and-partition -c normalize.cpp -o normalize.o
"C:/rtools40/mingw64/bin/"g++ -std=gnu++11 -I"D:/biocbuild/bbs-3.15-bioc/R/include" -DNDEBUG -I'D:/biocbuild/bbs-3.15-bioc/R/library/Rcpp/include' -I"C:/extsoft/include" -O2 -Wall -mfpmath=sse -msse2 -mstackrealign -fno-reorder-blocks-and-partition -c samp.cpp -o samp.o
"C:/rtools40/mingw64/bin/"g++ -std=gnu++11 -I"D:/biocbuild/bbs-3.15-bioc/R/include" -DNDEBUG -I'D:/biocbuild/bbs-3.15-bioc/R/library/Rcpp/include' -I"C:/extsoft/include" -O2 -Wall -mfpmath=sse -msse2 -mstackrealign -fno-reorder-blocks-and-partition -c score.cpp -o score.o
"C:/rtools40/mingw64/bin/"g++ -std=gnu++11 -I"D:/biocbuild/bbs-3.15-bioc/R/include" -DNDEBUG -I'D:/biocbuild/bbs-3.15-bioc/R/library/Rcpp/include' -I"C:/extsoft/include" -O2 -Wall -mfpmath=sse -msse2 -mstackrealign -fno-reorder-blocks-and-partition -c stack.cpp -o stack.o
C:/rtools40/mingw64/bin/g++ -std=gnu++11 -shared -s -static-libgcc -o dpeak.dll tmp.def dlength.o fraglen.o ismaxZ0.o normalize.o samp.o score.o stack.o -LC:/extsoft/lib/x64 -LC:/extsoft/lib -LD:/biocbuild/bbs-3.15-bioc/R/bin/x64 -lR
installing to D:/biocbuild/bbs-3.15-bioc/meat/dpeak.buildbin-libdir/00LOCK-dpeak/00new/dpeak/libs/x64
** R
** data
** inst
** byte-compile and prepare package for lazy loading
** help
*** installing help indices
converting help for package 'dpeak'
finding HTML links ... done
DpeakData-class html
DpeakFit-class html
DpeakMotif-class html
dpeak-internal html
dpeak-package html
dpeakFit html
dpeakMotif html
dpeakRead html
exampleData html
exportPeakList html
exportPlot html
printEmpty html
** building package indices
** installing vignettes
** testing if installed package can be loaded from temporary location
** testing if installed package can be loaded from final location
** testing if installed package keeps a record of temporary installation path
* MD5 sums
packaged installation of 'dpeak' as dpeak_1.7.0.zip
* DONE (dpeak)