| Back to Multiple platform build/check report for BioC 3.15 | 
 | 
This page was generated on 2022-03-18 11:07:18 -0400 (Fri, 18 Mar 2022).
| Hostname | OS | Arch (*) | R version | Installed pkgs | 
|---|---|---|---|---|
| nebbiolo1 | Linux (Ubuntu 20.04.4 LTS) | x86_64 | R Under development (unstable) (2022-02-17 r81757) -- "Unsuffered Consequences" | 4334 | 
| riesling1 | Windows Server 2019 Standard | x64 | R Under development (unstable) (2021-11-21 r81221) -- "Unsuffered Consequences" | 4097 | 
| palomino3 | Windows Server 2022 Datacenter | x64 | R Under development (unstable) (2022-02-17 r81757 ucrt) -- "Unsuffered Consequences" | 4083 | 
| merida1 | macOS 10.14.6 Mojave | x86_64 | R Under development (unstable) (2022-03-02 r81842) -- "Unsuffered Consequences" | 4134 | 
| Click on any hostname to see more info about the system (e.g. compilers) (*) as reported by 'uname -p', except on Windows and Mac OS X | ||||
| To the developers/maintainers of the cytoKernel package: - Please allow up to 24 hours (and sometimes 48 hours) for your latest push to git@git.bioconductor.org:packages/cytoKernel.git to reflect on this report. See How and When does the builder pull? When will my changes propagate? here for more information. - Make sure to use the following settings in order to reproduce any error or warning you see on this page. | 
| Package 446/2090 | Hostname | OS / Arch | INSTALL | BUILD | CHECK | BUILD BIN | ||||||||
| cytoKernel 1.1.0  (landing page) Tusharkanti Ghosh 
 | nebbiolo1 | Linux (Ubuntu 20.04.4 LTS) / x86_64 | OK | OK | OK |  | ||||||||
| riesling1 | Windows Server 2019 Standard / x64 | OK | OK | OK | OK | |||||||||
| palomino3 | Windows Server 2022 Datacenter / x64 | OK | OK | OK | OK |  | ||||||||
| merida1 | macOS 10.14.6 Mojave / x86_64 | OK | OK | OK | OK |  | ||||||||
| Package: cytoKernel | 
| Version: 1.1.0 | 
| Command: D:\biocbuild\bbs-3.15-bioc\R\bin\R.exe CMD INSTALL cytoKernel | 
| StartedAt: 2022-03-17 15:44:33 -0400 (Thu, 17 Mar 2022) | 
| EndedAt: 2022-03-17 15:45:51 -0400 (Thu, 17 Mar 2022) | 
| EllapsedTime: 78.3 seconds | 
| RetCode: 0 | 
| Status: OK | 
##############################################################################
##############################################################################
###
### Running command:
###
###   D:\biocbuild\bbs-3.15-bioc\R\bin\R.exe CMD INSTALL cytoKernel
###
##############################################################################
##############################################################################
* installing to library 'D:/biocbuild/bbs-3.15-bioc/R/library'
* installing *source* package 'cytoKernel' ...
** using staged installation
** libs
"C:/rtools40/mingw64/bin/"g++ -std=gnu++11  -I"D:/biocbuild/bbs-3.15-bioc/R/include" -DNDEBUG  -I'D:/biocbuild/bbs-3.15-bioc/R/library/Rcpp/include'   -I"C:/extsoft/include"     -O2 -Wall  -mfpmath=sse -msse2 -mstackrealign -fno-reorder-blocks-and-partition  -c RcppExports.cpp -o RcppExports.o
"C:/rtools40/mingw64/bin/"g++ -std=gnu++11  -I"D:/biocbuild/bbs-3.15-bioc/R/include" -DNDEBUG  -I'D:/biocbuild/bbs-3.15-bioc/R/library/Rcpp/include'   -I"C:/extsoft/include"     -O2 -Wall  -mfpmath=sse -msse2 -mstackrealign -fno-reorder-blocks-and-partition  -c cytoKernelUtility.cpp -o cytoKernelUtility.o
C:/rtools40/mingw64/bin/g++ -std=gnu++11 -shared -s -static-libgcc -o cytoKernel.dll tmp.def RcppExports.o cytoKernelUtility.o -LC:/extsoft/lib/x64 -LC:/extsoft/lib -LD:/biocbuild/bbs-3.15-bioc/R/bin/x64 -lR
installing to D:/biocbuild/bbs-3.15-bioc/R/library/00LOCK-cytoKernel/00new/cytoKernel/libs/x64
** R
** data
** byte-compile and prepare package for lazy loading
** help
*** installing help indices
  converting help for package 'cytoKernel'
    finding HTML links ... done
    CytoK-class                             html  
    CytoK                                   html  
    CytoKDEData                             html  
    CytoKDEfeatures                         html  
    CytoKData                               html  
    CytoKFeatureVars                        html  
    CytoKFeatures                           html  
    CytoKFeaturesOrdered                    html  
    CytoKProc                               html  
    CytoKalpha                              html  
    cytoHDBMW                               html  
    data.frameORSummarizedExperiment-class
                                            html  
    plotCytoK                               html  
    vectorORNull-class                      html  
** building package indices
** installing vignettes
** testing if installed package can be loaded from temporary location
** testing if installed package can be loaded from final location
** testing if installed package keeps a record of temporary installation path
* DONE (cytoKernel)
Making 'packages.html' ... done