| Back to Multiple platform build/check report for BioC 3.15 |
|
This page was generated on 2022-03-18 11:07:18 -0400 (Fri, 18 Mar 2022).
| Hostname | OS | Arch (*) | R version | Installed pkgs |
|---|---|---|---|---|
| nebbiolo1 | Linux (Ubuntu 20.04.4 LTS) | x86_64 | R Under development (unstable) (2022-02-17 r81757) -- "Unsuffered Consequences" | 4334 |
| riesling1 | Windows Server 2019 Standard | x64 | R Under development (unstable) (2021-11-21 r81221) -- "Unsuffered Consequences" | 4097 |
| palomino3 | Windows Server 2022 Datacenter | x64 | R Under development (unstable) (2022-02-17 r81757 ucrt) -- "Unsuffered Consequences" | 4083 |
| merida1 | macOS 10.14.6 Mojave | x86_64 | R Under development (unstable) (2022-03-02 r81842) -- "Unsuffered Consequences" | 4134 |
| Click on any hostname to see more info about the system (e.g. compilers) (*) as reported by 'uname -p', except on Windows and Mac OS X | ||||
|
To the developers/maintainers of the cydar package: - Please allow up to 24 hours (and sometimes 48 hours) for your latest push to git@git.bioconductor.org:packages/cydar.git to reflect on this report. See How and When does the builder pull? When will my changes propagate? here for more information. - Make sure to use the following settings in order to reproduce any error or warning you see on this page. |
| Package 442/2090 | Hostname | OS / Arch | INSTALL | BUILD | CHECK | BUILD BIN | ||||||||
| cydar 1.19.0 (landing page) Aaron Lun
| nebbiolo1 | Linux (Ubuntu 20.04.4 LTS) / x86_64 | OK | OK | OK | |||||||||
| riesling1 | Windows Server 2019 Standard / x64 | OK | OK | OK | OK | |||||||||
| palomino3 | Windows Server 2022 Datacenter / x64 | OK | OK | OK | OK | |||||||||
| merida1 | macOS 10.14.6 Mojave / x86_64 | OK | OK | OK | OK | |||||||||
| Package: cydar |
| Version: 1.19.0 |
| Command: rm -rf cydar.buildbin-libdir && mkdir cydar.buildbin-libdir && D:\biocbuild\bbs-3.15-bioc\R\bin\R.exe CMD INSTALL --build --library=cydar.buildbin-libdir cydar_1.19.0.tar.gz |
| StartedAt: 2022-03-17 21:03:12 -0400 (Thu, 17 Mar 2022) |
| EndedAt: 2022-03-17 21:04:31 -0400 (Thu, 17 Mar 2022) |
| EllapsedTime: 79.8 seconds |
| RetCode: 0 |
| Status: OK |
| PackageFile: cydar_1.19.0.zip |
| PackageFileSize: 1.452 MiB |
##############################################################################
##############################################################################
###
### Running command:
###
### rm -rf cydar.buildbin-libdir && mkdir cydar.buildbin-libdir && D:\biocbuild\bbs-3.15-bioc\R\bin\R.exe CMD INSTALL --build --library=cydar.buildbin-libdir cydar_1.19.0.tar.gz
###
##############################################################################
##############################################################################
* installing *source* package 'cydar' ...
** using staged installation
** libs
"C:/rtools40/mingw64/bin/"g++ -std=gnu++11 -I"D:/biocbuild/bbs-3.15-bioc/R/include" -DNDEBUG -I'D:/biocbuild/bbs-3.15-bioc/R/library/Rcpp/include' -I"C:/extsoft/include" -O2 -Wall -mfpmath=sse -msse2 -mstackrealign -fno-reorder-blocks-and-partition -c RcppExports.cpp -o RcppExports.o
"C:/rtools40/mingw64/bin/"g++ -std=gnu++11 -I"D:/biocbuild/bbs-3.15-bioc/R/include" -DNDEBUG -I'D:/biocbuild/bbs-3.15-bioc/R/library/Rcpp/include' -I"C:/extsoft/include" -O2 -Wall -mfpmath=sse -msse2 -mstackrealign -fno-reorder-blocks-and-partition -c compute_density.cpp -o compute_density.o
compute_density.cpp: In function 'Rcpp::NumericVector compute_density(Rcpp::List, double)':
compute_density.cpp:7:23: warning: comparison of integer expressions of different signedness: 'size_t' {aka 'long long unsigned int'} and 'R_xlen_t' {aka 'long long int'} [-Wsign-compare]
for (size_t i=0; i<distances.size(); ++i) {
~^~~~~~~~~~~~~~~~~
"C:/rtools40/mingw64/bin/"g++ -std=gnu++11 -I"D:/biocbuild/bbs-3.15-bioc/R/include" -DNDEBUG -I'D:/biocbuild/bbs-3.15-bioc/R/library/Rcpp/include' -I"C:/extsoft/include" -O2 -Wall -mfpmath=sse -msse2 -mstackrealign -fno-reorder-blocks-and-partition -c count_cells.cpp -o count_cells.o
"C:/rtools40/mingw64/bin/"g++ -std=gnu++11 -I"D:/biocbuild/bbs-3.15-bioc/R/include" -DNDEBUG -I'D:/biocbuild/bbs-3.15-bioc/R/library/Rcpp/include' -I"C:/extsoft/include" -O2 -Wall -mfpmath=sse -msse2 -mstackrealign -fno-reorder-blocks-and-partition -c drop_redundant.cpp -o drop_redundant.o
"C:/rtools40/mingw64/bin/"g++ -std=gnu++11 -I"D:/biocbuild/bbs-3.15-bioc/R/include" -DNDEBUG -I'D:/biocbuild/bbs-3.15-bioc/R/library/Rcpp/include' -I"C:/extsoft/include" -O2 -Wall -mfpmath=sse -msse2 -mstackrealign -fno-reorder-blocks-and-partition -c median_int_by_sample.cpp -o median_int_by_sample.o
median_int_by_sample.cpp: In function 'Rcpp::List median_int_by_sample(Rcpp::NumericMatrix, Rcpp::List, Rcpp::NumericVector, int)':
median_int_by_sample.cpp:22:25: warning: comparison of integer expressions of different signedness: 'R_xlen_t' {aka 'long long int'} and 'const size_t' {aka 'const long long unsigned int'} [-Wsign-compare]
if (sample_id.size()!=ncells) {
~~~~~~~~~~~~~~~~^~~~~~~~
median_int_by_sample.cpp:42:39: warning: comparison of integer expressions of different signedness: 'int' and 'const size_t' {aka 'const long long unsigned int'} [-Wsign-compare]
if (curdex <= 0 || curdex > ncells) {
~~~~~~~^~~~~~~~
"C:/rtools40/mingw64/bin/"g++ -std=gnu++11 -I"D:/biocbuild/bbs-3.15-bioc/R/include" -DNDEBUG -I'D:/biocbuild/bbs-3.15-bioc/R/library/Rcpp/include' -I"C:/extsoft/include" -O2 -Wall -mfpmath=sse -msse2 -mstackrealign -fno-reorder-blocks-and-partition -c weighted_median_int.cpp -o weighted_median_int.o
weighted_median_int.cpp: In function 'SEXPREC* weighted_median_int(Rcpp::NumericMatrix, Rcpp::List, Rcpp::NumericVector, Rcpp::NumericVector)':
weighted_median_int.cpp:16:25: warning: comparison of integer expressions of different signedness: 'R_xlen_t' {aka 'long long int'} and 'const size_t' {aka 'const long long unsigned int'} [-Wsign-compare]
if (sample_id.size()!=ncells) {
~~~~~~~~~~~~~~~~^~~~~~~~
weighted_median_int.cpp:42:35: warning: comparison of integer expressions of different signedness: 'size_t' {aka 'long long unsigned int'} and 'R_xlen_t' {aka 'long long int'} [-Wsign-compare]
for (size_t icx=0; icx<curass.size(); ++icx) {
~~~^~~~~~~~~~~~~~
C:/rtools40/mingw64/bin/g++ -shared -s -static-libgcc -o cydar.dll tmp.def RcppExports.o compute_density.o count_cells.o drop_redundant.o median_int_by_sample.o weighted_median_int.o -LC:/extsoft/lib/x64 -LC:/extsoft/lib -LD:/biocbuild/bbs-3.15-bioc/R/bin/x64 -lR
installing to D:/biocbuild/bbs-3.15-bioc/meat/cydar.buildbin-libdir/00LOCK-cydar/00new/cydar/libs/x64
** R
** inst
** byte-compile and prepare package for lazy loading
** help
*** installing help indices
converting help for package 'cydar'
finding HTML links ... done
CyData html
finding level-2 HTML links ... done
countCells html
createColorBar html
dnaGate html
expandRadius html
findFirstSphere html
intensityRanges html
interpretSpheres html
labelSpheres html
medIntensities html
multiIntHist html
neighborDistances html
normalizeBatch html
outlierGate html
pickBestMarkers html
plotSphereIntensity html
plotSphereLogFC html
poolCells html
prepareCellData html
spatialFDR html
** building package indices
** installing vignettes
** testing if installed package can be loaded from temporary location
** testing if installed package can be loaded from final location
** testing if installed package keeps a record of temporary installation path
* MD5 sums
packaged installation of 'cydar' as cydar_1.19.0.zip
* DONE (cydar)