| Back to Multiple platform build/check report for BioC 3.15 |
|
This page was generated on 2022-03-18 11:07:17 -0400 (Fri, 18 Mar 2022).
| Hostname | OS | Arch (*) | R version | Installed pkgs |
|---|---|---|---|---|
| nebbiolo1 | Linux (Ubuntu 20.04.4 LTS) | x86_64 | R Under development (unstable) (2022-02-17 r81757) -- "Unsuffered Consequences" | 4334 |
| riesling1 | Windows Server 2019 Standard | x64 | R Under development (unstable) (2021-11-21 r81221) -- "Unsuffered Consequences" | 4097 |
| palomino3 | Windows Server 2022 Datacenter | x64 | R Under development (unstable) (2022-02-17 r81757 ucrt) -- "Unsuffered Consequences" | 4083 |
| merida1 | macOS 10.14.6 Mojave | x86_64 | R Under development (unstable) (2022-03-02 r81842) -- "Unsuffered Consequences" | 4134 |
| Click on any hostname to see more info about the system (e.g. compilers) (*) as reported by 'uname -p', except on Windows and Mac OS X | ||||
|
To the developers/maintainers of the crlmm package: - Please allow up to 24 hours (and sometimes 48 hours) for your latest push to git@git.bioconductor.org:packages/crlmm.git to reflect on this report. See How and When does the builder pull? When will my changes propagate? here for more information. - Make sure to use the following settings in order to reproduce any error or warning you see on this page. |
| Package 425/2090 | Hostname | OS / Arch | INSTALL | BUILD | CHECK | BUILD BIN | ||||||||
| crlmm 1.53.0 (landing page) Benilton S Carvalho
| nebbiolo1 | Linux (Ubuntu 20.04.4 LTS) / x86_64 | OK | OK | OK | |||||||||
| riesling1 | Windows Server 2019 Standard / x64 | OK | OK | OK | OK | |||||||||
| palomino3 | Windows Server 2022 Datacenter / x64 | OK | OK | OK | OK | |||||||||
| merida1 | macOS 10.14.6 Mojave / x86_64 | OK | OK | OK | OK | |||||||||
| Package: crlmm |
| Version: 1.53.0 |
| Command: rm -rf crlmm.buildbin-libdir && mkdir crlmm.buildbin-libdir && D:\biocbuild\bbs-3.15-bioc\R\bin\R.exe CMD INSTALL --build --library=crlmm.buildbin-libdir crlmm_1.53.0.tar.gz |
| StartedAt: 2022-03-17 21:02:50 -0400 (Thu, 17 Mar 2022) |
| EndedAt: 2022-03-17 21:03:59 -0400 (Thu, 17 Mar 2022) |
| EllapsedTime: 69.0 seconds |
| RetCode: 0 |
| Status: OK |
| PackageFile: crlmm_1.53.0.zip |
| PackageFileSize: 5.25 MiB |
##############################################################################
##############################################################################
###
### Running command:
###
### rm -rf crlmm.buildbin-libdir && mkdir crlmm.buildbin-libdir && D:\biocbuild\bbs-3.15-bioc\R\bin\R.exe CMD INSTALL --build --library=crlmm.buildbin-libdir crlmm_1.53.0.tar.gz
###
##############################################################################
##############################################################################
* installing *source* package 'crlmm' ...
** using staged installation
** libs
"C:/rtools40/mingw64/bin/"gcc -I"D:/biocbuild/bbs-3.15-bioc/R/include" -DNDEBUG -I'D:/biocbuild/bbs-3.15-bioc/R/library/preprocessCore/include' -I"C:/extsoft/include" -O2 -Wall -std=gnu99 -mfpmath=sse -msse2 -mstackrealign -fno-reorder-blocks-and-partition -c gtypeCaller.c -o gtypeCaller.o
"C:/rtools40/mingw64/bin/"gcc -I"D:/biocbuild/bbs-3.15-bioc/R/include" -DNDEBUG -I'D:/biocbuild/bbs-3.15-bioc/R/library/preprocessCore/include' -I"C:/extsoft/include" -O2 -Wall -std=gnu99 -mfpmath=sse -msse2 -mstackrealign -fno-reorder-blocks-and-partition -c init.c -o init.o
"C:/rtools40/mingw64/bin/"gcc -I"D:/biocbuild/bbs-3.15-bioc/R/include" -DNDEBUG -I'D:/biocbuild/bbs-3.15-bioc/R/library/preprocessCore/include' -I"C:/extsoft/include" -O2 -Wall -std=gnu99 -mfpmath=sse -msse2 -mstackrealign -fno-reorder-blocks-and-partition -c trimmed.c -o trimmed.o
"C:/rtools40/mingw64/bin/"gcc -I"D:/biocbuild/bbs-3.15-bioc/R/include" -DNDEBUG -I'D:/biocbuild/bbs-3.15-bioc/R/library/preprocessCore/include' -I"C:/extsoft/include" -O2 -Wall -std=gnu99 -mfpmath=sse -msse2 -mstackrealign -fno-reorder-blocks-and-partition -c utils.c -o utils.o
C:/rtools40/mingw64/bin/gcc -shared -s -static-libgcc -o crlmm.dll tmp.def gtypeCaller.o init.o trimmed.o utils.o -LC:/extsoft/lib/x64 -LC:/extsoft/lib -LD:/biocbuild/bbs-3.15-bioc/R/bin/x64 -lR
installing to D:/biocbuild/bbs-3.15-bioc/meat/crlmm.buildbin-libdir/00LOCK-crlmm/00new/crlmm/libs/x64
** R
** data
** inst
** byte-compile and prepare package for lazy loading
No methods found in package 'oligoClasses' for request: 'mean' when loading 'crlmm'
** help
*** installing help indices
converting help for package 'crlmm'
finding HTML links ... done
ABpanel html
AssayData-methods html
finding level-2 HTML links ... done
CNSet-methods html
ListClassConstructors html
PredictionRegion-class html
batchStatisticAccessors html
calculateRBaf html
celfile-utils html
cnSetExample html
cnrmaAffy html
constructAffyCNSet html
constructInf html
copynumberAccessors html
crlmm-package html
crlmm html
crlmmCopynumber html
genotype.Illumina html
genotype html
genotypeAffy html
genotypeInf html
genotypes html
plotSNPs html
posteriorProbability html
predictionRegion html
preprocessInf html
readGenCallOutput html
readIdatFiles html
snprma html
snprmaAffy html
validCdfNames html
xyplot html
** building package indices
** installing vignettes
** testing if installed package can be loaded from temporary location
No methods found in package 'oligoClasses' for request: 'mean' when loading 'crlmm'
** testing if installed package can be loaded from final location
No methods found in package 'oligoClasses' for request: 'mean' when loading 'crlmm'
** testing if installed package keeps a record of temporary installation path
* MD5 sums
packaged installation of 'crlmm' as crlmm_1.53.0.zip
* DONE (crlmm)