| Back to Multiple platform build/check report for BioC 3.15 |
|
This page was generated on 2022-03-18 11:07:17 -0400 (Fri, 18 Mar 2022).
| Hostname | OS | Arch (*) | R version | Installed pkgs |
|---|---|---|---|---|
| nebbiolo1 | Linux (Ubuntu 20.04.4 LTS) | x86_64 | R Under development (unstable) (2022-02-17 r81757) -- "Unsuffered Consequences" | 4334 |
| riesling1 | Windows Server 2019 Standard | x64 | R Under development (unstable) (2021-11-21 r81221) -- "Unsuffered Consequences" | 4097 |
| palomino3 | Windows Server 2022 Datacenter | x64 | R Under development (unstable) (2022-02-17 r81757 ucrt) -- "Unsuffered Consequences" | 4083 |
| merida1 | macOS 10.14.6 Mojave | x86_64 | R Under development (unstable) (2022-03-02 r81842) -- "Unsuffered Consequences" | 4134 |
| Click on any hostname to see more info about the system (e.g. compilers) (*) as reported by 'uname -p', except on Windows and Mac OS X | ||||
|
To the developers/maintainers of the crisprScore package: - Please allow up to 24 hours (and sometimes 48 hours) for your latest push to git@git.bioconductor.org:packages/crisprScore.git to reflect on this report. See How and When does the builder pull? When will my changes propagate? here for more information. - Make sure to use the following settings in order to reproduce any error or warning you see on this page. |
| Package 421/2090 | Hostname | OS / Arch | INSTALL | BUILD | CHECK | BUILD BIN | ||||||||
| crisprScore 0.99.18 (landing page) Jean-Philippe Fortin
| nebbiolo1 | Linux (Ubuntu 20.04.4 LTS) / x86_64 | OK | OK | OK | |||||||||
| riesling1 | Windows Server 2019 Standard / x64 | OK | OK | OK | OK | |||||||||
| palomino3 | Windows Server 2022 Datacenter / x64 | OK | OK | OK | OK | |||||||||
| merida1 | macOS 10.14.6 Mojave / x86_64 | OK | OK | OK | OK | |||||||||
| Package: crisprScore |
| Version: 0.99.18 |
| Command: rm -rf crisprScore.buildbin-libdir && mkdir crisprScore.buildbin-libdir && D:\biocbuild\bbs-3.15-bioc\R\bin\R.exe CMD INSTALL --build --library=crisprScore.buildbin-libdir crisprScore_0.99.18.tar.gz |
| StartedAt: 2022-03-17 21:02:45 -0400 (Thu, 17 Mar 2022) |
| EndedAt: 2022-03-17 21:03:53 -0400 (Thu, 17 Mar 2022) |
| EllapsedTime: 67.7 seconds |
| RetCode: 0 |
| Status: OK |
| PackageFile: crisprScore_0.99.18.zip |
| PackageFileSize: 2.445 MiB |
##############################################################################
##############################################################################
###
### Running command:
###
### rm -rf crisprScore.buildbin-libdir && mkdir crisprScore.buildbin-libdir && D:\biocbuild\bbs-3.15-bioc\R\bin\R.exe CMD INSTALL --build --library=crisprScore.buildbin-libdir crisprScore_0.99.18.tar.gz
###
##############################################################################
##############################################################################
* installing *source* package 'crisprScore' ...
** using non-staged installation via StagedInstall field
** R
** data
** inst
** byte-compile and prepare package for lazy loading
snapshotDate(): 2022-03-16
** help
*** installing help indices
converting help for package 'crisprScore'
finding HTML links ... done
cfd.mm.weights.cas9 html
cfd.mm.weights.casrx html
cfd.pam.weights.cas9 html
cfd.pam.weights.casrx html
getAzimuthScores html
getCFDScores html
getCRISPRscanScores html
getDeepCpf1Scores html
getDeepHFScores html
getEnPAMGBScores html
getLindelScores html
getMITScores html
getRuleSet1Scores html
mit.weights html
scoringMethodsInfo html
** building package indices
** installing vignettes
** testing if installed package can be loaded
snapshotDate(): 2022-03-16
* MD5 sums
packaged installation of 'crisprScore' as crisprScore_0.99.18.zip
* DONE (crisprScore)