| Back to Multiple platform build/check report for BioC 3.15 |
|
This page was generated on 2022-03-03 11:07:16 -0500 (Thu, 03 Mar 2022).
| Hostname | OS | Arch (*) | R version | Installed pkgs |
|---|---|---|---|---|
| nebbiolo1 | Linux (Ubuntu 20.04.4 LTS) | x86_64 | R Under development (unstable) (2022-02-17 r81757) -- "Unsuffered Consequences" | 4332 |
| riesling1 | Windows Server 2019 Standard | x64 | R Under development (unstable) (2021-11-21 r81221) -- "Unsuffered Consequences" | 4093 |
| palomino3 | Windows Server 2022 Datacenter | x64 | R Under development (unstable) (2022-02-17 r81757 ucrt) -- "Unsuffered Consequences" | 4068 |
| merida1 | macOS 10.14.6 Mojave | x86_64 | R Under development (unstable) (2022-01-05 r81451) -- "Unsuffered Consequences" | 4143 |
| Click on any hostname to see more info about the system (e.g. compilers) (*) as reported by 'uname -p', except on Windows and Mac OS X | ||||
|
To the developers/maintainers of the crisprBase package: - Please allow up to 24 hours (and sometimes 48 hours) for your latest push to git@git.bioconductor.org:packages/crisprBase.git to reflect on this report. See How and When does the builder pull? When will my changes propagate? here for more information. - Make sure to use the following settings in order to reproduce any error or warning you see on this page. |
| Package 419/2088 | Hostname | OS / Arch | INSTALL | BUILD | CHECK | BUILD BIN | ||||||||
| crisprBase 0.99.8 (landing page) Jean-Philippe Fortin
| nebbiolo1 | Linux (Ubuntu 20.04.4 LTS) / x86_64 | OK | OK | OK | |||||||||
| riesling1 | Windows Server 2019 Standard / x64 | OK | OK | OK | OK | |||||||||
| palomino3 | Windows Server 2022 Datacenter / x64 | OK | OK | OK | OK | |||||||||
| merida1 | macOS 10.14.6 Mojave / x86_64 | OK | OK | OK | OK | |||||||||
| Package: crisprBase |
| Version: 0.99.8 |
| Command: rm -rf crisprBase.buildbin-libdir && mkdir crisprBase.buildbin-libdir && D:\biocbuild\bbs-3.15-bioc\R\bin\R.exe CMD INSTALL --build --library=crisprBase.buildbin-libdir crisprBase_0.99.8.tar.gz |
| StartedAt: 2022-03-02 21:05:03 -0500 (Wed, 02 Mar 2022) |
| EndedAt: 2022-03-02 21:06:11 -0500 (Wed, 02 Mar 2022) |
| EllapsedTime: 67.6 seconds |
| RetCode: 0 |
| Status: OK |
| PackageFile: crisprBase_0.99.8.zip |
| PackageFileSize: 1.351 MiB |
##############################################################################
##############################################################################
###
### Running command:
###
### rm -rf crisprBase.buildbin-libdir && mkdir crisprBase.buildbin-libdir && D:\biocbuild\bbs-3.15-bioc\R\bin\R.exe CMD INSTALL --build --library=crisprBase.buildbin-libdir crisprBase_0.99.8.tar.gz
###
##############################################################################
##############################################################################
* installing *source* package 'crisprBase' ...
** using staged installation
** R
** data
** inst
** byte-compile and prepare package for lazy loading
** help
*** installing help indices
converting help for package 'crisprBase'
finding HTML links ... done
AsCas12a html
CasRx html
CrisprNuclease-class html
Nuclease-class html
SaCas9 html
SpCas9 html
SpGCas9 html
enAsCas12a html
extractPamFromProtospacer html
extractSpacerFromProtospacer html
getAvailableCrisprNucleases html
getPamRanges html
getProtospacerRanges html
getSpacerRanges html
reexports html
restrictionEnzymes html
** building package indices
** installing vignettes
** testing if installed package can be loaded from temporary location
** testing if installed package can be loaded from final location
** testing if installed package keeps a record of temporary installation path
* MD5 sums
packaged installation of 'crisprBase' as crisprBase_0.99.8.zip
* DONE (crisprBase)