| Back to Multiple platform build/check report for BioC 3.15 |
|
This page was generated on 2022-03-18 11:07:14 -0400 (Fri, 18 Mar 2022).
| Hostname | OS | Arch (*) | R version | Installed pkgs |
|---|---|---|---|---|
| nebbiolo1 | Linux (Ubuntu 20.04.4 LTS) | x86_64 | R Under development (unstable) (2022-02-17 r81757) -- "Unsuffered Consequences" | 4334 |
| riesling1 | Windows Server 2019 Standard | x64 | R Under development (unstable) (2021-11-21 r81221) -- "Unsuffered Consequences" | 4097 |
| palomino3 | Windows Server 2022 Datacenter | x64 | R Under development (unstable) (2022-02-17 r81757 ucrt) -- "Unsuffered Consequences" | 4083 |
| merida1 | macOS 10.14.6 Mojave | x86_64 | R Under development (unstable) (2022-03-02 r81842) -- "Unsuffered Consequences" | 4134 |
| Click on any hostname to see more info about the system (e.g. compilers) (*) as reported by 'uname -p', except on Windows and Mac OS X | ||||
|
To the developers/maintainers of the combi package: - Please allow up to 24 hours (and sometimes 48 hours) for your latest push to git@git.bioconductor.org:packages/combi.git to reflect on this report. See How and When does the builder pull? When will my changes propagate? here for more information. - Make sure to use the following settings in order to reproduce any error or warning you see on this page. |
| Package 374/2090 | Hostname | OS / Arch | INSTALL | BUILD | CHECK | BUILD BIN | ||||||||
| combi 1.7.2 (landing page) Stijn Hawinkel
| nebbiolo1 | Linux (Ubuntu 20.04.4 LTS) / x86_64 | OK | OK | OK | |||||||||
| riesling1 | Windows Server 2019 Standard / x64 | OK | OK | OK | OK | |||||||||
| palomino3 | Windows Server 2022 Datacenter / x64 | OK | OK | OK | OK | |||||||||
| merida1 | macOS 10.14.6 Mojave / x86_64 | OK | OK | OK | OK | |||||||||
| Package: combi |
| Version: 1.7.2 |
| Command: rm -rf combi.buildbin-libdir && mkdir combi.buildbin-libdir && D:\biocbuild\bbs-3.15-bioc\R\bin\R.exe CMD INSTALL --build --library=combi.buildbin-libdir combi_1.7.2.tar.gz |
| StartedAt: 2022-03-17 21:01:39 -0400 (Thu, 17 Mar 2022) |
| EndedAt: 2022-03-17 21:02:56 -0400 (Thu, 17 Mar 2022) |
| EllapsedTime: 76.3 seconds |
| RetCode: 0 |
| Status: OK |
| PackageFile: combi_1.7.2.zip |
| PackageFileSize: 1.466 MiB |
##############################################################################
##############################################################################
###
### Running command:
###
### rm -rf combi.buildbin-libdir && mkdir combi.buildbin-libdir && D:\biocbuild\bbs-3.15-bioc\R\bin\R.exe CMD INSTALL --build --library=combi.buildbin-libdir combi_1.7.2.tar.gz
###
##############################################################################
##############################################################################
* installing *source* package 'combi' ...
** using staged installation
** R
** data
** inst
** byte-compile and prepare package for lazy loading
** help
*** installing help indices
converting help for package 'combi'
finding HTML links ... done
addLink html
arrayMult html
buildCentMat html
buildCompMat html
buildConfMat html
buildCovMat html
buildEmptyJac html
buildMarginalOffset html
buildMu html
buildMuMargins html
buildOffsetModel html
checkAlias html
checkMeanVarTrend html
checkMonotonicity html
combi html
convPlot html
deriv2LagrangianFeatures html
deriv2LagrangianLatentVars html
deriv2LagrangianLatentVarsConstr html
derivLagrangianFeatures html
derivLagrangianLatentVars html
derivLagrangianLatentVarsConstr html
estFeatureParameters html
estIndepModel html
estLatentVars html
estMeanVarTrend html
estOff html
extractCoords html
extractData html
extractMat html
filterConfounders html
getInflLatentVar html
gramSchmidtOrth html
indentPlot html
inflPlot html
influence.combi html
jacConfounders html
jacConfoundersComp html
jacFeatures html
jacLatentVars html
jacLatentVarsConstr html
plot.combi html
polyHorner html
predictSpline html
prepareJacMat html
prepareJacMatComp html
prepareScoreMat html
print.combi html
quasiJacIndep html
quasiScoreIndep html
rowMultiply html
scaleCoords html
scoreConfounders html
scoreConfoundersComp html
scoreFeatureParams html
scoreLatentVars html
seqM html
trimOnConfounders html
zhangMetabo html
zhangMetavars html
zhangMicrobio html
** building package indices
** installing vignettes
** testing if installed package can be loaded from temporary location
** testing if installed package can be loaded from final location
** testing if installed package keeps a record of temporary installation path
* MD5 sums
packaged installation of 'combi' as combi_1.7.2.zip
* DONE (combi)