| Back to Multiple platform build/check report for BioC 3.15 |
|
This page was generated on 2022-03-18 11:07:12 -0400 (Fri, 18 Mar 2022).
| Hostname | OS | Arch (*) | R version | Installed pkgs |
|---|---|---|---|---|
| nebbiolo1 | Linux (Ubuntu 20.04.4 LTS) | x86_64 | R Under development (unstable) (2022-02-17 r81757) -- "Unsuffered Consequences" | 4334 |
| riesling1 | Windows Server 2019 Standard | x64 | R Under development (unstable) (2021-11-21 r81221) -- "Unsuffered Consequences" | 4097 |
| palomino3 | Windows Server 2022 Datacenter | x64 | R Under development (unstable) (2022-02-17 r81757 ucrt) -- "Unsuffered Consequences" | 4083 |
| merida1 | macOS 10.14.6 Mojave | x86_64 | R Under development (unstable) (2022-03-02 r81842) -- "Unsuffered Consequences" | 4134 |
| Click on any hostname to see more info about the system (e.g. compilers) (*) as reported by 'uname -p', except on Windows and Mac OS X | ||||
|
To the developers/maintainers of the clusterProfiler package: - Please allow up to 24 hours (and sometimes 48 hours) for your latest push to git@git.bioconductor.org:packages/clusterProfiler.git to reflect on this report. See How and When does the builder pull? When will my changes propagate? here for more information. - Make sure to use the following settings in order to reproduce any error or warning you see on this page. |
| Package 338/2090 | Hostname | OS / Arch | INSTALL | BUILD | CHECK | BUILD BIN | ||||||||
| clusterProfiler 4.3.3 (landing page) Guangchuang Yu
| nebbiolo1 | Linux (Ubuntu 20.04.4 LTS) / x86_64 | OK | OK | OK | |||||||||
| riesling1 | Windows Server 2019 Standard / x64 | OK | OK | OK | OK | |||||||||
| palomino3 | Windows Server 2022 Datacenter / x64 | OK | OK | OK | OK | |||||||||
| merida1 | macOS 10.14.6 Mojave / x86_64 | OK | OK | OK | OK | |||||||||
| Package: clusterProfiler |
| Version: 4.3.3 |
| Command: rm -rf clusterProfiler.buildbin-libdir && mkdir clusterProfiler.buildbin-libdir && D:\biocbuild\bbs-3.15-bioc\R\bin\R.exe CMD INSTALL --build --library=clusterProfiler.buildbin-libdir clusterProfiler_4.3.3.tar.gz |
| StartedAt: 2022-03-17 21:00:34 -0400 (Thu, 17 Mar 2022) |
| EndedAt: 2022-03-17 21:02:08 -0400 (Thu, 17 Mar 2022) |
| EllapsedTime: 94.2 seconds |
| RetCode: 0 |
| Status: OK |
| PackageFile: clusterProfiler_4.3.3.zip |
| PackageFileSize: 766.5 KiB |
##############################################################################
##############################################################################
###
### Running command:
###
### rm -rf clusterProfiler.buildbin-libdir && mkdir clusterProfiler.buildbin-libdir && D:\biocbuild\bbs-3.15-bioc\R\bin\R.exe CMD INSTALL --build --library=clusterProfiler.buildbin-libdir clusterProfiler_4.3.3.tar.gz
###
##############################################################################
##############################################################################
* installing *source* package 'clusterProfiler' ...
** using staged installation
** R
** data
** inst
** byte-compile and prepare package for lazy loading
** help
*** installing help indices
converting help for package 'clusterProfiler'
finding HTML links ... done
DataSet html
GSEA html
Gff2GeneTable html
bitr html
bitr_kegg html
browseKEGG html
buildGOmap html
clusterProfiler-package html
compareCluster html
finding level-2 HTML links ... done
download_KEGG html
dropGO html
enrichDAVID html
enrichGO html
enrichKEGG html
enrichMKEGG html
enrichWP html
enricher html
get_wp_organisms html
go2ont html
go2term html
gofilter html
groupGO html
groupGOResult-class html
gseGO html
gseKEGG html
gseMKEGG html
gseWP html
idType html
ko2name html
merge_result html
parse_gff html
plotGOgraph html
read-gmt html
reexports html
search_kegg_organism html
simplify-methods html
uniprot_get html
** building package indices
** installing vignettes
** testing if installed package can be loaded from temporary location
** testing if installed package can be loaded from final location
** testing if installed package keeps a record of temporary installation path
* MD5 sums
packaged installation of 'clusterProfiler' as clusterProfiler_4.3.3.zip
* DONE (clusterProfiler)