| Back to Multiple platform build/check report for BioC 3.15 |
|
This page was generated on 2022-03-18 11:07:11 -0400 (Fri, 18 Mar 2022).
| Hostname | OS | Arch (*) | R version | Installed pkgs |
|---|---|---|---|---|
| nebbiolo1 | Linux (Ubuntu 20.04.4 LTS) | x86_64 | R Under development (unstable) (2022-02-17 r81757) -- "Unsuffered Consequences" | 4334 |
| riesling1 | Windows Server 2019 Standard | x64 | R Under development (unstable) (2021-11-21 r81221) -- "Unsuffered Consequences" | 4097 |
| palomino3 | Windows Server 2022 Datacenter | x64 | R Under development (unstable) (2022-02-17 r81757 ucrt) -- "Unsuffered Consequences" | 4083 |
| merida1 | macOS 10.14.6 Mojave | x86_64 | R Under development (unstable) (2022-03-02 r81842) -- "Unsuffered Consequences" | 4134 |
| Click on any hostname to see more info about the system (e.g. compilers) (*) as reported by 'uname -p', except on Windows and Mac OS X | ||||
|
To the developers/maintainers of the cleanUpdTSeq package: - Please allow up to 24 hours (and sometimes 48 hours) for your latest push to git@git.bioconductor.org:packages/cleanUpdTSeq.git to reflect on this report. See How and When does the builder pull? When will my changes propagate? here for more information. - Make sure to use the following settings in order to reproduce any error or warning you see on this page. |
| Package 323/2090 | Hostname | OS / Arch | INSTALL | BUILD | CHECK | BUILD BIN | ||||||||
| cleanUpdTSeq 1.33.1 (landing page) Jianhong Ou
| nebbiolo1 | Linux (Ubuntu 20.04.4 LTS) / x86_64 | OK | OK | OK | |||||||||
| riesling1 | Windows Server 2019 Standard / x64 | OK | OK | OK | OK | |||||||||
| palomino3 | Windows Server 2022 Datacenter / x64 | OK | OK | OK | OK | |||||||||
| merida1 | macOS 10.14.6 Mojave / x86_64 | OK | OK | OK | OK | |||||||||
| Package: cleanUpdTSeq |
| Version: 1.33.1 |
| Command: D:\biocbuild\bbs-3.15-bioc\R\bin\R.exe CMD check --no-multiarch --install=check:cleanUpdTSeq.install-out.txt --library=D:\biocbuild\bbs-3.15-bioc\R\library --no-vignettes --timings cleanUpdTSeq_1.33.1.tar.gz |
| StartedAt: 2022-03-17 18:43:57 -0400 (Thu, 17 Mar 2022) |
| EndedAt: 2022-03-17 18:47:45 -0400 (Thu, 17 Mar 2022) |
| EllapsedTime: 228.8 seconds |
| RetCode: 0 |
| Status: OK |
| CheckDir: cleanUpdTSeq.Rcheck |
| Warnings: 0 |
##############################################################################
##############################################################################
###
### Running command:
###
### D:\biocbuild\bbs-3.15-bioc\R\bin\R.exe CMD check --no-multiarch --install=check:cleanUpdTSeq.install-out.txt --library=D:\biocbuild\bbs-3.15-bioc\R\library --no-vignettes --timings cleanUpdTSeq_1.33.1.tar.gz
###
##############################################################################
##############################################################################
* using log directory 'D:/biocbuild/bbs-3.15-bioc/meat/cleanUpdTSeq.Rcheck'
* using R Under development (unstable) (2021-11-21 r81221)
* using platform: x86_64-w64-mingw32 (64-bit)
* using session charset: ISO8859-1
* using option '--no-vignettes'
* checking for file 'cleanUpdTSeq/DESCRIPTION' ... OK
* checking extension type ... Package
* this is package 'cleanUpdTSeq' version '1.33.1'
* package encoding: UTF-8
* checking package namespace information ... OK
* checking package dependencies ... OK
* checking if this is a source package ... OK
* checking if there is a namespace ... OK
* checking for hidden files and directories ... OK
* checking for portable file names ... OK
* checking whether package 'cleanUpdTSeq' can be installed ... OK
* checking installed package size ... NOTE
installed size is 5.5Mb
sub-directories of 1Mb or more:
data 4.4Mb
* checking package directory ... OK
* checking 'build' directory ... OK
* checking DESCRIPTION meta-information ... OK
* checking top-level files ... OK
* checking for left-over files ... OK
* checking index information ... OK
* checking package subdirectories ... OK
* checking R files for non-ASCII characters ... OK
* checking R files for syntax errors ... OK
* checking whether the package can be loaded ... OK
* checking whether the package can be loaded with stated dependencies ... OK
* checking whether the package can be unloaded cleanly ... OK
* checking whether the namespace can be loaded with stated dependencies ... OK
* checking whether the namespace can be unloaded cleanly ... OK
* checking dependencies in R code ... OK
* checking S3 generic/method consistency ... OK
* checking replacement functions ... OK
* checking foreign function calls ... OK
* checking R code for possible problems ... OK
* checking Rd files ... OK
* checking Rd metadata ... OK
* checking Rd cross-references ... OK
* checking for missing documentation entries ... OK
* checking for code/documentation mismatches ... OK
* checking Rd \usage sections ... OK
* checking Rd contents ... OK
* checking for unstated dependencies in examples ... OK
* checking contents of 'data' directory ... OK
* checking data for non-ASCII characters ... OK
* checking LazyData ... OK
* checking data for ASCII and uncompressed saves ... OK
* checking files in 'vignettes' ... OK
* checking examples ... OK
Examples with CPU (user + system) or elapsed time > 5s
user system elapsed
predictTestSet 4.06 1.79 5.86
* checking for unstated dependencies in 'tests' ... OK
* checking tests ...
Running 'runTests.R'
OK
* checking for unstated dependencies in vignettes ... OK
* checking package vignettes in 'inst/doc' ... OK
* checking running R code from vignettes ... SKIPPED
* checking re-building of vignette outputs ... SKIPPED
* checking PDF version of manual ... OK
* DONE
Status: 1 NOTE
See
'D:/biocbuild/bbs-3.15-bioc/meat/cleanUpdTSeq.Rcheck/00check.log'
for details.
cleanUpdTSeq.Rcheck/00install.out
##############################################################################
##############################################################################
###
### Running command:
###
### D:\biocbuild\bbs-3.15-bioc\R\bin\R.exe CMD INSTALL cleanUpdTSeq
###
##############################################################################
##############################################################################
* installing to library 'D:/biocbuild/bbs-3.15-bioc/R/library'
* installing *source* package 'cleanUpdTSeq' ...
** using staged installation
** R
** data
*** moving datasets to lazyload DB
** inst
** byte-compile and prepare package for lazy loading
** help
*** installing help indices
converting help for package 'cleanUpdTSeq'
finding HTML links ... done
BED6WithSeq2GRangesSeq html
PASclassifier-class html
buildClassifier html
buildFeatureVector html
classifier html
cleanUpdTSeq html
data.NaiveBayes html
featureVector-class html
getContextSequences html
modelInfo-class html
naiveBayes-class html
predictTestSet html
** building package indices
** installing vignettes
** testing if installed package can be loaded from temporary location
** testing if installed package can be loaded from final location
** testing if installed package keeps a record of temporary installation path
* DONE (cleanUpdTSeq)
Making 'packages.html' ... done
cleanUpdTSeq.Rcheck/tests/runTests.Rout
R Under development (unstable) (2021-11-21 r81221) -- "Unsuffered Consequences"
Copyright (C) 2021 The R Foundation for Statistical Computing
Platform: x86_64-w64-mingw32/x64 (64-bit)
R is free software and comes with ABSOLUTELY NO WARRANTY.
You are welcome to redistribute it under certain conditions.
Type 'license()' or 'licence()' for distribution details.
R is a collaborative project with many contributors.
Type 'contributors()' for more information and
'citation()' on how to cite R or R packages in publications.
Type 'demo()' for some demos, 'help()' for on-line help, or
'help.start()' for an HTML browser interface to help.
Type 'q()' to quit R.
> require("cleanUpdTSeq") || stop("unable to load Package:cleanUpdTSeq")
Loading required package: cleanUpdTSeq
Loading required package: BSgenome.Drerio.UCSC.danRer7
Loading required package: BSgenome
Loading required package: BiocGenerics
Attaching package: 'BiocGenerics'
The following objects are masked from 'package:stats':
IQR, mad, sd, var, xtabs
The following objects are masked from 'package:base':
Filter, Find, Map, Position, Reduce, anyDuplicated, append,
as.data.frame, basename, cbind, colnames, dirname, do.call,
duplicated, eval, evalq, get, grep, grepl, intersect, is.unsorted,
lapply, mapply, match, mget, order, paste, pmax, pmax.int, pmin,
pmin.int, rank, rbind, rownames, sapply, setdiff, sort, table,
tapply, union, unique, unsplit, which.max, which.min
Loading required package: S4Vectors
Loading required package: stats4
Attaching package: 'S4Vectors'
The following objects are masked from 'package:base':
I, expand.grid, unname
Loading required package: IRanges
Attaching package: 'IRanges'
The following object is masked from 'package:grDevices':
windows
Loading required package: GenomeInfoDb
Loading required package: GenomicRanges
Loading required package: Biostrings
Loading required package: XVector
Attaching package: 'Biostrings'
The following object is masked from 'package:base':
strsplit
Loading required package: rtracklayer
[1] TRUE
> BiocGenerics:::testPackage("cleanUpdTSeq")
RUNIT TEST PROTOCOL -- Thu Mar 17 18:47:33 2022
***********************************************
Number of test functions: 1
Number of errors: 0
Number of failures: 0
1 Test Suite :
cleanUpdTSeq RUnit Tests - 1 test function, 0 errors, 0 failures
Number of test functions: 1
Number of errors: 0
Number of failures: 0
>
> proc.time()
user system elapsed
12.45 1.01 13.53
cleanUpdTSeq.Rcheck/cleanUpdTSeq-Ex.timings
| name | user | system | elapsed | |
| BED6WithSeq2GRangesSeq | 0.08 | 0.00 | 0.07 | |
| PASclassifier-class | 0.01 | 0.01 | 0.04 | |
| buildClassifier | 0 | 0 | 0 | |
| buildFeatureVector | 1.32 | 0.11 | 1.44 | |
| classifier | 0.02 | 0.00 | 0.01 | |
| data.NaiveBayes | 2.77 | 1.16 | 3.93 | |
| getContextSequences | 0.2 | 0.0 | 0.2 | |
| predictTestSet | 4.06 | 1.79 | 5.86 | |