| Back to Multiple platform build/check report for BioC 3.15 |
|
This page was generated on 2022-03-18 11:07:10 -0400 (Fri, 18 Mar 2022).
| Hostname | OS | Arch (*) | R version | Installed pkgs |
|---|---|---|---|---|
| nebbiolo1 | Linux (Ubuntu 20.04.4 LTS) | x86_64 | R Under development (unstable) (2022-02-17 r81757) -- "Unsuffered Consequences" | 4334 |
| riesling1 | Windows Server 2019 Standard | x64 | R Under development (unstable) (2021-11-21 r81221) -- "Unsuffered Consequences" | 4097 |
| palomino3 | Windows Server 2022 Datacenter | x64 | R Under development (unstable) (2022-02-17 r81757 ucrt) -- "Unsuffered Consequences" | 4083 |
| merida1 | macOS 10.14.6 Mojave | x86_64 | R Under development (unstable) (2022-03-02 r81842) -- "Unsuffered Consequences" | 4134 |
| Click on any hostname to see more info about the system (e.g. compilers) (*) as reported by 'uname -p', except on Windows and Mac OS X | ||||
|
To the developers/maintainers of the chipseq package: - Please allow up to 24 hours (and sometimes 48 hours) for your latest push to git@git.bioconductor.org:packages/chipseq.git to reflect on this report. See How and When does the builder pull? When will my changes propagate? here for more information. - Make sure to use the following settings in order to reproduce any error or warning you see on this page. |
| Package 303/2090 | Hostname | OS / Arch | INSTALL | BUILD | CHECK | BUILD BIN | ||||||||
| chipseq 1.45.1 (landing page) Bioconductor Package Maintainer
| nebbiolo1 | Linux (Ubuntu 20.04.4 LTS) / x86_64 | OK | OK | WARNINGS | |||||||||
| riesling1 | Windows Server 2019 Standard / x64 | OK | OK | WARNINGS | OK | |||||||||
| palomino3 | Windows Server 2022 Datacenter / x64 | OK | OK | WARNINGS | OK | |||||||||
| merida1 | macOS 10.14.6 Mojave / x86_64 | OK | OK | WARNINGS | OK | |||||||||
| Package: chipseq |
| Version: 1.45.1 |
| Command: rm -rf chipseq.buildbin-libdir && mkdir chipseq.buildbin-libdir && D:\biocbuild\bbs-3.15-bioc\R\bin\R.exe CMD INSTALL --build --library=chipseq.buildbin-libdir chipseq_1.45.1.tar.gz |
| StartedAt: 2022-03-17 20:59:41 -0400 (Thu, 17 Mar 2022) |
| EndedAt: 2022-03-17 21:01:11 -0400 (Thu, 17 Mar 2022) |
| EllapsedTime: 89.5 seconds |
| RetCode: 0 |
| Status: OK |
| PackageFile: chipseq_1.45.1.zip |
| PackageFileSize: 2.247 MiB |
##############################################################################
##############################################################################
###
### Running command:
###
### rm -rf chipseq.buildbin-libdir && mkdir chipseq.buildbin-libdir && D:\biocbuild\bbs-3.15-bioc\R\bin\R.exe CMD INSTALL --build --library=chipseq.buildbin-libdir chipseq_1.45.1.tar.gz
###
##############################################################################
##############################################################################
* installing *source* package 'chipseq' ...
** using staged installation
** libs
"C:/rtools40/mingw64/bin/"gcc -I"D:/biocbuild/bbs-3.15-bioc/R/include" -DNDEBUG -I"C:/extsoft/include" -O2 -Wall -std=gnu99 -mfpmath=sse -msse2 -mstackrealign -fno-reorder-blocks-and-partition -c rlesumprod.c -o rlesumprod.o
C:/rtools40/mingw64/bin/gcc -shared -s -static-libgcc -o chipseq.dll tmp.def rlesumprod.o -LC:/extsoft/lib/x64 -LC:/extsoft/lib -LD:/biocbuild/bbs-3.15-bioc/R/bin/x64 -lR
installing to D:/biocbuild/bbs-3.15-bioc/meat/chipseq.buildbin-libdir/00LOCK-chipseq/00new/chipseq/libs/x64
** R
** data
** inst
** byte-compile and prepare package for lazy loading
** help
*** installing help indices
converting help for package 'chipseq'
finding HTML links ... done
chipseqFilter html
coverageplot html
cstest html
diffPeakSummary html
estimate.mean.fraglen html
islandDepthPlot html
laneSubsample html
peakCutoff html
peakSummary-methods html
subsetSummary html
** building package indices
** installing vignettes
** testing if installed package can be loaded from temporary location
** testing if installed package can be loaded from final location
** testing if installed package keeps a record of temporary installation path
* MD5 sums
packaged installation of 'chipseq' as chipseq_1.45.1.zip
* DONE (chipseq)