Back to Multiple platform build/check report for BioC 3.15 |
|
This page was generated on 2022-03-18 11:07:10 -0400 (Fri, 18 Mar 2022).
Hostname | OS | Arch (*) | R version | Installed pkgs |
---|---|---|---|---|
nebbiolo1 | Linux (Ubuntu 20.04.4 LTS) | x86_64 | R Under development (unstable) (2022-02-17 r81757) -- "Unsuffered Consequences" | 4334 |
riesling1 | Windows Server 2019 Standard | x64 | R Under development (unstable) (2021-11-21 r81221) -- "Unsuffered Consequences" | 4097 |
palomino3 | Windows Server 2022 Datacenter | x64 | R Under development (unstable) (2022-02-17 r81757 ucrt) -- "Unsuffered Consequences" | 4083 |
merida1 | macOS 10.14.6 Mojave | x86_64 | R Under development (unstable) (2022-03-02 r81842) -- "Unsuffered Consequences" | 4134 |
Click on any hostname to see more info about the system (e.g. compilers) (*) as reported by 'uname -p', except on Windows and Mac OS X |
To the developers/maintainers of the chipenrich package: - Please allow up to 24 hours (and sometimes 48 hours) for your latest push to git@git.bioconductor.org:packages/chipenrich.git to reflect on this report. See How and When does the builder pull? When will my changes propagate? here for more information. - Make sure to use the following settings in order to reproduce any error or warning you see on this page. |
Package 298/2090 | Hostname | OS / Arch | INSTALL | BUILD | CHECK | BUILD BIN | ||||||||
chipenrich 2.19.0 (landing page) Raymond G. Cavalcante
| nebbiolo1 | Linux (Ubuntu 20.04.4 LTS) / x86_64 | OK | OK | OK | |||||||||
riesling1 | Windows Server 2019 Standard / x64 | OK | OK | OK | OK | |||||||||
palomino3 | Windows Server 2022 Datacenter / x64 | OK | OK | OK | OK | |||||||||
merida1 | macOS 10.14.6 Mojave / x86_64 | OK | OK | OK | OK | |||||||||
Package: chipenrich |
Version: 2.19.0 |
Command: D:\biocbuild\bbs-3.15-bioc\R\bin\R.exe CMD check --no-multiarch --install=check:chipenrich.install-out.txt --library=D:\biocbuild\bbs-3.15-bioc\R\library --no-vignettes --timings chipenrich_2.19.0.tar.gz |
StartedAt: 2022-03-17 18:42:39 -0400 (Thu, 17 Mar 2022) |
EndedAt: 2022-03-17 18:49:35 -0400 (Thu, 17 Mar 2022) |
EllapsedTime: 416.4 seconds |
RetCode: 0 |
Status: OK |
CheckDir: chipenrich.Rcheck |
Warnings: 0 |
############################################################################## ############################################################################## ### ### Running command: ### ### D:\biocbuild\bbs-3.15-bioc\R\bin\R.exe CMD check --no-multiarch --install=check:chipenrich.install-out.txt --library=D:\biocbuild\bbs-3.15-bioc\R\library --no-vignettes --timings chipenrich_2.19.0.tar.gz ### ############################################################################## ############################################################################## * using log directory 'D:/biocbuild/bbs-3.15-bioc/meat/chipenrich.Rcheck' * using R Under development (unstable) (2021-11-21 r81221) * using platform: x86_64-w64-mingw32 (64-bit) * using session charset: ISO8859-1 * using option '--no-vignettes' * checking for file 'chipenrich/DESCRIPTION' ... OK * checking extension type ... Package * this is package 'chipenrich' version '2.19.0' * checking package namespace information ... OK * checking package dependencies ... OK * checking if this is a source package ... OK * checking if there is a namespace ... OK * checking for hidden files and directories ... OK * checking for portable file names ... OK * checking whether package 'chipenrich' can be installed ... OK * checking installed package size ... OK * checking package directory ... OK * checking 'build' directory ... OK * checking DESCRIPTION meta-information ... OK * checking top-level files ... OK * checking for left-over files ... OK * checking index information ... OK * checking package subdirectories ... OK * checking R files for non-ASCII characters ... OK * checking R files for syntax errors ... OK * checking whether the package can be loaded ... OK * checking whether the package can be loaded with stated dependencies ... OK * checking whether the package can be unloaded cleanly ... OK * checking whether the namespace can be loaded with stated dependencies ... OK * checking whether the namespace can be unloaded cleanly ... OK * checking dependencies in R code ... OK * checking S3 generic/method consistency ... OK * checking replacement functions ... OK * checking foreign function calls ... OK * checking R code for possible problems ... OK * checking Rd files ... OK * checking Rd metadata ... OK * checking Rd cross-references ... OK * checking for missing documentation entries ... OK * checking for code/documentation mismatches ... OK * checking Rd \usage sections ... OK * checking Rd contents ... OK * checking for unstated dependencies in examples ... OK * checking files in 'vignettes' ... OK * checking examples ... OK Examples with CPU (user + system) or elapsed time > 5s user system elapsed polyenrich 5.71 1.07 6.79 broadenrich 5.89 0.86 6.75 * checking for unstated dependencies in 'tests' ... OK * checking tests ... Running 'testthat.R' OK * checking for unstated dependencies in vignettes ... OK * checking package vignettes in 'inst/doc' ... OK * checking running R code from vignettes ... SKIPPED * checking re-building of vignette outputs ... SKIPPED * checking PDF version of manual ... OK * DONE Status: OK
chipenrich.Rcheck/00install.out
############################################################################## ############################################################################## ### ### Running command: ### ### D:\biocbuild\bbs-3.15-bioc\R\bin\R.exe CMD INSTALL chipenrich ### ############################################################################## ############################################################################## * installing to library 'D:/biocbuild/bbs-3.15-bioc/R/library' * installing *source* package 'chipenrich' ... ** using staged installation ** R ** inst ** byte-compile and prepare package for lazy loading ** help *** installing help indices converting help for package 'chipenrich' finding HTML links ... done assign_peak_segments html assign_peaks html broadenrich html calc_peak_gene_overlap html chipenrich html chipenrich_package html filter_genesets html genome_to_organism html genome_to_orgdb html get_test_method html hybridenrich html load_peaks html num_peaks_per_gene html peaks2genes html plot_chipenrich_spline html plot_dist_to_tss html plot_gene_coverage html plot_polyenrich_spline html polyenrich html post_process_enrichments html postprocess_peak_grs html proxReg html read_bed html read_geneset html read_ldef html read_mappa html recode_peaks html reset_ncores_for_windows html setup_genesets html setup_locusdef html setup_mappa html supported_genesets html supported_genomes html supported_locusdefs html supported_methods html supported_read_lengths html ** building package indices ** installing vignettes ** testing if installed package can be loaded from temporary location ** testing if installed package can be loaded from final location ** testing if installed package keeps a record of temporary installation path * DONE (chipenrich) Making 'packages.html' ...Warning in packageDescription(i, lib.loc = lib, fields = "Title", encoding = "UTF-8") : DESCRIPTION file of package 'mnem' is missing or broken done
chipenrich.Rcheck/tests/testthat.Rout
R Under development (unstable) (2021-11-21 r81221) -- "Unsuffered Consequences" Copyright (C) 2021 The R Foundation for Statistical Computing Platform: x86_64-w64-mingw32/x64 (64-bit) R is free software and comes with ABSOLUTELY NO WARRANTY. You are welcome to redistribute it under certain conditions. Type 'license()' or 'licence()' for distribution details. R is a collaborative project with many contributors. Type 'contributors()' for more information and 'citation()' on how to cite R or R packages in publications. Type 'demo()' for some demos, 'help()' for on-line help, or 'help.start()' for an HTML browser interface to help. Type 'q()' to quit R. > library(testthat) > library(chipenrich) > > test_check("chipenrich") [ FAIL 0 | WARN 0 | SKIP 3 | PASS 170 ] == Skipped tests =============================================================== * empty test (3) [ FAIL 0 | WARN 0 | SKIP 3 | PASS 170 ] > > proc.time() user system elapsed 167.10 12.95 180.45
chipenrich.Rcheck/chipenrich-Ex.timings
name | user | system | elapsed | |
assign_peak_segments | 0.18 | 0.02 | 0.20 | |
assign_peaks | 0.38 | 0.03 | 0.41 | |
broadenrich | 5.89 | 0.86 | 6.75 | |
calc_peak_gene_overlap | 0.25 | 0.01 | 0.26 | |
chipenrich | 1.39 | 0.08 | 1.47 | |
load_peaks | 0.05 | 0.00 | 0.05 | |
num_peaks_per_gene | 0.43 | 0.00 | 0.43 | |
peaks2genes | 0.41 | 0.00 | 0.41 | |
plot_chipenrich_spline | 1.80 | 0.24 | 2.05 | |
plot_dist_to_tss | 0.25 | 0.03 | 0.28 | |
plot_gene_coverage | 0.68 | 0.09 | 0.78 | |
plot_polyenrich_spline | 2.11 | 0.38 | 2.48 | |
polyenrich | 5.71 | 1.07 | 6.79 | |
proxReg | 0.34 | 0.04 | 0.37 | |
read_bed | 0.19 | 0.00 | 0.19 | |
supported_genesets | 0 | 0 | 0 | |
supported_genomes | 0 | 0 | 0 | |
supported_locusdefs | 0.01 | 0.00 | 0.01 | |
supported_methods | 0 | 0 | 0 | |
supported_read_lengths | 0 | 0 | 0 | |