| Back to Multiple platform build/check report for BioC 3.15 |
|
This page was generated on 2022-03-18 11:07:08 -0400 (Fri, 18 Mar 2022).
| Hostname | OS | Arch (*) | R version | Installed pkgs |
|---|---|---|---|---|
| nebbiolo1 | Linux (Ubuntu 20.04.4 LTS) | x86_64 | R Under development (unstable) (2022-02-17 r81757) -- "Unsuffered Consequences" | 4334 |
| riesling1 | Windows Server 2019 Standard | x64 | R Under development (unstable) (2021-11-21 r81221) -- "Unsuffered Consequences" | 4097 |
| palomino3 | Windows Server 2022 Datacenter | x64 | R Under development (unstable) (2022-02-17 r81757 ucrt) -- "Unsuffered Consequences" | 4083 |
| merida1 | macOS 10.14.6 Mojave | x86_64 | R Under development (unstable) (2022-03-02 r81842) -- "Unsuffered Consequences" | 4134 |
| Click on any hostname to see more info about the system (e.g. compilers) (*) as reported by 'uname -p', except on Windows and Mac OS X | ||||
|
To the developers/maintainers of the cellHTS2 package: - Please allow up to 24 hours (and sometimes 48 hours) for your latest push to git@git.bioconductor.org:packages/cellHTS2.git to reflect on this report. See How and When does the builder pull? When will my changes propagate? here for more information. - Make sure to use the following settings in order to reproduce any error or warning you see on this page. |
| Package 264/2090 | Hostname | OS / Arch | INSTALL | BUILD | CHECK | BUILD BIN | ||||||||
| cellHTS2 2.59.0 (landing page) Joseph Barry
| nebbiolo1 | Linux (Ubuntu 20.04.4 LTS) / x86_64 | OK | OK | OK | |||||||||
| riesling1 | Windows Server 2019 Standard / x64 | OK | OK | OK | OK | |||||||||
| palomino3 | Windows Server 2022 Datacenter / x64 | OK | OK | OK | OK | |||||||||
| merida1 | macOS 10.14.6 Mojave / x86_64 | OK | OK | OK | OK | |||||||||
| Package: cellHTS2 |
| Version: 2.59.0 |
| Command: rm -rf cellHTS2.buildbin-libdir && mkdir cellHTS2.buildbin-libdir && D:\biocbuild\bbs-3.15-bioc\R\bin\R.exe CMD INSTALL --build --library=cellHTS2.buildbin-libdir cellHTS2_2.59.0.tar.gz |
| StartedAt: 2022-03-17 20:58:35 -0400 (Thu, 17 Mar 2022) |
| EndedAt: 2022-03-17 21:00:09 -0400 (Thu, 17 Mar 2022) |
| EllapsedTime: 93.8 seconds |
| RetCode: 0 |
| Status: OK |
| PackageFile: cellHTS2_2.59.0.zip |
| PackageFileSize: 4.047 MiB |
##############################################################################
##############################################################################
###
### Running command:
###
### rm -rf cellHTS2.buildbin-libdir && mkdir cellHTS2.buildbin-libdir && D:\biocbuild\bbs-3.15-bioc\R\bin\R.exe CMD INSTALL --build --library=cellHTS2.buildbin-libdir cellHTS2_2.59.0.tar.gz
###
##############################################################################
##############################################################################
* installing *source* package 'cellHTS2' ...
** using staged installation
** R
** data
** inst
** byte-compile and prepare package for lazy loading
** help
*** installing help indices
converting help for package 'cellHTS2'
finding HTML links ... done
Bscore html
Data html
ROC-class html
ROC html
annotate html
batch html
bdgpbiomart html
buildCellHTS2 html
cellHTS-class html
cellHTS2 html
configurationAsScreenPlot html
configure html
convertOldCellHTS html
convertWellCoordinates html
data-KcViab html
data-KcViabSmall html
data-dualCh html
data-oldKcViabSmall html
getDynamicRange html
getEnVisionRawData html
getMeasureRepAgreement html
getTopTable html
getZfactor html
gseaModule html
imageScreen html
intensityFiles html
normalizePlates html
oneRowPerId html
plate html
plateEffects html
plotSpatialEffects html
readHTAnalystData html
readPlateList html
rsa html
scoreReplicates html
scores2calls html
setSettings html
spatialNormalization html
state html
summarizeChannels html
summarizeReplicates html
templateDescriptionFile html
updateCellHTS html
wellAnno html
write.tabdel html
writeReport html
writeTab html
** building package indices
** installing vignettes
** testing if installed package can be loaded from temporary location
** testing if installed package can be loaded from final location
** testing if installed package keeps a record of temporary installation path
* MD5 sums
packaged installation of 'cellHTS2' as cellHTS2_2.59.0.zip
* DONE (cellHTS2)