| Back to Multiple platform build/check report for BioC 3.15 |
|
This page was generated on 2022-03-18 11:07:09 -0400 (Fri, 18 Mar 2022).
| Hostname | OS | Arch (*) | R version | Installed pkgs |
|---|---|---|---|---|
| nebbiolo1 | Linux (Ubuntu 20.04.4 LTS) | x86_64 | R Under development (unstable) (2022-02-17 r81757) -- "Unsuffered Consequences" | 4334 |
| riesling1 | Windows Server 2019 Standard | x64 | R Under development (unstable) (2021-11-21 r81221) -- "Unsuffered Consequences" | 4097 |
| palomino3 | Windows Server 2022 Datacenter | x64 | R Under development (unstable) (2022-02-17 r81757 ucrt) -- "Unsuffered Consequences" | 4083 |
| merida1 | macOS 10.14.6 Mojave | x86_64 | R Under development (unstable) (2022-03-02 r81842) -- "Unsuffered Consequences" | 4134 |
| Click on any hostname to see more info about the system (e.g. compilers) (*) as reported by 'uname -p', except on Windows and Mac OS X | ||||
|
To the developers/maintainers of the ceRNAnetsim package: - Please allow up to 24 hours (and sometimes 48 hours) for your latest push to git@git.bioconductor.org:packages/ceRNAnetsim.git to reflect on this report. See How and When does the builder pull? When will my changes propagate? here for more information. - Make sure to use the following settings in order to reproduce any error or warning you see on this page. |
| Package 278/2090 | Hostname | OS / Arch | INSTALL | BUILD | CHECK | BUILD BIN | ||||||||
| ceRNAnetsim 1.7.3 (landing page) Selcen Ari Yuka
| nebbiolo1 | Linux (Ubuntu 20.04.4 LTS) / x86_64 | OK | OK | OK | |||||||||
| riesling1 | Windows Server 2019 Standard / x64 | OK | OK | OK | OK | |||||||||
| palomino3 | Windows Server 2022 Datacenter / x64 | OK | OK | OK | OK | |||||||||
| merida1 | macOS 10.14.6 Mojave / x86_64 | OK | OK | OK | OK | |||||||||
| Package: ceRNAnetsim |
| Version: 1.7.3 |
| Command: D:\biocbuild\bbs-3.15-bioc\R\bin\R.exe CMD check --no-multiarch --install=check:ceRNAnetsim.install-out.txt --library=D:\biocbuild\bbs-3.15-bioc\R\library --no-vignettes --timings ceRNAnetsim_1.7.3.tar.gz |
| StartedAt: 2022-03-17 18:41:34 -0400 (Thu, 17 Mar 2022) |
| EndedAt: 2022-03-17 18:43:53 -0400 (Thu, 17 Mar 2022) |
| EllapsedTime: 138.8 seconds |
| RetCode: 0 |
| Status: OK |
| CheckDir: ceRNAnetsim.Rcheck |
| Warnings: 0 |
##############################################################################
##############################################################################
###
### Running command:
###
### D:\biocbuild\bbs-3.15-bioc\R\bin\R.exe CMD check --no-multiarch --install=check:ceRNAnetsim.install-out.txt --library=D:\biocbuild\bbs-3.15-bioc\R\library --no-vignettes --timings ceRNAnetsim_1.7.3.tar.gz
###
##############################################################################
##############################################################################
* using log directory 'D:/biocbuild/bbs-3.15-bioc/meat/ceRNAnetsim.Rcheck'
* using R Under development (unstable) (2021-11-21 r81221)
* using platform: x86_64-w64-mingw32 (64-bit)
* using session charset: ISO8859-1
* using option '--no-vignettes'
* checking for file 'ceRNAnetsim/DESCRIPTION' ... OK
* checking extension type ... Package
* this is package 'ceRNAnetsim' version '1.7.3'
* package encoding: UTF-8
* checking package namespace information ... OK
* checking package dependencies ... OK
* checking if this is a source package ... OK
* checking if there is a namespace ... OK
* checking for hidden files and directories ... OK
* checking for portable file names ... OK
* checking whether package 'ceRNAnetsim' can be installed ... OK
* checking installed package size ... OK
* checking package directory ... OK
* checking 'build' directory ... OK
* checking DESCRIPTION meta-information ... OK
* checking top-level files ... OK
* checking for left-over files ... OK
* checking index information ... OK
* checking package subdirectories ... OK
* checking R files for non-ASCII characters ... OK
* checking R files for syntax errors ... OK
* checking whether the package can be loaded ... OK
* checking whether the package can be loaded with stated dependencies ... OK
* checking whether the package can be unloaded cleanly ... OK
* checking whether the namespace can be loaded with stated dependencies ... OK
* checking whether the namespace can be unloaded cleanly ... OK
* checking dependencies in R code ... OK
* checking S3 generic/method consistency ... OK
* checking replacement functions ... OK
* checking foreign function calls ... OK
* checking R code for possible problems ... OK
* checking Rd files ... OK
* checking Rd metadata ... OK
* checking Rd cross-references ... OK
* checking for missing documentation entries ... OK
* checking for code/documentation mismatches ... OK
* checking Rd \usage sections ... OK
* checking Rd contents ... OK
* checking for unstated dependencies in examples ... OK
* checking contents of 'data' directory ... OK
* checking data for non-ASCII characters ... OK
* checking data for ASCII and uncompressed saves ... OK
* checking files in 'vignettes' ... OK
* checking examples ... OK
Examples with CPU (user + system) or elapsed time > 5s
user system elapsed
find_node_perturbation 11.82 0.17 11.99
find_targeting_nodes 6.42 0.01 6.43
simulate_vis 5.41 0.07 5.47
* checking for unstated dependencies in 'tests' ... OK
* checking tests ...
Running 'testthat.R'
OK
* checking for unstated dependencies in vignettes ... OK
* checking package vignettes in 'inst/doc' ... OK
* checking running R code from vignettes ... SKIPPED
* checking re-building of vignette outputs ... SKIPPED
* checking PDF version of manual ... OK
* DONE
Status: OK
ceRNAnetsim.Rcheck/00install.out
##############################################################################
##############################################################################
###
### Running command:
###
### D:\biocbuild\bbs-3.15-bioc\R\bin\R.exe CMD INSTALL ceRNAnetsim
###
##############################################################################
##############################################################################
* installing to library 'D:/biocbuild/bbs-3.15-bioc/R/library'
* installing *source* package 'ceRNAnetsim' ...
** using staged installation
** R
** data
** inst
** byte-compile and prepare package for lazy loading
** help
*** installing help indices
converting help for package 'ceRNAnetsim'
finding HTML links ... done
TCGA_E9_A1N5_mirnanormal html
TCGA_E9_A1N5_mirnatumor html
TCGA_E9_A1N5_normal html
TCGA_E9_A1N5_tumor html
calc_perturbation html
find_affected_nodes html
find_iteration html
find_node_perturbation html
find_targeting_nodes html
gene_knockdown html
huge_example html
midsamp html
midsamp_new_counts html
minsamp html
mirtarbasegene html
new_counts html
normalize html
prepare_rhs html
prepare_rhs_once html
priming_graph html
simulate html
simulate_vis html
update_how html
update_nodes html
update_variables html
vis_graph html
** building package indices
** installing vignettes
** testing if installed package can be loaded from temporary location
** testing if installed package can be loaded from final location
** testing if installed package keeps a record of temporary installation path
* DONE (ceRNAnetsim)
Making 'packages.html' ... done
ceRNAnetsim.Rcheck/tests/testthat.Rout
R Under development (unstable) (2021-11-21 r81221) -- "Unsuffered Consequences"
Copyright (C) 2021 The R Foundation for Statistical Computing
Platform: x86_64-w64-mingw32/x64 (64-bit)
R is free software and comes with ABSOLUTELY NO WARRANTY.
You are welcome to redistribute it under certain conditions.
Type 'license()' or 'licence()' for distribution details.
R is a collaborative project with many contributors.
Type 'contributors()' for more information and
'citation()' on how to cite R or R packages in publications.
Type 'demo()' for some demos, 'help()' for on-line help, or
'help.start()' for an HTML browser interface to help.
Type 'q()' to quit R.
> library(testthat)
> library(ceRNAnetsim)
Loading required package: dplyr
Attaching package: 'dplyr'
The following object is masked from 'package:testthat':
matches
The following objects are masked from 'package:stats':
filter, lag
The following objects are masked from 'package:base':
intersect, setdiff, setequal, union
Loading required package: tidygraph
Attaching package: 'tidygraph'
The following object is masked from 'package:testthat':
matches
The following object is masked from 'package:stats':
filter
Attaching package: 'ceRNAnetsim'
The following object is masked from 'package:stats':
simulate
>
>
> test_check("ceRNAnetsim")
[ FAIL 0 | WARN 36 | SKIP 0 | PASS 38 ]
[ FAIL 0 | WARN 36 | SKIP 0 | PASS 38 ]
>
> proc.time()
user system elapsed
42.68 0.59 43.34
ceRNAnetsim.Rcheck/ceRNAnetsim-Ex.timings
| name | user | system | elapsed | |
| calc_perturbation | 1.54 | 0.02 | 1.57 | |
| find_affected_nodes | 0.49 | 0.02 | 0.50 | |
| find_iteration | 1.64 | 0.00 | 1.64 | |
| find_node_perturbation | 11.82 | 0.17 | 11.99 | |
| find_targeting_nodes | 6.42 | 0.01 | 6.43 | |
| priming_graph | 0.48 | 0.00 | 0.49 | |
| simulate | 0.92 | 0.00 | 0.92 | |
| simulate_vis | 5.41 | 0.07 | 5.47 | |
| update_how | 0.81 | 0.01 | 0.83 | |
| update_nodes | 0.27 | 0.00 | 0.26 | |
| update_variables | 0.25 | 0.00 | 0.25 | |
| vis_graph | 1.08 | 0.00 | 1.08 | |