| Back to Multiple platform build/check report for BioC 3.15 |
|
This page was generated on 2022-03-18 11:07:04 -0400 (Fri, 18 Mar 2022).
| Hostname | OS | Arch (*) | R version | Installed pkgs |
|---|---|---|---|---|
| nebbiolo1 | Linux (Ubuntu 20.04.4 LTS) | x86_64 | R Under development (unstable) (2022-02-17 r81757) -- "Unsuffered Consequences" | 4334 |
| riesling1 | Windows Server 2019 Standard | x64 | R Under development (unstable) (2021-11-21 r81221) -- "Unsuffered Consequences" | 4097 |
| palomino3 | Windows Server 2022 Datacenter | x64 | R Under development (unstable) (2022-02-17 r81757 ucrt) -- "Unsuffered Consequences" | 4083 |
| merida1 | macOS 10.14.6 Mojave | x86_64 | R Under development (unstable) (2022-03-02 r81842) -- "Unsuffered Consequences" | 4134 |
| Click on any hostname to see more info about the system (e.g. compilers) (*) as reported by 'uname -p', except on Windows and Mac OS X | ||||
|
To the developers/maintainers of the bluster package: - Please allow up to 24 hours (and sometimes 48 hours) for your latest push to git@git.bioconductor.org:packages/bluster.git to reflect on this report. See How and When does the builder pull? When will my changes propagate? here for more information. - Make sure to use the following settings in order to reproduce any error or warning you see on this page. |
| Package 203/2090 | Hostname | OS / Arch | INSTALL | BUILD | CHECK | BUILD BIN | ||||||||
| bluster 1.5.0 (landing page) Aaron Lun
| nebbiolo1 | Linux (Ubuntu 20.04.4 LTS) / x86_64 | OK | OK | OK | |||||||||
| riesling1 | Windows Server 2019 Standard / x64 | OK | OK | OK | OK | |||||||||
| palomino3 | Windows Server 2022 Datacenter / x64 | OK | OK | OK | OK | |||||||||
| merida1 | macOS 10.14.6 Mojave / x86_64 | OK | OK | OK | OK | |||||||||
| Package: bluster |
| Version: 1.5.0 |
| Command: rm -rf bluster.buildbin-libdir && mkdir bluster.buildbin-libdir && D:\biocbuild\bbs-3.15-bioc\R\bin\R.exe CMD INSTALL --build --library=bluster.buildbin-libdir bluster_1.5.0.tar.gz |
| StartedAt: 2022-03-17 20:56:26 -0400 (Thu, 17 Mar 2022) |
| EndedAt: 2022-03-17 20:58:01 -0400 (Thu, 17 Mar 2022) |
| EllapsedTime: 95.4 seconds |
| RetCode: 0 |
| Status: OK |
| PackageFile: bluster_1.5.0.zip |
| PackageFileSize: 2.417 MiB |
##############################################################################
##############################################################################
###
### Running command:
###
### rm -rf bluster.buildbin-libdir && mkdir bluster.buildbin-libdir && D:\biocbuild\bbs-3.15-bioc\R\bin\R.exe CMD INSTALL --build --library=bluster.buildbin-libdir bluster_1.5.0.tar.gz
###
##############################################################################
##############################################################################
* installing *source* package 'bluster' ...
** using staged installation
** libs
"C:/rtools40/mingw64/bin/"g++ -std=gnu++11 -I"D:/biocbuild/bbs-3.15-bioc/R/include" -DNDEBUG -I'D:/biocbuild/bbs-3.15-bioc/R/library/Rcpp/include' -I"C:/extsoft/include" -O2 -Wall -mfpmath=sse -msse2 -mstackrealign -fno-reorder-blocks-and-partition -c RcppExports.cpp -o RcppExports.o
"C:/rtools40/mingw64/bin/"g++ -std=gnu++11 -I"D:/biocbuild/bbs-3.15-bioc/R/include" -DNDEBUG -I'D:/biocbuild/bbs-3.15-bioc/R/library/Rcpp/include' -I"C:/extsoft/include" -O2 -Wall -mfpmath=sse -msse2 -mstackrealign -fno-reorder-blocks-and-partition -c build_snn.cpp -o build_snn.o
"C:/rtools40/mingw64/bin/"g++ -std=gnu++11 -I"D:/biocbuild/bbs-3.15-bioc/R/include" -DNDEBUG -I'D:/biocbuild/bbs-3.15-bioc/R/library/Rcpp/include' -I"C:/extsoft/include" -O2 -Wall -mfpmath=sse -msse2 -mstackrealign -fno-reorder-blocks-and-partition -c sum_neighbor_weights.cpp -o sum_neighbor_weights.o
C:/rtools40/mingw64/bin/g++ -shared -s -static-libgcc -o bluster.dll tmp.def RcppExports.o build_snn.o sum_neighbor_weights.o -LC:/extsoft/lib/x64 -LC:/extsoft/lib -LD:/biocbuild/bbs-3.15-bioc/R/bin/x64 -lR
installing to D:/biocbuild/bbs-3.15-bioc/meat/bluster.buildbin-libdir/00LOCK-bluster/00new/bluster/libs/x64
** R
** inst
** byte-compile and prepare package for lazy loading
** help
*** installing help indices
converting help for package 'bluster'
finding HTML links ... done
AffinityParam-class html
AgnesParam-class html
BlusterParam-class html
ClaraParam-class html
DbscanParam-class html
finding level-2 HTML links ... done
DianaParam-class html
FixedNumberParam-class html
HclustParam-class html
HierarchicalParam-class html
KmeansParam-class html
MbkmeansParam-class html
NNGraphParam-class html
PamParam-class html
SomParam-class html
TwoStepParam-class html
approxSilhouette html
bluster-package html
bootstrapStability html
clusterRMSD html
clusterRows html
clusterSweep html
compareClusterings html
defaultArguments html
linkClusters html
makeSNNGraph html
mergeCommunities html
neighborPurity html
nestedClusters html
pairwiseModularity html
pairwiseRand html
** building package indices
** installing vignettes
** testing if installed package can be loaded from temporary location
** testing if installed package can be loaded from final location
** testing if installed package keeps a record of temporary installation path
* MD5 sums
packaged installation of 'bluster' as bluster_1.5.0.zip
* DONE (bluster)