| Back to Multiple platform build/check report for BioC 3.15 |
|
This page was generated on 2022-03-18 11:07:00 -0400 (Fri, 18 Mar 2022).
| Hostname | OS | Arch (*) | R version | Installed pkgs |
|---|---|---|---|---|
| nebbiolo1 | Linux (Ubuntu 20.04.4 LTS) | x86_64 | R Under development (unstable) (2022-02-17 r81757) -- "Unsuffered Consequences" | 4334 |
| riesling1 | Windows Server 2019 Standard | x64 | R Under development (unstable) (2021-11-21 r81221) -- "Unsuffered Consequences" | 4097 |
| palomino3 | Windows Server 2022 Datacenter | x64 | R Under development (unstable) (2022-02-17 r81757 ucrt) -- "Unsuffered Consequences" | 4083 |
| merida1 | macOS 10.14.6 Mojave | x86_64 | R Under development (unstable) (2022-03-02 r81842) -- "Unsuffered Consequences" | 4134 |
| Click on any hostname to see more info about the system (e.g. compilers) (*) as reported by 'uname -p', except on Windows and Mac OS X | ||||
|
To the developers/maintainers of the benchdamic package: - Please allow up to 24 hours (and sometimes 48 hours) for your latest push to git@git.bioconductor.org:packages/benchdamic.git to reflect on this report. See How and When does the builder pull? When will my changes propagate? here for more information. - Make sure to use the following settings in order to reproduce any error or warning you see on this page. |
| Package 137/2090 | Hostname | OS / Arch | INSTALL | BUILD | CHECK | BUILD BIN | ||||||||
| benchdamic 1.1.0 (landing page) Matteo Calgaro
| nebbiolo1 | Linux (Ubuntu 20.04.4 LTS) / x86_64 | OK | OK | OK | |||||||||
| riesling1 | Windows Server 2019 Standard / x64 | OK | OK | OK | OK | |||||||||
| palomino3 | Windows Server 2022 Datacenter / x64 | OK | OK | OK | OK | |||||||||
| merida1 | macOS 10.14.6 Mojave / x86_64 | OK | OK | OK | OK | |||||||||
| Package: benchdamic |
| Version: 1.1.0 |
| Command: rm -rf benchdamic.buildbin-libdir && mkdir benchdamic.buildbin-libdir && D:\biocbuild\bbs-3.15-bioc\R\bin\R.exe CMD INSTALL --build --library=benchdamic.buildbin-libdir benchdamic_1.1.0.tar.gz |
| StartedAt: 2022-03-17 20:54:29 -0400 (Thu, 17 Mar 2022) |
| EndedAt: 2022-03-17 20:56:07 -0400 (Thu, 17 Mar 2022) |
| EllapsedTime: 98.0 seconds |
| RetCode: 0 |
| Status: OK |
| PackageFile: benchdamic_1.1.0.zip |
| PackageFileSize: 1.324 MiB |
##############################################################################
##############################################################################
###
### Running command:
###
### rm -rf benchdamic.buildbin-libdir && mkdir benchdamic.buildbin-libdir && D:\biocbuild\bbs-3.15-bioc\R\bin\R.exe CMD INSTALL --build --library=benchdamic.buildbin-libdir benchdamic_1.1.0.tar.gz
###
##############################################################################
##############################################################################
* installing *source* package 'benchdamic' ...
** using staged installation
** R
** data
*** moving datasets to lazyload DB
** inst
** byte-compile and prepare package for lazy loading
No methods found in package 'RSQLite' for request: 'dbListFields' when loading 'lumi'
** help
*** installing help indices
converting help for package 'benchdamic'
finding HTML links ... done
DA_ALDEx2 html
DA_DESeq2 html
DA_MAST html
DA_Seurat html
DA_corncob html
DA_edgeR html
DA_limma html
DA_metagenomeSeq html
RMSE html
addKnowledge html
areaCAT html
checkNormalization html
createColors html
createConcordance html
createEnrichment html
createMocks html
createPositives html
createSplits html
createTIEC html
enrichmentTest html
extractDA html
extractStatistics html
fitDM html
finding level-2 HTML links ... done
fitHURDLE html
fitModels html
fitNB html
fitZIG html
fitZINB html
getDA html
getPositives html
getStatistics html
iterative_ordering html
meanDifferences html
microbial_metabolism html
norm_CSS html
norm_DESeq2 html
norm_TSS html
norm_edgeR html
plotConcordance html
plotConcordanceDendrogram html
plotConcordanceHeatmap html
plotContingency html
plotEnrichment html
plotFPR html
plotKS html
plotMD html
plotMutualFindings html
plotPositives html
plotQQ html
plotRMSE html
prepareObserved html
ps_plaque_16S html
ps_stool_16S html
runDA html
runMocks html
runNormalizations html
runSplits html
setNormalizations html
set_ALDEx2 html
set_DESeq2 html
set_MAST html
set_Seurat html
set_corncob html
set_edgeR html
set_limma html
set_metagenomeSeq html
weights_ZINB html
** building package indices
** installing vignettes
** testing if installed package can be loaded from temporary location
No methods found in package 'RSQLite' for request: 'dbListFields' when loading 'lumi'
** testing if installed package can be loaded from final location
No methods found in package 'RSQLite' for request: 'dbListFields' when loading 'lumi'
** testing if installed package keeps a record of temporary installation path
* MD5 sums
packaged installation of 'benchdamic' as benchdamic_1.1.0.zip
* DONE (benchdamic)