| Back to Multiple platform build/check report for BioC 3.15 |
|
This page was generated on 2022-03-18 11:07:00 -0400 (Fri, 18 Mar 2022).
| Hostname | OS | Arch (*) | R version | Installed pkgs |
|---|---|---|---|---|
| nebbiolo1 | Linux (Ubuntu 20.04.4 LTS) | x86_64 | R Under development (unstable) (2022-02-17 r81757) -- "Unsuffered Consequences" | 4334 |
| riesling1 | Windows Server 2019 Standard | x64 | R Under development (unstable) (2021-11-21 r81221) -- "Unsuffered Consequences" | 4097 |
| palomino3 | Windows Server 2022 Datacenter | x64 | R Under development (unstable) (2022-02-17 r81757 ucrt) -- "Unsuffered Consequences" | 4083 |
| merida1 | macOS 10.14.6 Mojave | x86_64 | R Under development (unstable) (2022-03-02 r81842) -- "Unsuffered Consequences" | 4134 |
| Click on any hostname to see more info about the system (e.g. compilers) (*) as reported by 'uname -p', except on Windows and Mac OS X | ||||
|
To the developers/maintainers of the beadarraySNP package: - Please allow up to 24 hours (and sometimes 48 hours) for your latest push to git@git.bioconductor.org:packages/beadarraySNP.git to reflect on this report. See How and When does the builder pull? When will my changes propagate? here for more information. - Make sure to use the following settings in order to reproduce any error or warning you see on this page. |
| Package 131/2090 | Hostname | OS / Arch | INSTALL | BUILD | CHECK | BUILD BIN | ||||||||
| beadarraySNP 1.61.0 (landing page) Jan Oosting
| nebbiolo1 | Linux (Ubuntu 20.04.4 LTS) / x86_64 | OK | OK | OK | |||||||||
| riesling1 | Windows Server 2019 Standard / x64 | OK | OK | OK | OK | |||||||||
| palomino3 | Windows Server 2022 Datacenter / x64 | OK | OK | OK | OK | |||||||||
| merida1 | macOS 10.14.6 Mojave / x86_64 | OK | OK | OK | OK | |||||||||
| Package: beadarraySNP |
| Version: 1.61.0 |
| Command: D:\biocbuild\bbs-3.15-bioc\R\bin\R.exe CMD INSTALL beadarraySNP |
| StartedAt: 2022-03-17 15:30:04 -0400 (Thu, 17 Mar 2022) |
| EndedAt: 2022-03-17 15:30:57 -0400 (Thu, 17 Mar 2022) |
| EllapsedTime: 53.0 seconds |
| RetCode: 0 |
| Status: OK |
##############################################################################
##############################################################################
###
### Running command:
###
### D:\biocbuild\bbs-3.15-bioc\R\bin\R.exe CMD INSTALL beadarraySNP
###
##############################################################################
##############################################################################
* installing to library 'D:/biocbuild/bbs-3.15-bioc/R/library'
* installing *source* package 'beadarraySNP' ...
** using staged installation
** R
** data
** inst
** byte-compile and prepare package for lazy loading
** help
*** installing help indices
converting help for package 'beadarraySNP'
finding HTML links ... done
BeadstudioQC html
CopynumberConversion html
Datasets html
GenomicReports html
GetBeadStudioSampleNames html
PolarTransforms html
QCIllumina-class html
Sample_Map2Samplesheet html
SnpSetSegments-class html
finding level-2 HTML links ... done
alterCN html
arrayType html
backgroundCorrect.SNP html
backgroundEstimate html
calculateLOH html
calculateQCarray html
class.SnpSetIllumina html
compareGenotypes html
createCNSummary html
dist.GT html
getDNAindex html
heterozygosity html
heterozygousSNPs html
interactiveCNselect html
normalizeBetweenAlleles.SNP html
normalizeBetweenSubsamples.SNP html
normalizeLoci.SNP html
normalizeWithinArrays.SNP html
pdfChromosomesSmoothCopyNumber html
pdfQC html
plotGoldenGate4OPA html
plotQC html
read.SnpSetIllumina html
removeLowQualityProbes html
removeLowQualitySamples html
renameOPA html
reportGenotypeSegmentation html
reportSamplePanelQC-methods html
segmentate html
setRealCN html
smoothed.intensity html
standardNormalization html
** building package indices
** installing vignettes
** testing if installed package can be loaded from temporary location
** testing if installed package can be loaded from final location
** testing if installed package keeps a record of temporary installation path
* DONE (beadarraySNP)
Making 'packages.html' ... done