| Back to Multiple platform build/check report for BioC 3.15 |
|
This page was generated on 2022-03-18 11:06:59 -0400 (Fri, 18 Mar 2022).
| Hostname | OS | Arch (*) | R version | Installed pkgs |
|---|---|---|---|---|
| nebbiolo1 | Linux (Ubuntu 20.04.4 LTS) | x86_64 | R Under development (unstable) (2022-02-17 r81757) -- "Unsuffered Consequences" | 4334 |
| riesling1 | Windows Server 2019 Standard | x64 | R Under development (unstable) (2021-11-21 r81221) -- "Unsuffered Consequences" | 4097 |
| palomino3 | Windows Server 2022 Datacenter | x64 | R Under development (unstable) (2022-02-17 r81757 ucrt) -- "Unsuffered Consequences" | 4083 |
| merida1 | macOS 10.14.6 Mojave | x86_64 | R Under development (unstable) (2022-03-02 r81842) -- "Unsuffered Consequences" | 4134 |
| Click on any hostname to see more info about the system (e.g. compilers) (*) as reported by 'uname -p', except on Windows and Mac OS X | ||||
|
To the developers/maintainers of the basilisk.utils package: - Please allow up to 24 hours (and sometimes 48 hours) for your latest push to git@git.bioconductor.org:packages/basilisk.utils.git to reflect on this report. See How and When does the builder pull? When will my changes propagate? here for more information. - Make sure to use the following settings in order to reproduce any error or warning you see on this page. |
| Package 118/2090 | Hostname | OS / Arch | INSTALL | BUILD | CHECK | BUILD BIN | ||||||||
| basilisk.utils 1.7.0 (landing page) Aaron Lun
| nebbiolo1 | Linux (Ubuntu 20.04.4 LTS) / x86_64 | OK | OK | OK | |||||||||
| riesling1 | Windows Server 2019 Standard / x64 | OK | OK | OK | OK | |||||||||
| palomino3 | Windows Server 2022 Datacenter / x64 | OK | OK | OK | OK | |||||||||
| merida1 | macOS 10.14.6 Mojave / x86_64 | OK | OK | OK | OK | |||||||||
| Package: basilisk.utils |
| Version: 1.7.0 |
| Command: rm -rf basilisk.utils.buildbin-libdir && mkdir basilisk.utils.buildbin-libdir && D:\biocbuild\bbs-3.15-bioc\R\bin\R.exe CMD INSTALL --build --library=basilisk.utils.buildbin-libdir basilisk.utils_1.7.0.tar.gz |
| StartedAt: 2022-03-17 20:54:02 -0400 (Thu, 17 Mar 2022) |
| EndedAt: 2022-03-17 20:55:29 -0400 (Thu, 17 Mar 2022) |
| EllapsedTime: 87.3 seconds |
| RetCode: 0 |
| Status: OK |
| PackageFile: basilisk.utils_1.7.0.zip |
| PackageFileSize: 302.5 KiB |
##############################################################################
##############################################################################
###
### Running command:
###
### rm -rf basilisk.utils.buildbin-libdir && mkdir basilisk.utils.buildbin-libdir && D:\biocbuild\bbs-3.15-bioc\R\bin\R.exe CMD INSTALL --build --library=basilisk.utils.buildbin-libdir basilisk.utils_1.7.0.tar.gz
###
##############################################################################
##############################################################################
* installing *source* package 'basilisk.utils' ...
** using staged installation
** R
** inst
** byte-compile and prepare package for lazy loading
** help
*** installing help indices
converting help for package 'basilisk.utils'
finding HTML links ... done
activateEnvironment html
cleanConda html
clearExternalDir html
destroyOldVersions html
dir.create2 html
getBinaries html
getCondaDir html
getExternalDir html
getSystemDir html
installConda html
isWindows html
lockExternalDir html
finding level-2 HTML links ... done
setCondaPackageDir html
setVariable html
unlink2 html
useSystemDir html
** building package indices
** installing vignettes
** testing if installed package can be loaded from temporary location
** testing if installed package can be loaded from final location
** testing if installed package keeps a record of temporary installation path
* MD5 sums
packaged installation of 'basilisk.utils' as basilisk.utils_1.7.0.zip
* DONE (basilisk.utils)