| Back to Multiple platform build/check report for BioC 3.15 |
|
This page was generated on 2022-03-18 11:06:57 -0400 (Fri, 18 Mar 2022).
| Hostname | OS | Arch (*) | R version | Installed pkgs |
|---|---|---|---|---|
| nebbiolo1 | Linux (Ubuntu 20.04.4 LTS) | x86_64 | R Under development (unstable) (2022-02-17 r81757) -- "Unsuffered Consequences" | 4334 |
| riesling1 | Windows Server 2019 Standard | x64 | R Under development (unstable) (2021-11-21 r81221) -- "Unsuffered Consequences" | 4097 |
| palomino3 | Windows Server 2022 Datacenter | x64 | R Under development (unstable) (2022-02-17 r81757 ucrt) -- "Unsuffered Consequences" | 4083 |
| merida1 | macOS 10.14.6 Mojave | x86_64 | R Under development (unstable) (2022-03-02 r81842) -- "Unsuffered Consequences" | 4134 |
| Click on any hostname to see more info about the system (e.g. compilers) (*) as reported by 'uname -p', except on Windows and Mac OS X | ||||
|
To the developers/maintainers of the arrayMvout package: - Please allow up to 24 hours (and sometimes 48 hours) for your latest push to git@git.bioconductor.org:packages/arrayMvout.git to reflect on this report. See How and When does the builder pull? When will my changes propagate? here for more information. - Make sure to use the following settings in order to reproduce any error or warning you see on this page. |
| Package 77/2090 | Hostname | OS / Arch | INSTALL | BUILD | CHECK | BUILD BIN | ||||||||
| arrayMvout 1.53.0 (landing page) V. Carey
| nebbiolo1 | Linux (Ubuntu 20.04.4 LTS) / x86_64 | OK | OK | OK | |||||||||
| riesling1 | Windows Server 2019 Standard / x64 | OK | OK | OK | OK | |||||||||
| palomino3 | Windows Server 2022 Datacenter / x64 | OK | OK | OK | OK | |||||||||
| merida1 | macOS 10.14.6 Mojave / x86_64 | OK | OK | OK | OK | |||||||||
| Package: arrayMvout |
| Version: 1.53.0 |
| Command: D:\biocbuild\bbs-3.15-bioc\R\bin\R.exe CMD check --no-multiarch --install=check:arrayMvout.install-out.txt --library=D:\biocbuild\bbs-3.15-bioc\R\library --no-vignettes --timings arrayMvout_1.53.0.tar.gz |
| StartedAt: 2022-03-17 18:27:24 -0400 (Thu, 17 Mar 2022) |
| EndedAt: 2022-03-17 18:31:25 -0400 (Thu, 17 Mar 2022) |
| EllapsedTime: 241.7 seconds |
| RetCode: 0 |
| Status: OK |
| CheckDir: arrayMvout.Rcheck |
| Warnings: 0 |
##############################################################################
##############################################################################
###
### Running command:
###
### D:\biocbuild\bbs-3.15-bioc\R\bin\R.exe CMD check --no-multiarch --install=check:arrayMvout.install-out.txt --library=D:\biocbuild\bbs-3.15-bioc\R\library --no-vignettes --timings arrayMvout_1.53.0.tar.gz
###
##############################################################################
##############################################################################
* using log directory 'D:/biocbuild/bbs-3.15-bioc/meat/arrayMvout.Rcheck'
* using R Under development (unstable) (2021-11-21 r81221)
* using platform: x86_64-w64-mingw32 (64-bit)
* using session charset: ISO8859-1
* using option '--no-vignettes'
* checking for file 'arrayMvout/DESCRIPTION' ... OK
* this is package 'arrayMvout' version '1.53.0'
* checking package namespace information ... OK
* checking package dependencies ... OK
* checking if this is a source package ... OK
* checking if there is a namespace ... OK
* checking for hidden files and directories ... OK
* checking for portable file names ... OK
* checking whether package 'arrayMvout' can be installed ... OK
* checking installed package size ... OK
* checking package directory ... OK
* checking 'build' directory ... OK
* checking DESCRIPTION meta-information ... NOTE
Malformed Description field: should contain one or more complete sentences.
* checking top-level files ... OK
* checking for left-over files ... OK
* checking index information ... OK
* checking package subdirectories ... OK
* checking R files for non-ASCII characters ... OK
* checking R files for syntax errors ... OK
* checking whether the package can be loaded ... OK
* checking whether the package can be loaded with stated dependencies ... OK
* checking whether the package can be unloaded cleanly ... OK
* checking whether the namespace can be loaded with stated dependencies ... OK
* checking whether the namespace can be unloaded cleanly ... OK
* checking dependencies in R code ... OK
* checking S3 generic/method consistency ... OK
* checking replacement functions ... OK
* checking foreign function calls ... OK
* checking R code for possible problems ... NOTE
.affyArrayOutliers: no visible global function definition for 'qc'
.affyArrayOutliers: no visible global function definition for 'avbg'
.affyArrayOutliers: no visible global function definition for 'sfs'
.affyArrayOutliers: no visible global function definition for
'percent.present'
.affyArrayOutliers: no visible global function definition for 'ratios'
.affyArrayOutliers: no visible global function definition for 'fitPLM'
.affyArrayOutliers: no visible global function definition for 'prcomp'
.lumiArrayOutliers: no visible global function definition for 'prcomp'
ArrayOutliers,data.frame-numeric-ANY: no visible global function
definition for 'prcomp'
plot,arrOutStruct-ANY: no visible global function definition for
'biplot'
plot,arrOutStruct-ANY: no visible global function definition for
'prcomp'
Undefined global functions or variables:
avbg biplot fitPLM percent.present prcomp qc ratios sfs
Consider adding
importFrom("stats", "biplot", "prcomp")
to your NAMESPACE file.
* checking Rd files ... OK
* checking Rd metadata ... OK
* checking Rd cross-references ... OK
* checking for missing documentation entries ... OK
* checking for code/documentation mismatches ... OK
* checking Rd \usage sections ... OK
* checking Rd contents ... OK
* checking for unstated dependencies in examples ... OK
* checking contents of 'data' directory ... OK
* checking data for non-ASCII characters ... OK
* checking data for ASCII and uncompressed saves ... OK
* checking files in 'vignettes' ... OK
* checking examples ... OK
* checking for unstated dependencies in vignettes ... OK
* checking package vignettes in 'inst/doc' ... OK
* checking running R code from vignettes ... SKIPPED
* checking re-building of vignette outputs ... SKIPPED
* checking PDF version of manual ... OK
* DONE
Status: 2 NOTEs
See
'D:/biocbuild/bbs-3.15-bioc/meat/arrayMvout.Rcheck/00check.log'
for details.
arrayMvout.Rcheck/00install.out
##############################################################################
##############################################################################
###
### Running command:
###
### D:\biocbuild\bbs-3.15-bioc\R\bin\R.exe CMD INSTALL arrayMvout
###
##############################################################################
##############################################################################
* installing to library 'D:/biocbuild/bbs-3.15-bioc/R/library'
* installing *source* package 'arrayMvout' ...
** using staged installation
** R
** data
** inst
** byte-compile and prepare package for lazy loading
No methods found in package 'RSQLite' for request: 'dbListFields' when loading 'lumi'
** help
*** installing help indices
converting help for package 'arrayMvout'
finding HTML links ... done
ArrayOutliers-methods html
ArrayOutliers html
arrOutStruct-class html
** building package indices
** installing vignettes
** testing if installed package can be loaded from temporary location
No methods found in package 'RSQLite' for request: 'dbListFields' when loading 'lumi'
** testing if installed package can be loaded from final location
No methods found in package 'RSQLite' for request: 'dbListFields' when loading 'lumi'
** testing if installed package keeps a record of temporary installation path
* DONE (arrayMvout)
Making 'packages.html' ... done
arrayMvout.Rcheck/arrayMvout-Ex.timings
| name | user | system | elapsed | |
| ArrayOutliers-methods | 0.00 | 0.00 | 0.02 | |
| ArrayOutliers | 0 | 0 | 0 | |
| arrOutStruct-class | 0.07 | 0.00 | 0.06 | |