| Back to Multiple platform build/check report for BioC 3.15 |
|
This page was generated on 2022-10-19 13:21:05 -0400 (Wed, 19 Oct 2022).
| Hostname | OS | Arch (*) | R version | Installed pkgs |
|---|---|---|---|---|
| nebbiolo1 | Linux (Ubuntu 20.04.5 LTS) | x86_64 | 4.2.1 (2022-06-23) -- "Funny-Looking Kid" | 4386 |
| palomino3 | Windows Server 2022 Datacenter | x64 | 4.2.1 (2022-06-23 ucrt) -- "Funny-Looking Kid" | 4138 |
| merida1 | macOS 10.14.6 Mojave | x86_64 | 4.2.1 (2022-06-23) -- "Funny-Looking Kid" | 4205 |
| Click on any hostname to see more info about the system (e.g. compilers) (*) as reported by 'uname -p', except on Windows and Mac OS X | ||||
|
To the developers/maintainers of the annotate package: - Please allow up to 24 hours (and sometimes 48 hours) for your latest push to git@git.bioconductor.org:packages/annotate.git to reflect on this report. See How and When does the builder pull? When will my changes propagate? for more information. - Make sure to use the following settings in order to reproduce any error or warning you see on this page. |
| Package 56/2140 | Hostname | OS / Arch | INSTALL | BUILD | CHECK | BUILD BIN | ||||||||
| annotate 1.74.0 (landing page) Bioconductor Package Maintainer
| nebbiolo1 | Linux (Ubuntu 20.04.5 LTS) / x86_64 | OK | OK | OK | |||||||||
| palomino3 | Windows Server 2022 Datacenter / x64 | OK | OK | OK | OK | |||||||||
| merida1 | macOS 10.14.6 Mojave / x86_64 | OK | OK | OK | OK | |||||||||
| Package: annotate |
| Version: 1.74.0 |
| Command: F:\biocbuild\bbs-3.15-bioc\R\bin\R.exe CMD check --no-multiarch --install=check:annotate.install-out.txt --library=F:\biocbuild\bbs-3.15-bioc\R\library --no-vignettes --timings annotate_1.74.0.tar.gz |
| StartedAt: 2022-10-18 21:55:34 -0400 (Tue, 18 Oct 2022) |
| EndedAt: 2022-10-18 21:58:43 -0400 (Tue, 18 Oct 2022) |
| EllapsedTime: 189.8 seconds |
| RetCode: 0 |
| Status: OK |
| CheckDir: annotate.Rcheck |
| Warnings: 0 |
##############################################################################
##############################################################################
###
### Running command:
###
### F:\biocbuild\bbs-3.15-bioc\R\bin\R.exe CMD check --no-multiarch --install=check:annotate.install-out.txt --library=F:\biocbuild\bbs-3.15-bioc\R\library --no-vignettes --timings annotate_1.74.0.tar.gz
###
##############################################################################
##############################################################################
* using log directory 'F:/biocbuild/bbs-3.15-bioc/meat/annotate.Rcheck'
* using R version 4.2.1 (2022-06-23 ucrt)
* using platform: x86_64-w64-mingw32 (64-bit)
* using session charset: UTF-8
* using option '--no-vignettes'
* checking for file 'annotate/DESCRIPTION' ... OK
* this is package 'annotate' version '1.74.0'
* checking package namespace information ... OK
* checking package dependencies ... OK
* checking if this is a source package ... OK
* checking if there is a namespace ... OK
* checking for hidden files and directories ... OK
* checking for portable file names ... OK
* checking whether package 'annotate' can be installed ... OK
* checking installed package size ... OK
* checking package directory ... OK
* checking 'build' directory ... OK
* checking DESCRIPTION meta-information ... OK
* checking top-level files ... OK
* checking for left-over files ... OK
* checking index information ... OK
* checking package subdirectories ... OK
* checking R files for non-ASCII characters ... OK
* checking R files for syntax errors ... OK
* checking whether the package can be loaded ... OK
* checking whether the package can be loaded with stated dependencies ... OK
* checking whether the package can be unloaded cleanly ... OK
* checking whether the namespace can be loaded with stated dependencies ... OK
* checking whether the namespace can be unloaded cleanly ... OK
* checking dependencies in R code ... OK
* checking S3 generic/method consistency ... OK
* checking replacement functions ... OK
* checking foreign function calls ... OK
* checking R code for possible problems ... OK
* checking Rd files ... OK
* checking Rd metadata ... OK
* checking Rd cross-references ... OK
* checking for missing documentation entries ... OK
* checking for code/documentation mismatches ... OK
* checking Rd \usage sections ... OK
* checking Rd contents ... OK
* checking for unstated dependencies in examples ... OK
* checking contents of 'data' directory ... OK
* checking data for non-ASCII characters ... OK
* checking data for ASCII and uncompressed saves ... OK
* checking sizes of PDF files under 'inst/doc' ... OK
* checking files in 'vignettes' ... OK
* checking examples ... OK
Examples with CPU (user + system) or elapsed time > 5s
user system elapsed
chrCats 9.80 0.18 10.07
blastSequences 0.21 0.00 22.36
* checking for unstated dependencies in 'tests' ... OK
* checking tests ...
Running 'annotate_unit_tests.R'
OK
* checking for unstated dependencies in vignettes ... OK
* checking package vignettes in 'inst/doc' ... OK
* checking running R code from vignettes ... SKIPPED
* checking re-building of vignette outputs ... SKIPPED
* checking PDF version of manual ... OK
* DONE
Status: OK
annotate.Rcheck/00install.out
############################################################################## ############################################################################## ### ### Running command: ### ### F:\biocbuild\bbs-3.15-bioc\R\bin\R.exe CMD INSTALL annotate ### ############################################################################## ############################################################################## * installing to library 'F:/biocbuild/bbs-3.15-bioc/R/library' * installing *source* package 'annotate' ... ** using staged installation ** R ** data ** inst ** byte-compile and prepare package for lazy loading ** help *** installing help indices ** building package indices ** installing vignettes ** testing if installed package can be loaded from temporary location ** testing if installed package can be loaded from final location ** testing if installed package keeps a record of temporary installation path * DONE (annotate)
annotate.Rcheck/tests/annotate_unit_tests.Rout
R version 4.2.1 (2022-06-23 ucrt) -- "Funny-Looking Kid"
Copyright (C) 2022 The R Foundation for Statistical Computing
Platform: x86_64-w64-mingw32/x64 (64-bit)
R is free software and comes with ABSOLUTELY NO WARRANTY.
You are welcome to redistribute it under certain conditions.
Type 'license()' or 'licence()' for distribution details.
R is a collaborative project with many contributors.
Type 'contributors()' for more information and
'citation()' on how to cite R or R packages in publications.
Type 'demo()' for some demos, 'help()' for on-line help, or
'help.start()' for an HTML browser interface to help.
Type 'q()' to quit R.
> BiocGenerics:::testPackage("annotate")
Attaching package: 'BiocGenerics'
The following objects are masked from 'package:stats':
IQR, mad, sd, var, xtabs
The following objects are masked from 'package:base':
Filter, Find, Map, Position, Reduce, anyDuplicated, append,
as.data.frame, basename, cbind, colnames, dirname, do.call,
duplicated, eval, evalq, get, grep, grepl, intersect, is.unsorted,
lapply, mapply, match, mget, order, paste, pmax, pmax.int, pmin,
pmin.int, rank, rbind, rownames, sapply, setdiff, sort, table,
tapply, union, unique, unsplit, which.max, which.min
Welcome to Bioconductor
Vignettes contain introductory material; view with
'browseVignettes()'. To cite Bioconductor, see
'citation("Biobase")', and for packages 'citation("pkgname")'.
Attaching package: 'S4Vectors'
The following objects are masked from 'package:base':
I, expand.grid, unname
Attaching package: 'IRanges'
The following object is masked from 'package:grDevices':
windows
Loading required package: org.Hs.eg.db
'select()' returned 1:many mapping between keys and columns
RUNIT TEST PROTOCOL -- Tue Oct 18 21:58:31 2022
***********************************************
Number of test functions: 1
Number of errors: 0
Number of failures: 0
1 Test Suite :
annotate RUnit Tests - 1 test function, 0 errors, 0 failures
Number of test functions: 1
Number of errors: 0
Number of failures: 0
>
> proc.time()
user system elapsed
7.57 0.64 8.21
annotate.Rcheck/annotate-Ex.timings
| name | user | system | elapsed | |
| ACCNUMStats | 1.44 | 0.03 | 1.47 | |
| GO2heatmap | 0.15 | 0.01 | 0.18 | |
| GOmnplot | 0.06 | 0.02 | 0.08 | |
| HTMLPage-class | 0 | 0 | 0 | |
| LL2homology | 0 | 0 | 0 | |
| PMIDAmat | 0.19 | 0.00 | 0.20 | |
| PWAmat | 2.56 | 0.05 | 2.61 | |
| UniGeneQuery | 0 | 0 | 0 | |
| accessionToUID | 0.31 | 0.07 | 1.96 | |
| annPkgName | 0 | 0 | 0 | |
| aqListGOIDs | 0.12 | 0.03 | 0.16 | |
| blastSequences | 0.21 | 0.00 | 22.36 | |
| buildChromLocation | 0.87 | 0.05 | 1.42 | |
| buildPubMedAbst | 0.03 | 0.02 | 0.35 | |
| chrCats | 9.80 | 0.18 | 10.07 | |
| chromLocation-class | 0.55 | 0.05 | 0.60 | |
| compatibleVersions | 0.04 | 0.00 | 0.04 | |
| dropECode | 0.03 | 0.02 | 0.05 | |
| entrezGeneByID | 0 | 0 | 0 | |
| entrezGeneQuery | 0 | 0 | 0 | |
| filterGOByOntology | 0.05 | 0.00 | 0.05 | |
| findNeighbors | 0.00 | 0.03 | 0.09 | |
| genbank | 0.14 | 0.00 | 0.48 | |
| getAnnMap | 0.06 | 0.00 | 0.16 | |
| getEvidence | 0.06 | 0.00 | 0.07 | |
| getGOTerm | 0.19 | 0.03 | 0.27 | |
| getOntology | 0.06 | 0.00 | 0.07 | |
| getPMInfo | 0.46 | 0.02 | 0.78 | |
| getSYMBOL | 0.12 | 0.03 | 0.22 | |
| getSeq4Acc | 0.00 | 0.00 | 0.32 | |
| hasGOannote | 0.02 | 0.00 | 0.02 | |
| hgByChroms | 0.00 | 0.01 | 0.02 | |
| hgCLengths | 0 | 0 | 0 | |
| hgu95Achroloc | 0.05 | 0.02 | 0.06 | |
| hgu95Achrom | 0.05 | 0.01 | 0.07 | |
| hgu95All | 0.06 | 0.00 | 0.06 | |
| hgu95Asym | 0.06 | 0.00 | 0.06 | |
| homoData-class | 0 | 0 | 0 | |
| htmlpage | 0.00 | 0.02 | 0.02 | |
| isValidkey | 0 | 0 | 0 | |
| makeAnchor | 0 | 0 | 0 | |
| organism | 0.58 | 0.01 | 0.59 | |
| p2LL | 0 | 0 | 0 | |
| pm.abstGrep | 0.84 | 0.02 | 1.47 | |
| pm.getabst | 1.02 | 0.02 | 1.58 | |
| pm.titles | 1.23 | 0.01 | 1.77 | |
| pmAbst2HTML | 0.03 | 0.00 | 0.47 | |
| pmid2MIAME | 0 | 0 | 0 | |
| pmidQuery | 0.02 | 0.00 | 0.01 | |
| pubMedAbst-class | 0.03 | 0.00 | 0.38 | |
| pubmed | 0.00 | 0.00 | 0.26 | |
| readGEOAnn | 0 | 0 | 0 | |
| serializeEnv | 0.01 | 0.00 | 0.02 | |
| setRepository | 0 | 0 | 0 | |
| updateSymbolsToValidKeys | 0 | 0 | 0 | |
| usedChromGenes | 0.08 | 0.02 | 0.09 | |