| Back to Multiple platform build/check report for BioC 3.15 |
|
This page was generated on 2022-03-18 11:06:55 -0400 (Fri, 18 Mar 2022).
| Hostname | OS | Arch (*) | R version | Installed pkgs |
|---|---|---|---|---|
| nebbiolo1 | Linux (Ubuntu 20.04.4 LTS) | x86_64 | R Under development (unstable) (2022-02-17 r81757) -- "Unsuffered Consequences" | 4334 |
| riesling1 | Windows Server 2019 Standard | x64 | R Under development (unstable) (2021-11-21 r81221) -- "Unsuffered Consequences" | 4097 |
| palomino3 | Windows Server 2022 Datacenter | x64 | R Under development (unstable) (2022-02-17 r81757 ucrt) -- "Unsuffered Consequences" | 4083 |
| merida1 | macOS 10.14.6 Mojave | x86_64 | R Under development (unstable) (2022-03-02 r81842) -- "Unsuffered Consequences" | 4134 |
| Click on any hostname to see more info about the system (e.g. compilers) (*) as reported by 'uname -p', except on Windows and Mac OS X | ||||
|
To the developers/maintainers of the annaffy package: - Please allow up to 24 hours (and sometimes 48 hours) for your latest push to git@git.bioconductor.org:packages/annaffy.git to reflect on this report. See How and When does the builder pull? When will my changes propagate? here for more information. - Make sure to use the following settings in order to reproduce any error or warning you see on this page. |
| Package 54/2090 | Hostname | OS / Arch | INSTALL | BUILD | CHECK | BUILD BIN | ||||||||
| annaffy 1.67.0 (landing page) Colin A. Smith
| nebbiolo1 | Linux (Ubuntu 20.04.4 LTS) / x86_64 | OK | OK | WARNINGS | |||||||||
| riesling1 | Windows Server 2019 Standard / x64 | OK | OK | WARNINGS | OK | |||||||||
| palomino3 | Windows Server 2022 Datacenter / x64 | OK | OK | WARNINGS | OK | |||||||||
| merida1 | macOS 10.14.6 Mojave / x86_64 | OK | OK | WARNINGS | OK | |||||||||
| Package: annaffy |
| Version: 1.67.0 |
| Command: rm -rf annaffy.buildbin-libdir && mkdir annaffy.buildbin-libdir && D:\biocbuild\bbs-3.15-bioc\R\bin\R.exe CMD INSTALL --build --library=annaffy.buildbin-libdir annaffy_1.67.0.tar.gz |
| StartedAt: 2022-03-17 20:51:54 -0400 (Thu, 17 Mar 2022) |
| EndedAt: 2022-03-17 20:53:36 -0400 (Thu, 17 Mar 2022) |
| EllapsedTime: 101.2 seconds |
| RetCode: 0 |
| Status: OK |
| PackageFile: annaffy_1.67.0.zip |
| PackageFileSize: 701.7 KiB |
##############################################################################
##############################################################################
###
### Running command:
###
### rm -rf annaffy.buildbin-libdir && mkdir annaffy.buildbin-libdir && D:\biocbuild\bbs-3.15-bioc\R\bin\R.exe CMD INSTALL --build --library=annaffy.buildbin-libdir annaffy_1.67.0.tar.gz
###
##############################################################################
##############################################################################
* installing *source* package 'annaffy' ...
** using staged installation
** R
** data
** inst
** byte-compile and prepare package for lazy loading
** help
*** installing help indices
converting help for package 'annaffy'
finding HTML links ... done
aaf.character html
aaf.goterm html
aaf.handler html
aaf.integer html
aaf.raw html
aafChromLoc-class html
aafChromLoc html
aafChromosome-class html
aafChromosome html
aafCytoband-class html
aafCytoband html
aafDescription-class html
aafDescription html
aafExpr html
aafGO-class html
aafGO html
aafGOItem-class html
aafGenBank-class html
aafGenBank html
aafIntensity-class html
aafList-class html
aafLocusLink-class html
aafLocusLink html
aafPathway-class html
aafPathway html
aafPathwayItem-class html
aafProbe-class html
aafProbe html
aafPubMed-class html
aafPubMed html
aafSearchGO html
aafSearchText html
aafSigned-class html
aafSymbol-class html
aafSymbol html
aafTable-class html
aafTable html
aafTableAnn html
aafTableFrame html
aafTableInt html
chkPkgs html
getCSS-methods html
getHTML-methods html
getTD-methods html
getText-methods html
getURL-methods html
finding level-2 HTML links ... done
Rd warning: D:/biocbuild/bbs-3.15-bioc/tmpdir/RtmpoVXvUl/R.INSTALL2328c677e1cc2/annaffy/man/getURL-methods.Rd:25: missing link 'aafUniGene-class'
is.annpkg html
selectorWidget html
** building package indices
** installing vignettes
** testing if installed package can be loaded from temporary location
** testing if installed package can be loaded from final location
** testing if installed package keeps a record of temporary installation path
* MD5 sums
packaged installation of 'annaffy' as annaffy_1.67.0.zip
* DONE (annaffy)