Back to Multiple platform build/check report for BioC 3.15 |
|
This page was generated on 2022-10-19 13:22:32 -0400 (Wed, 19 Oct 2022).
Hostname | OS | Arch (*) | R version | Installed pkgs |
---|---|---|---|---|
nebbiolo1 | Linux (Ubuntu 20.04.5 LTS) | x86_64 | 4.2.1 (2022-06-23) -- "Funny-Looking Kid" | 4386 |
palomino3 | Windows Server 2022 Datacenter | x64 | 4.2.1 (2022-06-23 ucrt) -- "Funny-Looking Kid" | 4138 |
merida1 | macOS 10.14.6 Mojave | x86_64 | 4.2.1 (2022-06-23) -- "Funny-Looking Kid" | 4205 |
Click on any hostname to see more info about the system (e.g. compilers) (*) as reported by 'uname -p', except on Windows and Mac OS X |
To the developers/maintainers of the animalcules package: - Please allow up to 24 hours (and sometimes 48 hours) for your latest push to git@git.bioconductor.org:packages/animalcules.git to reflect on this report. See How and When does the builder pull? When will my changes propagate? for more information. - Make sure to use the following settings in order to reproduce any error or warning you see on this page. |
Package 53/2140 | Hostname | OS / Arch | INSTALL | BUILD | CHECK | BUILD BIN | ||||||||
animalcules 1.12.0 (landing page) Yue Zhao
| nebbiolo1 | Linux (Ubuntu 20.04.5 LTS) / x86_64 | OK | OK | WARNINGS | |||||||||
palomino3 | Windows Server 2022 Datacenter / x64 | OK | OK | WARNINGS | OK | |||||||||
merida1 | macOS 10.14.6 Mojave / x86_64 | OK | OK | WARNINGS | OK | |||||||||
Package: animalcules |
Version: 1.12.0 |
Command: rm -rf animalcules.buildbin-libdir && mkdir animalcules.buildbin-libdir && /Users/biocbuild/BBS/utils/build-universal.sh animalcules_1.12.0.tar.gz /Library/Frameworks/R.framework/Resources/bin/R animalcules.buildbin-libdir |
StartedAt: 2022-10-19 09:54:04 -0400 (Wed, 19 Oct 2022) |
EndedAt: 2022-10-19 09:55:22 -0400 (Wed, 19 Oct 2022) |
EllapsedTime: 78.4 seconds |
RetCode: 0 |
Status: OK |
PackageFile: animalcules_1.12.0.tgz |
PackageFileSize: 3.295 MiB |
############################################################################## ############################################################################## ### ### Running command: ### ### rm -rf animalcules.buildbin-libdir && mkdir animalcules.buildbin-libdir && /Users/biocbuild/BBS/utils/build-universal.sh animalcules_1.12.0.tar.gz /Library/Frameworks/R.framework/Resources/bin/R animalcules.buildbin-libdir ### ############################################################################## ############################################################################## >>>>>>> >>>>>>> INSTALLATION WITH 'R CMD INSTALL --preclean --no-multiarch --library=animalcules.buildbin-libdir animalcules_1.12.0.tar.gz' >>>>>>> * installing *source* package ‘animalcules’ ... ** using staged installation ** R ** inst ** byte-compile and prepare package for lazy loading Warning: replacing previous import ‘SummarizedExperiment::colnames’ by ‘biomformat::colnames’ when loading ‘animalcules’ Warning: replacing previous import ‘SummarizedExperiment::rownames’ by ‘biomformat::rownames’ when loading ‘animalcules’ ** help *** installing help indices ** building package indices ** installing vignettes ** testing if installed package can be loaded from temporary location Warning: replacing previous import ‘SummarizedExperiment::colnames’ by ‘biomformat::colnames’ when loading ‘animalcules’ Warning: replacing previous import ‘SummarizedExperiment::rownames’ by ‘biomformat::rownames’ when loading ‘animalcules’ ** testing if installed package can be loaded from final location Warning: replacing previous import ‘SummarizedExperiment::colnames’ by ‘biomformat::colnames’ when loading ‘animalcules’ Warning: replacing previous import ‘SummarizedExperiment::rownames’ by ‘biomformat::rownames’ when loading ‘animalcules’ ** testing if installed package keeps a record of temporary installation path * DONE (animalcules)