| Back to Multiple platform build/check report for BioC 3.15 | 
  | 
This page was generated on 2022-03-18 11:06:53 -0400 (Fri, 18 Mar 2022).
| Hostname | OS | Arch (*) | R version | Installed pkgs | 
|---|---|---|---|---|
| nebbiolo1 | Linux (Ubuntu 20.04.4 LTS) | x86_64 | R Under development (unstable) (2022-02-17 r81757) -- "Unsuffered Consequences" | 4334 | 
| riesling1 | Windows Server 2019 Standard | x64 | R Under development (unstable) (2021-11-21 r81221) -- "Unsuffered Consequences" | 4097 | 
| palomino3 | Windows Server 2022 Datacenter | x64 | R Under development (unstable) (2022-02-17 r81757 ucrt) -- "Unsuffered Consequences" | 4083 | 
| merida1 | macOS 10.14.6 Mojave | x86_64 | R Under development (unstable) (2022-03-02 r81842) -- "Unsuffered Consequences" | 4134 | 
| Click on any hostname to see more info about the system (e.g. compilers) (*) as reported by 'uname -p', except on Windows and Mac OS X | ||||
| 
To the developers/maintainers of the adductomicsR package: - Please allow up to 24 hours (and sometimes 48 hours) for your latest push to git@git.bioconductor.org:packages/adductomicsR.git to reflect on this report. See How and When does the builder pull? When will my changes propagate? here for more information. - Make sure to use the following settings in order to reproduce any error or warning you see on this page.  | 
| Package 18/2090 | Hostname | OS / Arch | INSTALL | BUILD | CHECK | BUILD BIN | ||||||||
| adductomicsR 1.11.0  (landing page) Josie Hayes 
  | nebbiolo1 | Linux (Ubuntu 20.04.4 LTS) / x86_64 | OK | OK | WARNINGS | |||||||||
| riesling1 | Windows Server 2019 Standard / x64 | OK | OK | WARNINGS | OK | |||||||||
| palomino3 | Windows Server 2022 Datacenter / x64 | OK | OK | WARNINGS | OK | |||||||||
| merida1 | macOS 10.14.6 Mojave / x86_64 | OK | OK | WARNINGS | OK | |||||||||
| Package: adductomicsR | 
| Version: 1.11.0 | 
| Command: rm -rf adductomicsR.buildbin-libdir && mkdir adductomicsR.buildbin-libdir && D:\biocbuild\bbs-3.15-bioc\R\bin\R.exe CMD INSTALL --build --library=adductomicsR.buildbin-libdir adductomicsR_1.11.0.tar.gz | 
| StartedAt: 2022-03-17 20:51:22 -0400 (Thu, 17 Mar 2022) | 
| EndedAt: 2022-03-17 20:53:57 -0400 (Thu, 17 Mar 2022) | 
| EllapsedTime: 154.8 seconds | 
| RetCode: 0 | 
| Status: OK | 
| PackageFile: adductomicsR_1.11.0.zip | 
| PackageFileSize: 1.273 MiB | 
##############################################################################
##############################################################################
###
### Running command:
###
###   rm -rf adductomicsR.buildbin-libdir && mkdir adductomicsR.buildbin-libdir && D:\biocbuild\bbs-3.15-bioc\R\bin\R.exe CMD INSTALL --build --library=adductomicsR.buildbin-libdir adductomicsR_1.11.0.tar.gz
###
##############################################################################
##############################################################################
* installing *source* package 'adductomicsR' ...
** using staged installation
** R
** inst
** byte-compile and prepare package for lazy loading
** help
*** installing help indices
  converting help for package 'adductomicsR'
    finding HTML links ... done
    IsotopicDistributionMod                 html  
    adductQuant                             html  
    adductQuantif-class                     html  
    adductSpec-class                        html  
    adductSpecGen                           html  
    digestMod                               html  
    finding level-2 HTML links ... done
    dotProdMatrix                           html  
    dotProdSpectra                          html  
    dynamicNoiseFilter                      html  
    filterAdductTable                       html  
    findPeaks                               html  
    generateTargTable                       html  
    loessWrapperMod                         html  
    ms2Group                                html  
    nAdjPeaks                               html  
    outputPeakTable                         html  
    peakIdQuant_newMethod                   html  
    peakIntegrate                           html  
    peakListId                              html  
    peakRangeSum                            html  
    probPeaks                               html  
    retentionCorr                           html  
    rtDevModelSave                          html  
    rtDevModelling                          html  
    signalGrouping                          html  
    specSimPepId                            html  
    spectraCreate                           html  
    truePeakTrough                          html  
** building package indices
** installing vignettes
** testing if installed package can be loaded from temporary location
** testing if installed package can be loaded from final location
** testing if installed package keeps a record of temporary installation path
* MD5 sums
packaged installation of 'adductomicsR' as adductomicsR_1.11.0.zip
* DONE (adductomicsR)