| Back to Multiple platform build/check report for BioC 3.15 | 
  | 
This page was generated on 2022-03-18 11:08:54 -0400 (Fri, 18 Mar 2022).
| Hostname | OS | Arch (*) | R version | Installed pkgs | 
|---|---|---|---|---|
| nebbiolo1 | Linux (Ubuntu 20.04.4 LTS) | x86_64 | R Under development (unstable) (2022-02-17 r81757) -- "Unsuffered Consequences" | 4334 | 
| riesling1 | Windows Server 2019 Standard | x64 | R Under development (unstable) (2021-11-21 r81221) -- "Unsuffered Consequences" | 4097 | 
| palomino3 | Windows Server 2022 Datacenter | x64 | R Under development (unstable) (2022-02-17 r81757 ucrt) -- "Unsuffered Consequences" | 4083 | 
| merida1 | macOS 10.14.6 Mojave | x86_64 | R Under development (unstable) (2022-03-02 r81842) -- "Unsuffered Consequences" | 4134 | 
| Click on any hostname to see more info about the system (e.g. compilers) (*) as reported by 'uname -p', except on Windows and Mac OS X | ||||
| 
To the developers/maintainers of the TreeSummarizedExperiment package: - Please allow up to 24 hours (and sometimes 48 hours) for your latest push to git@git.bioconductor.org:packages/TreeSummarizedExperiment.git to reflect on this report. See How and When does the builder pull? When will my changes propagate? here for more information. - Make sure to use the following settings in order to reproduce any error or warning you see on this page.  | 
| Package 2003/2090 | Hostname | OS / Arch | INSTALL | BUILD | CHECK | BUILD BIN | ||||||||
| TreeSummarizedExperiment 2.3.0  (landing page) Ruizhu Huang 
  | nebbiolo1 | Linux (Ubuntu 20.04.4 LTS) / x86_64 | OK | OK | OK | |||||||||
| riesling1 | Windows Server 2019 Standard / x64 | OK | OK | OK | OK | |||||||||
| palomino3 | Windows Server 2022 Datacenter / x64 | OK | OK | OK | OK | |||||||||
| merida1 | macOS 10.14.6 Mojave / x86_64 | OK | OK | OK | OK | |||||||||
| Package: TreeSummarizedExperiment | 
| Version: 2.3.0 | 
| Command: rm -rf TreeSummarizedExperiment.buildbin-libdir && mkdir TreeSummarizedExperiment.buildbin-libdir && D:\biocbuild\bbs-3.15-bioc\R\bin\R.exe CMD INSTALL --build --library=TreeSummarizedExperiment.buildbin-libdir TreeSummarizedExperiment_2.3.0.tar.gz | 
| StartedAt: 2022-03-17 21:45:52 -0400 (Thu, 17 Mar 2022) | 
| EndedAt: 2022-03-17 21:47:05 -0400 (Thu, 17 Mar 2022) | 
| EllapsedTime: 73.8 seconds | 
| RetCode: 0 | 
| Status: OK | 
| PackageFile: TreeSummarizedExperiment_2.3.0.zip | 
| PackageFileSize: 1.868 MiB | 
##############################################################################
##############################################################################
###
### Running command:
###
###   rm -rf TreeSummarizedExperiment.buildbin-libdir && mkdir TreeSummarizedExperiment.buildbin-libdir && D:\biocbuild\bbs-3.15-bioc\R\bin\R.exe CMD INSTALL --build --library=TreeSummarizedExperiment.buildbin-libdir TreeSummarizedExperiment_2.3.0.tar.gz
###
##############################################################################
##############################################################################
* installing *source* package 'TreeSummarizedExperiment' ...
** using staged installation
** R
** data
*** moving datasets to lazyload DB
** inst
** byte-compile and prepare package for lazy loading
** help
*** installing help indices
  converting help for package 'TreeSummarizedExperiment'
    finding HTML links ... done
    LinkDataFrame-class                     html  
    LinkDataFrame-constructor               html  
    TreeSummarizedExperiment-accessor       html  
    TreeSummarizedExperiment-class          html  
    TreeSummarizedExperiment-combine        html  
    TreeSummarizedExperiment-constructor    html  
    finding level-2 HTML links ... done
    TreeSummarizedExperiment-internal       html  
    TreeeSummarizedExperiment-package       html  
    addLabel                                html  
    aggTSE                                  html  
    aggValue                                html  
    asLeaf                                  html  
    asPhylo                                 html  
    changeTree                              html  
    convertNode                             html  
    countLeaf                               html  
    countNode                               html  
    detectLoop                              html  
    distNode                                html  
    dot-all_equal_in_list                   html  
    dot-all_have_DNAStringSet               html  
    dot-all_have_DNAStringSetList           html  
    dot-all_nonnull_in_list                 html  
    dot-all_null_in_list                    html  
    dot-any_null_in_list                    html  
    dot-auto_rename_list                    html  
    dot-bind_link_tree                      html  
    dot-is_equal_link                       html  
    dot-match_phylo                         html  
    dot-match_phylo_list                    html  
    dot-match_x_dupY                        html  
    dot-name_y_with_x                       html  
    dot-numeric_ij                          html  
    dot-rbind_refSeq                        html  
    dot-replace_link_tree_1d                html  
    dot-subset_leaf                         html  
    dot-update_whichTree                    html  
    findAncestor                            html  
    findChild                               html  
    findDescendant                          html  
    findSibling                             html  
    isLeaf                                  html  
    joinNode                                html  
    makeTSE                                 html  
    matTree                                 html  
    phylo                                   html  
    printNode                               html  
    resolveLoop                             html  
    shareNode                               html  
    showNode                                html  
    tinyTree                                html  
    toTree                                  html  
    trackNode                               html  
    unionLeaf                               html  
    updateObject-TreeSummarizedExperiment-method
                                            html  
** building package indices
** installing vignettes
** testing if installed package can be loaded from temporary location
** testing if installed package can be loaded from final location
** testing if installed package keeps a record of temporary installation path
* MD5 sums
packaged installation of 'TreeSummarizedExperiment' as TreeSummarizedExperiment_2.3.0.zip
* DONE (TreeSummarizedExperiment)