| Back to Multiple platform build/check report for BioC 3.15 |
|
This page was generated on 2022-03-18 11:08:51 -0400 (Fri, 18 Mar 2022).
| Hostname | OS | Arch (*) | R version | Installed pkgs |
|---|---|---|---|---|
| nebbiolo1 | Linux (Ubuntu 20.04.4 LTS) | x86_64 | R Under development (unstable) (2022-02-17 r81757) -- "Unsuffered Consequences" | 4334 |
| riesling1 | Windows Server 2019 Standard | x64 | R Under development (unstable) (2021-11-21 r81221) -- "Unsuffered Consequences" | 4097 |
| palomino3 | Windows Server 2022 Datacenter | x64 | R Under development (unstable) (2022-02-17 r81757 ucrt) -- "Unsuffered Consequences" | 4083 |
| merida1 | macOS 10.14.6 Mojave | x86_64 | R Under development (unstable) (2022-03-02 r81842) -- "Unsuffered Consequences" | 4134 |
| Click on any hostname to see more info about the system (e.g. compilers) (*) as reported by 'uname -p', except on Windows and Mac OS X | ||||
|
To the developers/maintainers of the TFutils package: - Please allow up to 24 hours (and sometimes 48 hours) for your latest push to git@git.bioconductor.org:packages/TFutils.git to reflect on this report. See How and When does the builder pull? When will my changes propagate? here for more information. - Make sure to use the following settings in order to reproduce any error or warning you see on this page. |
| Package 1955/2090 | Hostname | OS / Arch | INSTALL | BUILD | CHECK | BUILD BIN | ||||||||
| TFutils 1.15.1 (landing page) Vincent Carey
| nebbiolo1 | Linux (Ubuntu 20.04.4 LTS) / x86_64 | OK | OK | OK | |||||||||
| riesling1 | Windows Server 2019 Standard / x64 | OK | OK | OK | OK | |||||||||
| palomino3 | Windows Server 2022 Datacenter / x64 | OK | OK | OK | OK | |||||||||
| merida1 | macOS 10.14.6 Mojave / x86_64 | OK | OK | OK | OK | |||||||||
| Package: TFutils |
| Version: 1.15.1 |
| Command: rm -rf TFutils.buildbin-libdir && mkdir TFutils.buildbin-libdir && D:\biocbuild\bbs-3.15-bioc\R\bin\R.exe CMD INSTALL --build --library=TFutils.buildbin-libdir TFutils_1.15.1.tar.gz |
| StartedAt: 2022-03-17 21:44:37 -0400 (Thu, 17 Mar 2022) |
| EndedAt: 2022-03-17 21:45:55 -0400 (Thu, 17 Mar 2022) |
| EllapsedTime: 78.2 seconds |
| RetCode: 0 |
| Status: OK |
| PackageFile: TFutils_1.15.1.zip |
| PackageFileSize: 6.286 MiB |
##############################################################################
##############################################################################
###
### Running command:
###
### rm -rf TFutils.buildbin-libdir && mkdir TFutils.buildbin-libdir && D:\biocbuild\bbs-3.15-bioc\R\bin\R.exe CMD INSTALL --build --library=TFutils.buildbin-libdir TFutils_1.15.1.tar.gz
###
##############################################################################
##############################################################################
* installing *source* package 'TFutils' ...
** using staged installation
** R
** data
*** moving datasets to lazyload DB
** inst
** byte-compile and prepare package for lazy loading
** help
*** installing help indices
converting help for package 'TFutils'
finding HTML links ... done
HGNCmap html
TFCatalog-class html
TFCatalog html
TFtargs html
URL_s3_tf html
anchor_pmids html
browse_gotf_main html
browse_humantfs_main html
browse_lambert_gwaslinks html
browse_lambert_main html
cisbpTFcat html
cisbpTFcat_2.0 html
defaultCircosParms html
demo_fimo_granges html
directHitsInCISBP html
encode690 html
fimo16 html
fimoMap html
fimo_granges html
genemodForGviz html
genemodelDF html
get_rslocs_38 html
grabTab html
gwascat_hg19_chr17 html
hocomoco.mono html
hocomoco.mono.sep2018 html
importFIMO html
importFIMO_local_split html
lambert_snps html
metadata_tf html
named_tf html
retrieve_gotf_main html
retrieve_humantfs_main html
retrieve_lambert_main html
seqinfo_hg19_chr17 html
setupHIZE html
show-TFCatalog-method html
tffamCirc.plot html
tffamCirc.prep html
tfhash html
tftColl html
tftCollMap html
topTraitsOfTargets html
** building package indices
** installing vignettes
** testing if installed package can be loaded from temporary location
** testing if installed package can be loaded from final location
** testing if installed package keeps a record of temporary installation path
* MD5 sums
packaged installation of 'TFutils' as TFutils_1.15.1.zip
* DONE (TFutils)