| Back to Multiple platform build/check report for BioC 3.15 |
|
This page was generated on 2022-03-18 11:08:51 -0400 (Fri, 18 Mar 2022).
| Hostname | OS | Arch (*) | R version | Installed pkgs |
|---|---|---|---|---|
| nebbiolo1 | Linux (Ubuntu 20.04.4 LTS) | x86_64 | R Under development (unstable) (2022-02-17 r81757) -- "Unsuffered Consequences" | 4334 |
| riesling1 | Windows Server 2019 Standard | x64 | R Under development (unstable) (2021-11-21 r81221) -- "Unsuffered Consequences" | 4097 |
| palomino3 | Windows Server 2022 Datacenter | x64 | R Under development (unstable) (2022-02-17 r81757 ucrt) -- "Unsuffered Consequences" | 4083 |
| merida1 | macOS 10.14.6 Mojave | x86_64 | R Under development (unstable) (2022-03-02 r81842) -- "Unsuffered Consequences" | 4134 |
| Click on any hostname to see more info about the system (e.g. compilers) (*) as reported by 'uname -p', except on Windows and Mac OS X | ||||
|
To the developers/maintainers of the TFBSTools package: - Please allow up to 24 hours (and sometimes 48 hours) for your latest push to git@git.bioconductor.org:packages/TFBSTools.git to reflect on this report. See How and When does the builder pull? When will my changes propagate? here for more information. - Make sure to use the following settings in order to reproduce any error or warning you see on this page. |
| Package 1952/2090 | Hostname | OS / Arch | INSTALL | BUILD | CHECK | BUILD BIN | ||||||||
| TFBSTools 1.33.0 (landing page) Ge Tan
| nebbiolo1 | Linux (Ubuntu 20.04.4 LTS) / x86_64 | OK | OK | OK | |||||||||
| riesling1 | Windows Server 2019 Standard / x64 | OK | OK | OK | OK | |||||||||
| palomino3 | Windows Server 2022 Datacenter / x64 | OK | OK | OK | OK | |||||||||
| merida1 | macOS 10.14.6 Mojave / x86_64 | OK | OK | OK | OK | |||||||||
| Package: TFBSTools |
| Version: 1.33.0 |
| Command: D:\biocbuild\bbs-3.15-bioc\R\bin\R.exe CMD check --no-multiarch --install=check:TFBSTools.install-out.txt --library=D:\biocbuild\bbs-3.15-bioc\R\library --no-vignettes --timings TFBSTools_1.33.0.tar.gz |
| StartedAt: 2022-03-17 20:28:05 -0400 (Thu, 17 Mar 2022) |
| EndedAt: 2022-03-17 20:32:44 -0400 (Thu, 17 Mar 2022) |
| EllapsedTime: 279.0 seconds |
| RetCode: 0 |
| Status: OK |
| CheckDir: TFBSTools.Rcheck |
| Warnings: 0 |
##############################################################################
##############################################################################
###
### Running command:
###
### D:\biocbuild\bbs-3.15-bioc\R\bin\R.exe CMD check --no-multiarch --install=check:TFBSTools.install-out.txt --library=D:\biocbuild\bbs-3.15-bioc\R\library --no-vignettes --timings TFBSTools_1.33.0.tar.gz
###
##############################################################################
##############################################################################
* using log directory 'D:/biocbuild/bbs-3.15-bioc/meat/TFBSTools.Rcheck'
* using R Under development (unstable) (2021-11-21 r81221)
* using platform: x86_64-w64-mingw32 (64-bit)
* using session charset: ISO8859-1
* using option '--no-vignettes'
* checking for file 'TFBSTools/DESCRIPTION' ... OK
* checking extension type ... Package
* this is package 'TFBSTools' version '1.33.0'
* checking package namespace information ... OK
* checking package dependencies ... OK
* checking if this is a source package ... OK
* checking if there is a namespace ... OK
* checking for hidden files and directories ... OK
* checking for portable file names ... OK
* checking whether package 'TFBSTools' can be installed ... OK
* checking installed package size ... OK
* checking package directory ... OK
* checking 'build' directory ... OK
* checking DESCRIPTION meta-information ... OK
* checking top-level files ... OK
* checking for left-over files ... OK
* checking index information ... OK
* checking package subdirectories ... OK
* checking R files for non-ASCII characters ... OK
* checking R files for syntax errors ... OK
* checking whether the package can be loaded ... OK
* checking whether the package can be loaded with stated dependencies ... OK
* checking whether the package can be unloaded cleanly ... OK
* checking whether the namespace can be loaded with stated dependencies ... OK
* checking whether the namespace can be unloaded cleanly ... OK
* checking dependencies in R code ... NOTE
Unexported objects imported by ':::' calls:
'S4Vectors:::new_SimpleList_from_list' 'seqLogo:::pwm2ic'
See the note in ?`:::` about the use of this operator.
* checking S3 generic/method consistency ... OK
* checking replacement functions ... OK
* checking foreign function calls ... OK
* checking R code for possible problems ... OK
* checking Rd files ... OK
* checking Rd metadata ... OK
* checking Rd cross-references ... OK
* checking for missing documentation entries ... OK
* checking for code/documentation mismatches ... OK
* checking Rd \usage sections ... OK
* checking Rd contents ... OK
* checking for unstated dependencies in examples ... OK
* checking contents of 'data' directory ... OK
* checking data for non-ASCII characters ... OK
* checking LazyData ... OK
* checking data for ASCII and uncompressed saves ... OK
* checking line endings in C/C++/Fortran sources/headers ... OK
* checking line endings in Makefiles ... OK
* checking compilation flags in Makevars ... OK
* checking for GNU extensions in Makefiles ... OK
* checking for portable use of $(BLAS_LIBS) and $(LAPACK_LIBS) ... OK
* checking use of PKG_*FLAGS in Makefiles ... OK
* checking compiled code ... NOTE
Note: information on .o files for x64 is not available
File 'D:/biocbuild/bbs-3.15-bioc/R/library/TFBSTools/libs/x64/TFBSTools.dll':
Found 'abort', possibly from 'abort' (C), 'runtime' (Fortran)
Compiled code should not call entry points which might terminate R nor
write to stdout/stderr instead of to the console, nor use Fortran I/O
nor system RNGs. The detected symbols are linked into the code but
might come from libraries and not actually be called.
See 'Writing portable packages' in the 'Writing R Extensions' manual.
* checking files in 'vignettes' ... OK
* checking examples ... OK
Examples with CPU (user + system) or elapsed time > 5s
user system elapsed
SiteSetList-class 36.29 0.92 37.22
searchAln-methods 6.17 0.03 6.20
* checking for unstated dependencies in 'tests' ... OK
* checking tests ...
Running 'testthat.R'
OK
* checking for unstated dependencies in vignettes ... OK
* checking package vignettes in 'inst/doc' ... OK
* checking running R code from vignettes ... SKIPPED
* checking re-building of vignette outputs ... SKIPPED
* checking PDF version of manual ... OK
* DONE
Status: 2 NOTEs
See
'D:/biocbuild/bbs-3.15-bioc/meat/TFBSTools.Rcheck/00check.log'
for details.
TFBSTools.Rcheck/00install.out
##############################################################################
##############################################################################
###
### Running command:
###
### D:\biocbuild\bbs-3.15-bioc\R\bin\R.exe CMD INSTALL TFBSTools
###
##############################################################################
##############################################################################
* installing to library 'D:/biocbuild/bbs-3.15-bioc/R/library'
* installing *source* package 'TFBSTools' ...
** using staged installation
** libs
"C:/rtools40/mingw64/bin/"gcc -I"D:/biocbuild/bbs-3.15-bioc/R/include" -DNDEBUG -I"C:/extsoft/include" -O2 -Wall -std=gnu99 -mfpmath=sse -msse2 -mstackrealign -fno-reorder-blocks-and-partition -c matrixAlignerDynamic.c -o matrixAlignerDynamic.o
matrixAlignerDynamic.c: In function 'score':
matrixAlignerDynamic.c:235:22: warning: 'best_pntr' may be used uninitialized in this function [-Wmaybe-uninitialized]
while (current_pntr->father != NULL){ // while the father of the current pointer exists, walk through the best posible alignment
~~~~~~~~~~~~^~~~~~~~
"C:/rtools40/mingw64/bin/"gcc -I"D:/biocbuild/bbs-3.15-bioc/R/include" -DNDEBUG -I"C:/extsoft/include" -O2 -Wall -std=gnu99 -mfpmath=sse -msse2 -mstackrealign -fno-reorder-blocks-and-partition -c R_init_TFBSTools.c -o R_init_TFBSTools.o
C:/rtools40/mingw64/bin/gcc -shared -s -static-libgcc -o TFBSTools.dll tmp.def matrixAlignerDynamic.o R_init_TFBSTools.o -LC:/extsoft/lib/x64 -LC:/extsoft/lib -LD:/biocbuild/bbs-3.15-bioc/R/bin/x64 -lR
installing to D:/biocbuild/bbs-3.15-bioc/R/library/00LOCK-TFBSTools/00new/TFBSTools/libs/x64
** R
** data
*** moving datasets to lazyload DB
** inst
** byte-compile and prepare package for lazy loading
Creating a new generic function for 'seqLogo' in package 'TFBSTools'
** help
*** installing help indices
converting help for package 'TFBSTools'
finding HTML links ... done
IUPAC2Matrix html
MA0004.1 html
MotifSet-class html
PFMSimilarity-methods html
PWMSimilarity-methods html
SitePairSet-class html
SitePairSetList-class html
SiteSet-class html
SiteSetList-class html
TFBSTools-package html
TFFM-class html
XMatrix-class html
XMatrixList-class html
calConservation-methods html
deleteMatrixHavingID-methods html
dmmEM-methods html
getEmissionProb html
getMatrixByID-methods html
getMatrixSet-methods html
getPosProb html
makeFlatFileDir html
parseMEMEOutput html
permuteMatrix-methods html
rPWMDmm-methods html
readJASPARMatrix html
readXMLTFFM html
runMEME-methods html
sampleRanges html
searchAln-methods html
searchPairBSgenome-methods html
searchSeq-methods html
seqLogo html
shannon.entropy html
toGRangesList-methods html
toICM-methods html
finding level-2 HTML links ... done
toPWM-methods html
writeGFF3-methods html
** building package indices
** installing vignettes
** testing if installed package can be loaded from temporary location
** testing if installed package can be loaded from final location
** testing if installed package keeps a record of temporary installation path
* DONE (TFBSTools)
Making 'packages.html' ... done
TFBSTools.Rcheck/tests/testthat.Rout
R Under development (unstable) (2021-11-21 r81221) -- "Unsuffered Consequences"
Copyright (C) 2021 The R Foundation for Statistical Computing
Platform: x86_64-w64-mingw32/x64 (64-bit)
R is free software and comes with ABSOLUTELY NO WARRANTY.
You are welcome to redistribute it under certain conditions.
Type 'license()' or 'licence()' for distribution details.
R is a collaborative project with many contributors.
Type 'contributors()' for more information and
'citation()' on how to cite R or R packages in publications.
Type 'demo()' for some demos, 'help()' for on-line help, or
'help.start()' for an HTML browser interface to help.
Type 'q()' to quit R.
> library(testthat)
> library(TFBSTools)
>
> test_check("TFBSTools")
[ FAIL 0 | WARN 0 | SKIP 0 | PASS 34 ]
>
> proc.time()
user system elapsed
9.15 0.73 9.87
TFBSTools.Rcheck/TFBSTools-Ex.timings
| name | user | system | elapsed | |
| IUPAC2Matrix | 0 | 0 | 0 | |
| MA0004.1 | 0.00 | 0.00 | 0.01 | |
| MotifSet-class | 0 | 0 | 0 | |
| PFMSimilarity-methods | 0.88 | 0.04 | 0.91 | |
| PWMSimilarity-methods | 0.02 | 0.00 | 0.02 | |
| SiteSet-class | 4.53 | 0.23 | 4.76 | |
| SiteSetList-class | 36.29 | 0.92 | 37.22 | |
| TFFM-class | 0.02 | 0.00 | 0.02 | |
| XMatrix-class | 0.01 | 0.00 | 0.01 | |
| XMatrixList-class | 0.00 | 0.02 | 0.02 | |
| deleteMatrixHavingID-methods | 0.07 | 0.01 | 0.11 | |
| dmmEM-methods | 0 | 0 | 0 | |
| getEmissionProb | 0.14 | 0.00 | 0.14 | |
| getMatrixByID-methods | 0.14 | 0.02 | 0.15 | |
| getMatrixSet-methods | 0 | 0 | 0 | |
| getPosProb | 0.10 | 0.01 | 0.11 | |
| makeFlatFileDir | 0 | 0 | 0 | |
| parseMEMEOutput | 0.11 | 0.00 | 0.11 | |
| permuteMatrix-methods | 0.04 | 0.00 | 0.04 | |
| rPWMDmm-methods | 0 | 0 | 0 | |
| readJASPARMatrix | 0.02 | 0.00 | 0.02 | |
| readXMLTFFM | 0.02 | 0.00 | 0.02 | |
| runMEME-methods | 0 | 0 | 0 | |
| sampleRanges | 0.15 | 0.02 | 0.17 | |
| searchAln-methods | 6.17 | 0.03 | 6.20 | |
| searchPairBSgenome-methods | 0 | 0 | 0 | |
| searchSeq-methods | 0.66 | 0.05 | 0.70 | |
| seqLogo | 1.31 | 0.11 | 1.42 | |
| shannon.entropy | 0 | 0 | 0 | |
| toGRangesList-methods | 4.54 | 0.01 | 4.56 | |
| toICM-methods | 0.02 | 0.00 | 0.02 | |
| toPWM-methods | 0.02 | 0.00 | 0.02 | |