| Back to Multiple platform build/check report for BioC 3.15 |
|
This page was generated on 2022-10-14 13:22:08 -0400 (Fri, 14 Oct 2022).
| Hostname | OS | Arch (*) | R version | Installed pkgs |
|---|---|---|---|---|
| nebbiolo1 | Linux (Ubuntu 20.04.5 LTS) | x86_64 | 4.2.1 (2022-06-23) -- "Funny-Looking Kid" | 4383 |
| palomino3 | Windows Server 2022 Datacenter | x64 | 4.2.1 (2022-06-23 ucrt) -- "Funny-Looking Kid" | 4137 |
| merida1 | macOS 10.14.6 Mojave | x86_64 | 4.2.1 (2022-06-23) -- "Funny-Looking Kid" | 4202 |
| Click on any hostname to see more info about the system (e.g. compilers) (*) as reported by 'uname -p', except on Windows and Mac OS X | ||||
|
To the developers/maintainers of the TCGAutils package: - Please allow up to 24 hours (and sometimes 48 hours) for your latest push to git@git.bioconductor.org:packages/TCGAutils.git to reflect on this report. See How and When does the builder pull? When will my changes propagate? for more information. - Make sure to use the following settings in order to reproduce any error or warning you see on this page. |
| Package 1989/2140 | Hostname | OS / Arch | INSTALL | BUILD | CHECK | BUILD BIN | ||||||||
| TCGAutils 1.16.1 (landing page) Marcel Ramos
| nebbiolo1 | Linux (Ubuntu 20.04.5 LTS) / x86_64 | OK | OK | OK | |||||||||
| palomino3 | Windows Server 2022 Datacenter / x64 | OK | OK | OK | OK | |||||||||
| merida1 | macOS 10.14.6 Mojave / x86_64 | OK | OK | OK | OK | |||||||||
| Package: TCGAutils |
| Version: 1.16.1 |
| Command: F:\biocbuild\bbs-3.15-bioc\R\bin\R.exe CMD check --no-multiarch --install=check:TCGAutils.install-out.txt --library=F:\biocbuild\bbs-3.15-bioc\R\library --no-vignettes --timings TCGAutils_1.16.1.tar.gz |
| StartedAt: 2022-10-14 04:33:35 -0400 (Fri, 14 Oct 2022) |
| EndedAt: 2022-10-14 04:41:17 -0400 (Fri, 14 Oct 2022) |
| EllapsedTime: 461.9 seconds |
| RetCode: 0 |
| Status: OK |
| CheckDir: TCGAutils.Rcheck |
| Warnings: 0 |
##############################################################################
##############################################################################
###
### Running command:
###
### F:\biocbuild\bbs-3.15-bioc\R\bin\R.exe CMD check --no-multiarch --install=check:TCGAutils.install-out.txt --library=F:\biocbuild\bbs-3.15-bioc\R\library --no-vignettes --timings TCGAutils_1.16.1.tar.gz
###
##############################################################################
##############################################################################
* using log directory 'F:/biocbuild/bbs-3.15-bioc/meat/TCGAutils.Rcheck'
* using R version 4.2.1 (2022-06-23 ucrt)
* using platform: x86_64-w64-mingw32 (64-bit)
* using session charset: UTF-8
* using option '--no-vignettes'
* checking for file 'TCGAutils/DESCRIPTION' ... OK
* this is package 'TCGAutils' version '1.16.1'
* package encoding: UTF-8
* checking package namespace information ... OK
* checking package dependencies ... OK
* checking if this is a source package ... OK
* checking if there is a namespace ... OK
* checking for hidden files and directories ... OK
* checking for portable file names ... OK
* checking whether package 'TCGAutils' can be installed ... OK
* checking installed package size ... OK
* checking package directory ... OK
* checking 'build' directory ... OK
* checking DESCRIPTION meta-information ... OK
* checking top-level files ... OK
* checking for left-over files ... OK
* checking index information ... OK
* checking package subdirectories ... OK
* checking R files for non-ASCII characters ... OK
* checking R files for syntax errors ... OK
* checking whether the package can be loaded ... OK
* checking whether the package can be loaded with stated dependencies ... OK
* checking whether the package can be unloaded cleanly ... OK
* checking whether the namespace can be loaded with stated dependencies ... OK
* checking whether the namespace can be unloaded cleanly ... OK
* checking dependencies in R code ... NOTE
Unexported objects imported by ':::' calls:
'BiocGenerics:::replaceSlots' 'GenomicRanges:::.normarg_field'
'S4Vectors:::selectSome'
See the note in ?`:::` about the use of this operator.
* checking S3 generic/method consistency ... OK
* checking replacement functions ... OK
* checking foreign function calls ... OK
* checking R code for possible problems ... OK
* checking Rd files ... OK
* checking Rd metadata ... OK
* checking Rd cross-references ... OK
* checking for missing documentation entries ... OK
* checking for code/documentation mismatches ... OK
* checking Rd \usage sections ... OK
* checking Rd contents ... OK
* checking for unstated dependencies in examples ... OK
* checking contents of 'data' directory ... OK
* checking data for non-ASCII characters ... OK
* checking data for ASCII and uncompressed saves ... OK
* checking files in 'vignettes' ... OK
* checking examples ... OK
Examples with CPU (user + system) or elapsed time > 5s
user system elapsed
simplifyTCGA 38.84 2.35 44.52
TCGAprimaryTumors 21.44 3.25 49.38
imputeAssay 16.47 1.51 18.40
trimColData 14.91 1.48 16.73
oncoPrintTCGA 13.84 1.64 16.72
curatedTCGAData-helpers 12.74 1.27 14.35
makeSummarizedExperimentFromGISTIC 6.61 0.31 11.88
* checking for unstated dependencies in 'tests' ... OK
* checking tests ...
Running 'testthat.R'
OK
* checking for unstated dependencies in vignettes ... OK
* checking package vignettes in 'inst/doc' ... OK
* checking running R code from vignettes ... SKIPPED
* checking re-building of vignette outputs ... SKIPPED
* checking PDF version of manual ... OK
* DONE
Status: 1 NOTE
See
'F:/biocbuild/bbs-3.15-bioc/meat/TCGAutils.Rcheck/00check.log'
for details.
TCGAutils.Rcheck/00install.out
############################################################################## ############################################################################## ### ### Running command: ### ### F:\biocbuild\bbs-3.15-bioc\R\bin\R.exe CMD INSTALL TCGAutils ### ############################################################################## ############################################################################## * installing to library 'F:/biocbuild/bbs-3.15-bioc/R/library' * installing *source* package 'TCGAutils' ... ** using staged installation ** R ** data ** inst ** byte-compile and prepare package for lazy loading ** help *** installing help indices ** building package indices ** installing vignettes ** testing if installed package can be loaded from temporary location ** testing if installed package can be loaded from final location ** testing if installed package keeps a record of temporary installation path * DONE (TCGAutils)
TCGAutils.Rcheck/tests/testthat.Rout
R version 4.2.1 (2022-06-23 ucrt) -- "Funny-Looking Kid"
Copyright (C) 2022 The R Foundation for Statistical Computing
Platform: x86_64-w64-mingw32/x64 (64-bit)
R is free software and comes with ABSOLUTELY NO WARRANTY.
You are welcome to redistribute it under certain conditions.
Type 'license()' or 'licence()' for distribution details.
R is a collaborative project with many contributors.
Type 'contributors()' for more information and
'citation()' on how to cite R or R packages in publications.
Type 'demo()' for some demos, 'help()' for on-line help, or
'help.start()' for an HTML browser interface to help.
Type 'q()' to quit R.
> library(testthat)
>
> library(TCGAutils)
>
> test_check("TCGAutils")
[ FAIL 0 | WARN 0 | SKIP 0 | PASS 49 ]
>
> proc.time()
user system elapsed
15.48 0.76 18.81
TCGAutils.Rcheck/TCGAutils-Ex.timings
| name | user | system | elapsed | |
| ID-translation | 1.44 | 0.14 | 3.62 | |
| TCGAbarcode | 0 | 0 | 0 | |
| TCGAbiospec | 0.03 | 0.00 | 0.03 | |
| TCGAprimaryTumors | 21.44 | 3.25 | 49.38 | |
| TCGAsampleSelect | 0.00 | 0.00 | 0.02 | |
| builds | 0.17 | 0.00 | 0.17 | |
| curatedTCGAData-helpers | 12.74 | 1.27 | 14.35 | |
| findGRangesCols | 0 | 0 | 0 | |
| generateMap | 0.04 | 0.00 | 0.04 | |
| getFileName | 0.07 | 0.00 | 0.60 | |
| imputeAssay | 16.47 | 1.51 | 18.40 | |
| makeGRangesListFromCopyNumber | 0.68 | 0.03 | 1.50 | |
| makeGRangesListFromExonFiles | 0.24 | 0.07 | 0.25 | |
| makeSummarizedExperimentFromGISTIC | 6.61 | 0.31 | 11.88 | |
| mergeColData | 0.32 | 0.01 | 0.34 | |
| oncoPrintTCGA | 13.84 | 1.64 | 16.72 | |
| simplifyTCGA | 38.84 | 2.35 | 44.52 | |
| trimColData | 14.91 | 1.48 | 16.73 | |