| Back to Multiple platform build/check report for BioC 3.15 |
|
This page was generated on 2022-10-19 13:20:55 -0400 (Wed, 19 Oct 2022).
| Hostname | OS | Arch (*) | R version | Installed pkgs |
|---|---|---|---|---|
| nebbiolo1 | Linux (Ubuntu 20.04.5 LTS) | x86_64 | 4.2.1 (2022-06-23) -- "Funny-Looking Kid" | 4386 |
| palomino3 | Windows Server 2022 Datacenter | x64 | 4.2.1 (2022-06-23 ucrt) -- "Funny-Looking Kid" | 4138 |
| merida1 | macOS 10.14.6 Mojave | x86_64 | 4.2.1 (2022-06-23) -- "Funny-Looking Kid" | 4205 |
| Click on any hostname to see more info about the system (e.g. compilers) (*) as reported by 'uname -p', except on Windows and Mac OS X | ||||
|
To the developers/maintainers of the SpatialDecon package: - Please allow up to 24 hours (and sometimes 48 hours) for your latest push to git@git.bioconductor.org:packages/SpatialDecon.git to reflect on this report. See How and When does the builder pull? When will my changes propagate? for more information. - Make sure to use the following settings in order to reproduce any error or warning you see on this page. |
| Package 1894/2140 | Hostname | OS / Arch | INSTALL | BUILD | CHECK | BUILD BIN | ||||||||
| SpatialDecon 1.6.0 (landing page) Maddy Griswold
| nebbiolo1 | Linux (Ubuntu 20.04.5 LTS) / x86_64 | OK | OK | OK | |||||||||
| palomino3 | Windows Server 2022 Datacenter / x64 | OK | OK | OK | OK | |||||||||
| merida1 | macOS 10.14.6 Mojave / x86_64 | OK | OK | OK | OK | |||||||||
| Package: SpatialDecon |
| Version: 1.6.0 |
| Command: /home/biocbuild/bbs-3.15-bioc/R/bin/R CMD check --install=check:SpatialDecon.install-out.txt --library=/home/biocbuild/bbs-3.15-bioc/R/library --no-vignettes --timings SpatialDecon_1.6.0.tar.gz |
| StartedAt: 2022-10-18 21:56:52 -0400 (Tue, 18 Oct 2022) |
| EndedAt: 2022-10-18 22:09:24 -0400 (Tue, 18 Oct 2022) |
| EllapsedTime: 752.7 seconds |
| RetCode: 0 |
| Status: OK |
| CheckDir: SpatialDecon.Rcheck |
| Warnings: 0 |
##############################################################################
##############################################################################
###
### Running command:
###
### /home/biocbuild/bbs-3.15-bioc/R/bin/R CMD check --install=check:SpatialDecon.install-out.txt --library=/home/biocbuild/bbs-3.15-bioc/R/library --no-vignettes --timings SpatialDecon_1.6.0.tar.gz
###
##############################################################################
##############################################################################
* using log directory ‘/home/biocbuild/bbs-3.15-bioc/meat/SpatialDecon.Rcheck’
* using R version 4.2.1 (2022-06-23)
* using platform: x86_64-pc-linux-gnu (64-bit)
* using session charset: UTF-8
* using option ‘--no-vignettes’
* checking for file ‘SpatialDecon/DESCRIPTION’ ... OK
* this is package ‘SpatialDecon’ version ‘1.6.0’
* package encoding: UTF-8
* checking package namespace information ... OK
* checking package dependencies ... OK
* checking if this is a source package ... OK
* checking if there is a namespace ... OK
* checking for hidden files and directories ... OK
* checking for portable file names ... OK
* checking for sufficient/correct file permissions ... OK
* checking whether package ‘SpatialDecon’ can be installed ... OK
* checking installed package size ... OK
* checking package directory ... OK
* checking ‘build’ directory ... OK
* checking DESCRIPTION meta-information ... OK
* checking top-level files ... OK
* checking for left-over files ... OK
* checking index information ... OK
* checking package subdirectories ... OK
* checking R files for non-ASCII characters ... OK
* checking R files for syntax errors ... OK
* checking whether the package can be loaded ... OK
* checking whether the package can be loaded with stated dependencies ... OK
* checking whether the package can be unloaded cleanly ... OK
* checking whether the namespace can be loaded with stated dependencies ... OK
* checking whether the namespace can be unloaded cleanly ... OK
* checking dependencies in R code ... OK
* checking S3 generic/method consistency ... OK
* checking replacement functions ... OK
* checking foreign function calls ... OK
* checking R code for possible problems ... NOTE
download_profile_matrix: no visible binding for global variable
‘profile_matrix’
Undefined global functions or variables:
profile_matrix
* checking Rd files ... OK
* checking Rd metadata ... OK
* checking Rd cross-references ... OK
* checking for missing documentation entries ... OK
* checking for code/documentation mismatches ... OK
* checking Rd \usage sections ... OK
* checking Rd contents ... OK
* checking for unstated dependencies in examples ... OK
* checking contents of ‘data’ directory ... OK
* checking data for non-ASCII characters ... OK
* checking LazyData ... OK
* checking data for ASCII and uncompressed saves ... OK
* checking files in ‘vignettes’ ... OK
* checking examples ... OK
Examples with CPU (user + system) or elapsed time > 5s
user system elapsed
runReverseDecon 73.241 0.264 73.508
runCollapseCellTypes-NanoStringGeoMxSet-method 71.829 0.572 72.408
runCollapseCellTypes 71.762 0.256 72.019
runReverseDecon-NanoStringGeoMxSet-method 71.536 0.216 71.754
runspatialdecon 42.747 1.000 44.303
runspatialdecon-Seurat-method 28.851 1.064 30.577
runspatialdecon-NanoStringGeoMxSet-method 20.390 0.068 20.461
runErrorModel 14.868 0.084 14.952
runMergeTumorIntoX 14.590 0.028 14.618
runMergeTumorIntoX-NanoStringGeoMxSet-method 14.561 0.036 14.597
reverseDecon 6.186 0.104 6.290
* checking for unstated dependencies in ‘tests’ ... OK
* checking tests ...
Running ‘testthat.R’
OK
* checking for unstated dependencies in vignettes ... OK
* checking package vignettes in ‘inst/doc’ ... OK
* checking running R code from vignettes ... SKIPPED
* checking re-building of vignette outputs ... SKIPPED
* checking PDF version of manual ... OK
* DONE
Status: 1 NOTE
See
‘/home/biocbuild/bbs-3.15-bioc/meat/SpatialDecon.Rcheck/00check.log’
for details.
SpatialDecon.Rcheck/00install.out
############################################################################## ############################################################################## ### ### Running command: ### ### /home/biocbuild/bbs-3.15-bioc/R/bin/R CMD INSTALL SpatialDecon ### ############################################################################## ############################################################################## * installing to library ‘/home/biocbuild/bbs-3.15-bioc/R/library’ * installing *source* package ‘SpatialDecon’ ... ** using staged installation ** R ** data *** moving datasets to lazyload DB ** byte-compile and prepare package for lazy loading ** help *** installing help indices ** building package indices ** installing vignettes ** testing if installed package can be loaded from temporary location ** testing if installed package can be loaded from final location ** testing if installed package keeps a record of temporary installation path * DONE (SpatialDecon)
SpatialDecon.Rcheck/tests/testthat.Rout
R version 4.2.1 (2022-06-23) -- "Funny-Looking Kid"
Copyright (C) 2022 The R Foundation for Statistical Computing
Platform: x86_64-pc-linux-gnu (64-bit)
R is free software and comes with ABSOLUTELY NO WARRANTY.
You are welcome to redistribute it under certain conditions.
Type 'license()' or 'licence()' for distribution details.
R is a collaborative project with many contributors.
Type 'contributors()' for more information and
'citation()' on how to cite R or R packages in publications.
Type 'demo()' for some demos, 'help()' for on-line help, or
'help.start()' for an HTML browser interface to help.
Type 'q()' to quit R.
> library(testthat)
> library(SpatialDecon)
>
> test_check("SpatialDecon")
[1] "Creating Atlas"
[1] "1 / 4 : B"
[1] "2 / 4 : C"
[1] "3 / 4 : A"
[1] "4 / 4 : D"
[ FAIL 0 | WARN 0 | SKIP 0 | PASS 85 ]
>
> proc.time()
user system elapsed
151.409 1.593 154.034
SpatialDecon.Rcheck/SpatialDecon-Ex.timings
| name | user | system | elapsed | |
| SpatialDecon-package | 4.520 | 0.147 | 4.668 | |
| TIL_barplot | 1.819 | 0.101 | 1.919 | |
| collapseCellTypes | 1.170 | 0.015 | 1.186 | |
| create_profile_matrix | 0.209 | 0.031 | 0.241 | |
| derive_GeoMx_background | 0.003 | 0.000 | 0.003 | |
| download_profile_matrix | 0.329 | 0.908 | 2.138 | |
| florets | 1.900 | 0.051 | 1.952 | |
| mergeTumorIntoX | 0.011 | 0.001 | 0.010 | |
| reverseDecon | 6.186 | 0.104 | 6.290 | |
| runCollapseCellTypes-NanoStringGeoMxSet-method | 71.829 | 0.572 | 72.408 | |
| runCollapseCellTypes | 71.762 | 0.256 | 72.019 | |
| runErrorModel | 14.868 | 0.084 | 14.952 | |
| runMergeTumorIntoX-NanoStringGeoMxSet-method | 14.561 | 0.036 | 14.597 | |
| runMergeTumorIntoX | 14.590 | 0.028 | 14.618 | |
| runReverseDecon-NanoStringGeoMxSet-method | 71.536 | 0.216 | 71.754 | |
| runReverseDecon | 73.241 | 0.264 | 73.508 | |
| runspatialdecon-NanoStringGeoMxSet-method | 20.390 | 0.068 | 20.461 | |
| runspatialdecon-Seurat-method | 28.851 | 1.064 | 30.577 | |
| runspatialdecon | 42.747 | 1.000 | 44.303 | |
| spatialdecon | 3.381 | 0.004 | 3.385 | |