| Back to Multiple platform build/check report for BioC 3.15 |
|
This page was generated on 2022-10-19 13:23:46 -0400 (Wed, 19 Oct 2022).
| Hostname | OS | Arch (*) | R version | Installed pkgs |
|---|---|---|---|---|
| nebbiolo1 | Linux (Ubuntu 20.04.5 LTS) | x86_64 | 4.2.1 (2022-06-23) -- "Funny-Looking Kid" | 4386 |
| palomino3 | Windows Server 2022 Datacenter | x64 | 4.2.1 (2022-06-23 ucrt) -- "Funny-Looking Kid" | 4138 |
| merida1 | macOS 10.14.6 Mojave | x86_64 | 4.2.1 (2022-06-23) -- "Funny-Looking Kid" | 4205 |
| Click on any hostname to see more info about the system (e.g. compilers) (*) as reported by 'uname -p', except on Windows and Mac OS X | ||||
|
To the developers/maintainers of the Spaniel package: - Please allow up to 24 hours (and sometimes 48 hours) for your latest push to git@git.bioconductor.org:packages/Spaniel.git to reflect on this report. See How and When does the builder pull? When will my changes propagate? for more information. - Make sure to use the following settings in order to reproduce any error or warning you see on this page. |
| Package 1886/2140 | Hostname | OS / Arch | INSTALL | BUILD | CHECK | BUILD BIN | ||||||||
| Spaniel 1.10.0 (landing page) Rachel Queen
| nebbiolo1 | Linux (Ubuntu 20.04.5 LTS) / x86_64 | OK | OK | OK | |||||||||
| palomino3 | Windows Server 2022 Datacenter / x64 | OK | OK | OK | OK | |||||||||
| merida1 | macOS 10.14.6 Mojave / x86_64 | OK | OK | OK | OK | |||||||||
| Package: Spaniel |
| Version: 1.10.0 |
| Command: rm -rf Spaniel.buildbin-libdir && mkdir Spaniel.buildbin-libdir && /Users/biocbuild/BBS/utils/build-universal.sh Spaniel_1.10.0.tar.gz /Library/Frameworks/R.framework/Resources/bin/R Spaniel.buildbin-libdir |
| StartedAt: 2022-10-19 11:14:20 -0400 (Wed, 19 Oct 2022) |
| EndedAt: 2022-10-19 11:15:37 -0400 (Wed, 19 Oct 2022) |
| EllapsedTime: 76.7 seconds |
| RetCode: 0 |
| Status: OK |
| PackageFile: Spaniel_1.10.0.tgz |
| PackageFileSize: 3.933 MiB |
############################################################################## ############################################################################## ### ### Running command: ### ### rm -rf Spaniel.buildbin-libdir && mkdir Spaniel.buildbin-libdir && /Users/biocbuild/BBS/utils/build-universal.sh Spaniel_1.10.0.tar.gz /Library/Frameworks/R.framework/Resources/bin/R Spaniel.buildbin-libdir ### ############################################################################## ############################################################################## >>>>>>> >>>>>>> INSTALLATION WITH 'R CMD INSTALL --preclean --no-multiarch --library=Spaniel.buildbin-libdir Spaniel_1.10.0.tar.gz' >>>>>>> * installing *source* package ‘Spaniel’ ... ** using staged installation ** R ** inst ** byte-compile and prepare package for lazy loading ** help *** installing help indices ** building package indices ** installing vignettes ** testing if installed package can be loaded from temporary location ** testing if installed package can be loaded from final location ** testing if installed package keeps a record of temporary installation path * DONE (Spaniel)